BEGIN:VCALENDAR
VERSION:2.0
PRODID:-//Vaishnav Sangh of USA - ECPv6.15.18//NONSGML v1.0//EN
CALSCALE:GREGORIAN
METHOD:PUBLISH
X-ORIGINAL-URL:https://vaishnavsanghusa.org
X-WR-CALDESC:Events for Vaishnav Sangh of USA
REFRESH-INTERVAL;VALUE=DURATION:PT1H
X-Robots-Tag:noindex
X-PUBLISHED-TTL:PT1H
BEGIN:VTIMEZONE
TZID:America/New_York
BEGIN:DAYLIGHT
TZOFFSETFROM:-0500
TZOFFSETTO:-0400
TZNAME:EDT
DTSTART:20210314T070000
END:DAYLIGHT
BEGIN:STANDARD
TZOFFSETFROM:-0400
TZOFFSETTO:-0500
TZNAME:EST
DTSTART:20211107T060000
END:STANDARD
BEGIN:DAYLIGHT
TZOFFSETFROM:-0500
TZOFFSETTO:-0400
TZNAME:EDT
DTSTART:20220313T070000
END:DAYLIGHT
BEGIN:STANDARD
TZOFFSETFROM:-0400
TZOFFSETTO:-0500
TZNAME:EST
DTSTART:20221106T060000
END:STANDARD
BEGIN:DAYLIGHT
TZOFFSETFROM:-0500
TZOFFSETTO:-0400
TZNAME:EDT
DTSTART:20230312T070000
END:DAYLIGHT
BEGIN:STANDARD
TZOFFSETFROM:-0400
TZOFFSETTO:-0500
TZNAME:EST
DTSTART:20231105T060000
END:STANDARD
END:VTIMEZONE
BEGIN:VEVENT
DTSTART;TZID=America/New_York:20220611T160000
DTEND;TZID=America/New_York:20220611T190000
DTSTAMP:20260419T154757
CREATED:20220518T013529Z
LAST-MODIFIED:20220518T013529Z
UID:3870-1654963200-1654974000@vaishnavsanghusa.org
SUMMARY:Vachnamrut of Jeje Shree
DESCRIPTION:Topic: Vachnamrut of Jeje Shree \nTime: Saturday\, June 11th\, 2022 from 4:00 PM to 7:00 PM EST \nVenue: Hindu Society of Central Florida\n1994 Lake Drive\nCassellbery\,\nFL 32707
URL:https://vaishnavsanghusa.org/event/vachnamrut-of-jeje-shree/
LOCATION:Hindu Society of Central Florida\, 1994 Lake Drive\, Casselberry\, FL\, 32707\, United States
CATEGORIES:Satsang
ATTACH;FMTTYPE=image/jpeg:https://vaishnavsanghusa.org/wp-content/uploads/2022/05/Nirman-Mahotsav.jpeg
END:VEVENT
END:VCALENDAR