BEGIN:VCALENDAR
VERSION:2.0
PRODID:-//Vaishnav Sangh of USA - ECPv6.15.18//NONSGML v1.0//EN
CALSCALE:GREGORIAN
METHOD:PUBLISH
X-WR-CALNAME:Vaishnav Sangh of USA
X-ORIGINAL-URL:https://vaishnavsanghusa.org
X-WR-CALDESC:Events for Vaishnav Sangh of USA
REFRESH-INTERVAL;VALUE=DURATION:PT1H
X-Robots-Tag:noindex
X-PUBLISHED-TTL:PT1H
BEGIN:VTIMEZONE
TZID:America/New_York
BEGIN:DAYLIGHT
TZOFFSETFROM:-0500
TZOFFSETTO:-0400
TZNAME:EDT
DTSTART:20220313T070000
END:DAYLIGHT
BEGIN:STANDARD
TZOFFSETFROM:-0400
TZOFFSETTO:-0500
TZNAME:EST
DTSTART:20221106T060000
END:STANDARD
BEGIN:DAYLIGHT
TZOFFSETFROM:-0500
TZOFFSETTO:-0400
TZNAME:EDT
DTSTART:20230312T070000
END:DAYLIGHT
BEGIN:STANDARD
TZOFFSETFROM:-0400
TZOFFSETTO:-0500
TZNAME:EST
DTSTART:20231105T060000
END:STANDARD
BEGIN:DAYLIGHT
TZOFFSETFROM:-0500
TZOFFSETTO:-0400
TZNAME:EDT
DTSTART:20240310T070000
END:DAYLIGHT
BEGIN:STANDARD
TZOFFSETFROM:-0400
TZOFFSETTO:-0500
TZNAME:EST
DTSTART:20241103T060000
END:STANDARD
END:VTIMEZONE
BEGIN:VEVENT
DTSTART;TZID=America/New_York:20230102T210000
DTEND;TZID=America/New_York:20230102T223000
DTSTAMP:20260423T041500
CREATED:20221231T200510Z
LAST-MODIFIED:20221231T200510Z
UID:4165-1672693200-1672698600@vaishnavsanghusa.org
SUMMARY:Putrada Ekadashi
DESCRIPTION:Topic: Putrada Ekadashi \nTime: Monday\, January 2nd\, 2023 at 9:00 PM EST (USA & Canada) \nJoin Zoom Meeting https://zoom.us/j/86161034535 Meeting ID: 861 6103 4535 Passcode: 11
URL:https://vaishnavsanghusa.org/event/putrada-ekadashi-3/
CATEGORIES:Satsang
ATTACH;FMTTYPE=image/jpeg:https://vaishnavsanghusa.org/wp-content/uploads/2022/12/Putrada-Ekadashi-Jan-2023.jpeg
END:VEVENT
BEGIN:VEVENT
DTSTART;TZID=America/New_York:20230108T160000
DTEND;TZID=America/New_York:20230108T190000
DTSTAMP:20260423T041500
CREATED:20221231T201800Z
LAST-MODIFIED:20221231T201800Z
UID:4173-1673193600-1673204400@vaishnavsanghusa.org
SUMMARY:Shri Gusaiji Pragtya Utsav
DESCRIPTION:Topic: Shri Gusaiji Pragtya Utsav \nTime: Sunday\, January 8th\, 2023 from 4:00 PM to 6:00 PM EST (USA & Canada) \nFollowed by Mahaprasad \nVenue: Sai Durga Temple\n11414 S. Apopka Vineland Road\, Orlando\, FL 32836
URL:https://vaishnavsanghusa.org/event/shri-gusaiji-pragtya-utsav-jan-2023/
LOCATION:Sai Durga Temple\, 11414 S. Apopka Vineland\, Orlando\, FL\, 32836\, United States
CATEGORIES:Satsang
ATTACH;FMTTYPE=image/jpeg:https://vaishnavsanghusa.org/wp-content/uploads/2022/12/Shri-Gusaiji-Pragtya-Utsav-1.jpeg
END:VEVENT
BEGIN:VEVENT
DTSTART;TZID=America/New_York:20230115T113000
DTEND;TZID=America/New_York:20230115T153000
DTSTAMP:20260423T041500
CREATED:20221231T202017Z
LAST-MODIFIED:20221231T202017Z
UID:4175-1673782200-1673796600@vaishnavsanghusa.org
SUMMARY:Uttarayan Utsav
DESCRIPTION:Topic: Uttarayan Utsav \nTime: Sunday\, January 15th\, 2022 from 11:30 AM to 2:30 PM EST (USA & Canada) \nFollowed by Mahaprasad \nVenue: VFW\n649 Churchmans Road\, Newark\, DE 19702
URL:https://vaishnavsanghusa.org/event/uttarayan-utsav/
LOCATION:VFW Delaware\, 649 Churchmans Road\, Newark\, DE\, 19702\, United States
CATEGORIES:Satsang
ATTACH;FMTTYPE=image/jpeg:https://vaishnavsanghusa.org/wp-content/uploads/2022/12/Uttarayan-Utsav.jpeg
END:VEVENT
BEGIN:VEVENT
DTSTART;TZID=America/New_York:20230118T210000
DTEND;TZID=America/New_York:20230118T223000
DTSTAMP:20260423T041500
CREATED:20221231T200955Z
LAST-MODIFIED:20221231T200955Z
UID:4171-1674075600-1674081000@vaishnavsanghusa.org
SUMMARY:Shattila Ekasashi
DESCRIPTION:Topic: Shattila Ekasashi \nTime: Wednesday\, January 18th\, 2023 at 9:00 PM EST (USA & Canada) \nJoin Zoom Meeting https://zoom.us/j/86161034535 Meeting ID: 861 6103 4535 Passcode: 11
URL:https://vaishnavsanghusa.org/event/shattila-ekasashi/
CATEGORIES:Satsang
ATTACH;FMTTYPE=image/jpeg:https://vaishnavsanghusa.org/wp-content/uploads/2022/12/Shattila-Ekasashi.jpeg
END:VEVENT
END:VCALENDAR