BEGIN:VCALENDAR
VERSION:2.0
PRODID:-//Vaishnav Sangh of USA - ECPv6.15.18//NONSGML v1.0//EN
CALSCALE:GREGORIAN
METHOD:PUBLISH
X-ORIGINAL-URL:https://vaishnavsanghusa.org
X-WR-CALDESC:Events for Vaishnav Sangh of USA
REFRESH-INTERVAL;VALUE=DURATION:PT1H
X-Robots-Tag:noindex
X-PUBLISHED-TTL:PT1H
BEGIN:VTIMEZONE
TZID:America/New_York
BEGIN:DAYLIGHT
TZOFFSETFROM:-0500
TZOFFSETTO:-0400
TZNAME:EDT
DTSTART:20220313T070000
END:DAYLIGHT
BEGIN:STANDARD
TZOFFSETFROM:-0400
TZOFFSETTO:-0500
TZNAME:EST
DTSTART:20221106T060000
END:STANDARD
BEGIN:DAYLIGHT
TZOFFSETFROM:-0500
TZOFFSETTO:-0400
TZNAME:EDT
DTSTART:20230312T070000
END:DAYLIGHT
BEGIN:STANDARD
TZOFFSETFROM:-0400
TZOFFSETTO:-0500
TZNAME:EST
DTSTART:20231105T060000
END:STANDARD
BEGIN:DAYLIGHT
TZOFFSETFROM:-0500
TZOFFSETTO:-0400
TZNAME:EDT
DTSTART:20240310T070000
END:DAYLIGHT
BEGIN:STANDARD
TZOFFSETFROM:-0400
TZOFFSETTO:-0500
TZNAME:EST
DTSTART:20241103T060000
END:STANDARD
END:VTIMEZONE
BEGIN:VEVENT
DTSTART;TZID=America/New_York:20230303T210000
DTEND;TZID=America/New_York:20230303T223000
DTSTAMP:20260423T010022
CREATED:20230228T132507Z
LAST-MODIFIED:20230228T132507Z
UID:4353-1677877200-1677882600@vaishnavsanghusa.org
SUMMARY:Aamalki Ekadashi
DESCRIPTION:Topic: Aamalki Ekadashi \nTime: Friday\, March 3rd\, 2023 at 9:00 PM EST (USA & Canada) \nJoin Zoom Meeting https://zoom.us/j/86161034535 Meeting ID: 861 6103 4535 Passcode: 11
URL:https://vaishnavsanghusa.org/event/aamalki-ekadashi/
CATEGORIES:Satsang
ATTACH;FMTTYPE=image/jpeg:https://vaishnavsanghusa.org/wp-content/uploads/2023/02/Aamalki-Ekadashi.jpeg
END:VEVENT
BEGIN:VEVENT
DTSTART;TZID=America/New_York:20230304T163000
DTEND;TZID=America/New_York:20230304T190000
DTSTAMP:20260423T010022
CREATED:20230228T133806Z
LAST-MODIFIED:20230228T133821Z
UID:4364-1677947400-1677956400@vaishnavsanghusa.org
SUMMARY:Satsang Holi Utsav
DESCRIPTION:Topic: Satsang Holi Utsav \nTime: Saturday\, March 4th\, 2023 4:30 PM to 6:00 PM EST (USA & Canada) \nFollowed by Mahaprasad \nVenue: 39 Mountainview Court\nTotowa\, New Jersey 07512
URL:https://vaishnavsanghusa.org/event/satsang-holi-utsav/
LOCATION:Mountainview\, 39 Mountainview Court\, Totowa\, NJ\, 07512\, United States
CATEGORIES:Satsang
ATTACH;FMTTYPE=image/jpeg:https://vaishnavsanghusa.org/wp-content/uploads/2023/02/Satsang-Holi-Utsav.jpeg
END:VEVENT
BEGIN:VEVENT
DTSTART;TZID=America/New_York:20230305T113000
DTEND;TZID=America/New_York:20230305T123000
DTSTAMP:20260423T010022
CREATED:20230211T031702Z
LAST-MODIFIED:20230211T031702Z
UID:4322-1678015800-1678019400@vaishnavsanghusa.org
SUMMARY:Holi Mahotsav
DESCRIPTION:Topic: Holi Mahotsav \nTime: Sunday\, March 5th\, 2023 at 11:30 AM EST (USA & Canada) \nJoin Zoom Meeting https://zoom.us/j/86161034535 Meeting ID: 860 813 83836 Passcode: 05
URL:https://vaishnavsanghusa.org/event/holi-mahotsav/
CATEGORIES:Satsang
ATTACH;FMTTYPE=image/jpeg:https://vaishnavsanghusa.org/wp-content/uploads/2023/02/Holi-Mahotsav.jpeg
END:VEVENT
BEGIN:VEVENT
DTSTART;TZID=America/New_York:20230312T160000
DTEND;TZID=America/New_York:20230312T190000
DTSTAMP:20260423T010022
CREATED:20230228T133002Z
LAST-MODIFIED:20230228T133002Z
UID:4362-1678636800-1678647600@vaishnavsanghusa.org
SUMMARY:Yamunaji & Fulfaag Utsav
DESCRIPTION:Topic: Yamunaji & Fulfaag Utsav \nTime: Sunday\, March 12th\, 2023 4:00 PM to 6:00 PM EST (USA & Canada) \nFollowed by Mahaprasad \nVenue: Sai Durga Temple\n11414 S Apopka Vineland Road\, Orlando FL 32836
URL:https://vaishnavsanghusa.org/event/yamunaji-fulfaag-utsav/
LOCATION:Sai Durga Temple\, 11414 S. Apopka Vineland\, Orlando\, FL\, 32836\, United States
CATEGORIES:Satsang
ATTACH;FMTTYPE=image/jpeg:https://vaishnavsanghusa.org/wp-content/uploads/2023/02/Yamunaji-Fulfaag-Utsav.jpeg
END:VEVENT
BEGIN:VEVENT
DTSTART;TZID=America/New_York:20230318T210000
DTEND;TZID=America/New_York:20230318T223000
DTSTAMP:20260423T010022
CREATED:20230228T134407Z
LAST-MODIFIED:20230228T134407Z
UID:4369-1679173200-1679178600@vaishnavsanghusa.org
SUMMARY:Paapmochani Ekadashi
DESCRIPTION:Topic: Paapmochani Ekadashi \nTime: Saturday\, March 18th\, 2023 at 9:00 PM EST (USA & Canada) \nJoin Zoom Meeting https://zoom.us/j/86161034535 Meeting ID: 861 6103 4535 Passcode: 11
URL:https://vaishnavsanghusa.org/event/paapmochani-ekadashi/
CATEGORIES:Satsang
ATTACH;FMTTYPE=image/jpeg:https://vaishnavsanghusa.org/wp-content/uploads/2023/02/Paapmochani-Ekadashi.jpeg
END:VEVENT
BEGIN:VEVENT
DTSTART;TZID=America/New_York:20230326T160000
DTEND;TZID=America/New_York:20230326T180000
DTSTAMP:20260423T010022
CREATED:20230228T134141Z
LAST-MODIFIED:20230228T134141Z
UID:4367-1679846400-1679853600@vaishnavsanghusa.org
SUMMARY:Yamunaji Utsav
DESCRIPTION:Topic: Yamunaji Utsav \nTime: Sunday\, March 26th\, 2023 4:00 PM EST (USA & Canada) \nVenue: Cale Community Center(Greenbrier)\n4615 Stringfellow Road\, Chantilly\, VA 20151
URL:https://vaishnavsanghusa.org/event/yamunaji-utsav/
LOCATION:Cale Community Center (Greenbrier)\, 4615 Stringfellow Road\, Chantilly\, VA\, 20151\, United States
CATEGORIES:Satsang
ATTACH;FMTTYPE=image/jpeg:https://vaishnavsanghusa.org/wp-content/uploads/2023/02/Yamunaji-Utsav.jpeg
END:VEVENT
END:VCALENDAR