BEGIN:VCALENDAR
VERSION:2.0
PRODID:-//Vaishnav Sangh of USA - ECPv6.15.18//NONSGML v1.0//EN
CALSCALE:GREGORIAN
METHOD:PUBLISH
X-ORIGINAL-URL:https://vaishnavsanghusa.org
X-WR-CALDESC:Events for Vaishnav Sangh of USA
REFRESH-INTERVAL;VALUE=DURATION:PT1H
X-Robots-Tag:noindex
X-PUBLISHED-TTL:PT1H
BEGIN:VTIMEZONE
TZID:America/New_York
BEGIN:DAYLIGHT
TZOFFSETFROM:-0500
TZOFFSETTO:-0400
TZNAME:EDT
DTSTART:20220313T070000
END:DAYLIGHT
BEGIN:STANDARD
TZOFFSETFROM:-0400
TZOFFSETTO:-0500
TZNAME:EST
DTSTART:20221106T060000
END:STANDARD
BEGIN:DAYLIGHT
TZOFFSETFROM:-0500
TZOFFSETTO:-0400
TZNAME:EDT
DTSTART:20230312T070000
END:DAYLIGHT
BEGIN:STANDARD
TZOFFSETFROM:-0400
TZOFFSETTO:-0500
TZNAME:EST
DTSTART:20231105T060000
END:STANDARD
BEGIN:DAYLIGHT
TZOFFSETFROM:-0500
TZOFFSETTO:-0400
TZNAME:EDT
DTSTART:20240310T070000
END:DAYLIGHT
BEGIN:STANDARD
TZOFFSETFROM:-0400
TZOFFSETTO:-0500
TZNAME:EST
DTSTART:20241103T060000
END:STANDARD
END:VTIMEZONE
BEGIN:VTIMEZONE
TZID:America/Chicago
BEGIN:DAYLIGHT
TZOFFSETFROM:-0600
TZOFFSETTO:-0500
TZNAME:CDT
DTSTART:20220313T080000
END:DAYLIGHT
BEGIN:STANDARD
TZOFFSETFROM:-0500
TZOFFSETTO:-0600
TZNAME:CST
DTSTART:20221106T070000
END:STANDARD
BEGIN:DAYLIGHT
TZOFFSETFROM:-0600
TZOFFSETTO:-0500
TZNAME:CDT
DTSTART:20230312T080000
END:DAYLIGHT
BEGIN:STANDARD
TZOFFSETFROM:-0500
TZOFFSETTO:-0600
TZNAME:CST
DTSTART:20231105T070000
END:STANDARD
BEGIN:DAYLIGHT
TZOFFSETFROM:-0600
TZOFFSETTO:-0500
TZNAME:CDT
DTSTART:20240310T080000
END:DAYLIGHT
BEGIN:STANDARD
TZOFFSETFROM:-0500
TZOFFSETTO:-0600
TZNAME:CST
DTSTART:20241103T070000
END:STANDARD
END:VTIMEZONE
BEGIN:VEVENT
DTSTART;TZID=America/New_York:20230501T210000
DTEND;TZID=America/New_York:20230501T223000
DTSTAMP:20260422T215113
CREATED:20230501T231900Z
LAST-MODIFIED:20230501T231900Z
UID:4431-1682974800-1682980200@vaishnavsanghusa.org
SUMMARY:Mohini Ekadashi
DESCRIPTION:Topic: Mohini Ekadashi \nTime: Monday\, May 1st\, 2023 at 9:00 PM EST (USA & Canada) \nJoin Zoom Meeting https://zoom.us/j/86161034535 Meeting ID: 861 6103 4535 Passcode: 11
URL:https://vaishnavsanghusa.org/event/mohini-ekadashi-2/
CATEGORIES:Satsang
ATTACH;FMTTYPE=image/jpeg:https://vaishnavsanghusa.org/wp-content/uploads/2023/05/Mohini-Ekadashi.jpeg
END:VEVENT
BEGIN:VEVENT
DTSTART;TZID=America/New_York:20230515T210000
DTEND;TZID=America/New_York:20230515T223000
DTSTAMP:20260422T215113
CREATED:20230501T231620Z
LAST-MODIFIED:20230501T231620Z
UID:4427-1684184400-1684189800@vaishnavsanghusa.org
SUMMARY:Apara Ekadashi
DESCRIPTION:Topic: Apara Ekadashi \nTime: Monday\, May 15th\, 2023 at 9:00 PM EST (USA & Canada) \nJoin Zoom Meeting https://zoom.us/j/86161034535 Meeting ID: 861 6103 4535 Passcode: 11
URL:https://vaishnavsanghusa.org/event/apara-ekadashi-2/
CATEGORIES:Satsang
ATTACH;FMTTYPE=image/jpeg:https://vaishnavsanghusa.org/wp-content/uploads/2023/05/Apara-Ekadashi2.jpeg
END:VEVENT
BEGIN:VEVENT
DTSTART;TZID=America/Chicago:20230520T080000
DTEND;TZID=America/Chicago:20230520T170000
DTSTAMP:20260422T215113
CREATED:20230520T223423Z
LAST-MODIFIED:20230520T232128Z
UID:4486-1684569600-1684602000@vaishnavsanghusa.org
SUMMARY:Shrimad Bhagwad Geeta Mahatmaya
DESCRIPTION:Topic: Shrimad Bhagwad Geeta Mahatmaya \nTime: Tuesday\, June 20th\, 2023 at 6:00 PM to 8:00 PM \nMahaprasad: 5:00PM to 6:00PM \nVenue: Aum Ashram \n6931 Kitchener Rd\, San Antonio TX-78240
URL:https://vaishnavsanghusa.org/event/shrimad-bhagwad-geeta-mahatmaya/
LOCATION:Aum Ashram\, 6931 Kitchener Rd\, San Antonio\, TX\, 78240\, United States
CATEGORIES:Satsang
ATTACH;FMTTYPE=image/jpeg:https://vaishnavsanghusa.org/wp-content/uploads/2023/05/Shrimad-Bhagwad-Geeta-Mahatmaya.jpeg
END:VEVENT
BEGIN:VEVENT
DTSTART;TZID=America/New_York:20230521T113000
DTEND;TZID=America/New_York:20230521T153000
DTSTAMP:20260422T215113
CREATED:20230520T225530Z
LAST-MODIFIED:20230520T225530Z
UID:4504-1684668600-1684683000@vaishnavsanghusa.org
SUMMARY:Shri Narsinh Jayanti Utsav
DESCRIPTION:Topic: Shri Narsinh Jayanti Utsav \nTime: Sunday\, May 21st\, 2023 at 11:30 AM to 2:30 PM EST (USA & Canada) \nFollowed by Mahaprasad \nVenue: VFW \n649\, Churchmans Road\, Newark\, DE\, 19702
URL:https://vaishnavsanghusa.org/event/shri-narsinh-jayanti-utsav/
LOCATION:VFW Delaware\, 649 Churchmans Road\, Newark\, DE\, 19702\, United States
CATEGORIES:Satsang
ATTACH;FMTTYPE=image/jpeg:https://vaishnavsanghusa.org/wp-content/uploads/2023/05/Shri-Narsinh-Jayanti-Utsav.jpeg
END:VEVENT
BEGIN:VEVENT
DTSTART;TZID=America/New_York:20230528T160000
DTEND;TZID=America/New_York:20230528T173000
DTSTAMP:20260422T215113
CREATED:20230520T225945Z
LAST-MODIFIED:20230520T225945Z
UID:4508-1685289600-1685295000@vaishnavsanghusa.org
SUMMARY:Shri Narsinh Jayanti Utsav
DESCRIPTION:Topic: Shri Narsinh Jayanti Utsav \nTime: Sunday\, May 28th\, 2023 at 4:00 PM EST (USA & Canada) \nVenue: Cale Community Center (Greenbrier) \n4615 Stringfellow Road\, Chantilly\, VA 20151
URL:https://vaishnavsanghusa.org/event/shri-narsinh-jayanti-utsav-2/
LOCATION:Cale Community Center (Greenbrier)\, 4615 Stringfellow Road\, Chantilly\, VA\, 20151\, United States
CATEGORIES:Satsang
ATTACH;FMTTYPE=image/jpeg:https://vaishnavsanghusa.org/wp-content/uploads/2023/05/Shri-Narsinh-Jayanti-Utsav-1.jpeg
END:VEVENT
BEGIN:VEVENT
DTSTART;TZID=America/New_York:20230531T210000
DTEND;TZID=America/New_York:20230531T223000
DTSTAMP:20260422T215113
CREATED:20230501T232112Z
LAST-MODIFIED:20230501T232112Z
UID:4435-1685566800-1685572200@vaishnavsanghusa.org
SUMMARY:Nirjala Ekadashi
DESCRIPTION:Topic: Nirjala Ekadashi \nTime: Wednesday\, May 31st\, 2023 at 9:00 PM EST (USA & Canada) \nJoin Zoom Meeting https://zoom.us/j/86161034535 Meeting ID: 861 6103 4535 Passcode: 11
URL:https://vaishnavsanghusa.org/event/nirjala-ekadashi/
CATEGORIES:Satsang
ATTACH;FMTTYPE=image/jpeg:https://vaishnavsanghusa.org/wp-content/uploads/2023/05/Nirjala-Ekadashi.jpeg
END:VEVENT
END:VCALENDAR