BEGIN:VCALENDAR
VERSION:2.0
PRODID:-//Vaishnav Sangh of USA - ECPv6.15.18//NONSGML v1.0//EN
CALSCALE:GREGORIAN
METHOD:PUBLISH
X-WR-CALNAME:Vaishnav Sangh of USA
X-ORIGINAL-URL:https://vaishnavsanghusa.org
X-WR-CALDESC:Events for Vaishnav Sangh of USA
REFRESH-INTERVAL;VALUE=DURATION:PT1H
X-Robots-Tag:noindex
X-PUBLISHED-TTL:PT1H
BEGIN:VTIMEZONE
TZID:America/New_York
BEGIN:DAYLIGHT
TZOFFSETFROM:-0500
TZOFFSETTO:-0400
TZNAME:EDT
DTSTART:20230312T070000
END:DAYLIGHT
BEGIN:STANDARD
TZOFFSETFROM:-0400
TZOFFSETTO:-0500
TZNAME:EST
DTSTART:20231105T060000
END:STANDARD
BEGIN:DAYLIGHT
TZOFFSETFROM:-0500
TZOFFSETTO:-0400
TZNAME:EDT
DTSTART:20240310T070000
END:DAYLIGHT
BEGIN:STANDARD
TZOFFSETFROM:-0400
TZOFFSETTO:-0500
TZNAME:EST
DTSTART:20241103T060000
END:STANDARD
BEGIN:DAYLIGHT
TZOFFSETFROM:-0500
TZOFFSETTO:-0400
TZNAME:EDT
DTSTART:20250309T070000
END:DAYLIGHT
BEGIN:STANDARD
TZOFFSETFROM:-0400
TZOFFSETTO:-0500
TZNAME:EST
DTSTART:20251102T060000
END:STANDARD
END:VTIMEZONE
BEGIN:VEVENT
DTSTART;TZID=America/New_York:20240603T210000
DTEND;TZID=America/New_York:20240603T223000
DTSTAMP:20260421T232849
CREATED:20240603T112452Z
LAST-MODIFIED:20240605T012939Z
UID:5152-1717448400-1717453800@vaishnavsanghusa.org
SUMMARY:Apara Ekadashi June
DESCRIPTION:Topic: Apara Ekadashi \nTime: Monday\, June 3rd\, 2024 at 9:00 PM EST (USA & Canada) \nJoin Zoom Meeting https://zoom.us/j/86161034535 Meeting ID: 861 6103 4535 Passcode: 11
URL:https://vaishnavsanghusa.org/event/apara-ekadashi-june/
CATEGORIES:Satsang
ATTACH;FMTTYPE=image/jpeg:https://vaishnavsanghusa.org/wp-content/uploads/2024/06/Apara-Ekadashi-June.jpeg
END:VEVENT
BEGIN:VEVENT
DTSTART;TZID=America/New_York:20240604T080000
DTEND;TZID=America/New_York:20240604T170000
DTSTAMP:20260421T232849
CREATED:20240605T014527Z
LAST-MODIFIED:20240605T014558Z
UID:5161-1717488000-1717520400@vaishnavsanghusa.org
SUMMARY:Shri Yamuna Gungaan Mahotsav
DESCRIPTION:Topic: Shri Yamuna Gungaan Mahotsav \nTime: Wednesday\, June 19th\, 2024 at 5:30 PM to 9:00 PM \nVenue: Shree Umiya Dham Mandir \n1697 Oak Tree Rd\, Edison\, NJ 08820
URL:https://vaishnavsanghusa.org/event/shri-yamuna-gungaan-mahotsav/
LOCATION:Shree Umiya Dham Mandir\, 1697 Oak Tree Rd\, Edison\, NJ\, 08820\, United States
CATEGORIES:Satsang
ATTACH;FMTTYPE=image/jpeg:https://vaishnavsanghusa.org/wp-content/uploads/2024/06/Shri-Yamuna-Gungaan-Mahotsav.jpeg
END:VEVENT
BEGIN:VEVENT
DTSTART;TZID=America/New_York:20240604T080000
DTEND;TZID=America/New_York:20240604T170000
DTSTAMP:20260421T232849
CREATED:20240605T023901Z
LAST-MODIFIED:20240605T023901Z
UID:5192-1717488000-1717520400@vaishnavsanghusa.org
SUMMARY:Jyeshthabhishek Aam Manorath
DESCRIPTION:Topic: Jyeshthabhishek Aam Manorath \nJyeshtabhishek \nTime: Friday\, June 21st\, 2024 at 6:30 AM to 7:00 AM \nAam Manorath \nTime: Friday\, June 21st\, 2024 at 6:00 PM to 7:00 PM \nVenue: Vrajdham Haveli \n5733 N. Dean Rd\, Orlando\, FL 32817
URL:https://vaishnavsanghusa.org/event/jyeshthabhishek-aam-manorath/
LOCATION:Vrajdham Haveli\, 5733 N. Dean Rd\, Orlando\, FL\, 32817\, United States
CATEGORIES:Satsang
ATTACH;FMTTYPE=image/jpeg:https://vaishnavsanghusa.org/wp-content/uploads/2024/06/Jyeshthabhishek-Aam-Manorath.jpeg
END:VEVENT
BEGIN:VEVENT
DTSTART;TZID=America/New_York:20240611T180000
DTEND;TZID=America/New_York:20240611T190000
DTSTAMP:20260421T232849
CREATED:20240605T013418Z
LAST-MODIFIED:20240605T013418Z
UID:5155-1718128800-1718132400@vaishnavsanghusa.org
SUMMARY:Naav Manorath
DESCRIPTION:Topic: Naav Manorath \nTime: Tuesday\, June 11th\, 2024 at 6:00 PM to 7:00 PM \nVenue: Vrajdham Haveli \n5733 N. Dean Rd\, Orlando\, FL 32817
URL:https://vaishnavsanghusa.org/event/naav-manorath/
CATEGORIES:Satsang
ATTACH;FMTTYPE=image/jpeg:https://vaishnavsanghusa.org/wp-content/uploads/2024/06/Naav-Manorath.jpeg
END:VEVENT
BEGIN:VEVENT
DTSTART;TZID=America/New_York:20240613T160000
DTEND;TZID=America/New_York:20240613T193000
DTSTAMP:20260421T232849
CREATED:20240605T013929Z
LAST-MODIFIED:20240605T013929Z
UID:5158-1718294400-1718307000@vaishnavsanghusa.org
SUMMARY:Sarvottam Jap Yagna Sarvottam Stotra Raspan
DESCRIPTION:Topic: Sarvottam Jap Yagna Sarvottam Stotra Raspan \nTime: Thursday\, June 13th\, 2024 at 4:00 PM to 7:30 PM \nVenue: Brushy Creek Community Center \n16318 Great Oaks Dr\, Round Rock\, TX 78681
URL:https://vaishnavsanghusa.org/event/sarvottam-jap-yagna-sarvottam-stotra-raspan/
LOCATION:Brushy Creek Community Center\, 16318 Great Oaks Dr\, Round Rock\, TX\, 78681\, United States
CATEGORIES:Satsang
ATTACH;FMTTYPE=image/jpeg:https://vaishnavsanghusa.org/wp-content/uploads/2024/06/Sarvottam-Jap-Yagna-Sarvottam-Stotra-Raspan.jpeg
END:VEVENT
BEGIN:VEVENT
DTSTART;TZID=America/New_York:20240616T160000
DTEND;TZID=America/New_York:20240616T180000
DTSTAMP:20260421T232849
CREATED:20240605T023051Z
LAST-MODIFIED:20240605T023051Z
UID:5189-1718553600-1718560800@vaishnavsanghusa.org
SUMMARY:Ganga Dussehra and Nav Manorath
DESCRIPTION:Topic: Ganga Dussehra and Nav Manorath \nTime: Sunday\, June 16th\, 2024 at 4:00 PM \nVenue: Rajdhani Mandir \n4525 Pleasant Valley Rd\, Chantily\, VA 20151
URL:https://vaishnavsanghusa.org/event/ganga-dussehra-and-nav-manorath/
LOCATION:Rajdhani Mandir\, 4525 Pleasant Valley Rd\, Chantilly\, VA\, 20151\, United States
CATEGORIES:Satsang
ATTACH;FMTTYPE=image/jpeg:https://vaishnavsanghusa.org/wp-content/uploads/2024/06/Ganga-Dussehra-and-Nav-Manorath.jpeg
END:VEVENT
BEGIN:VEVENT
DTSTART;TZID=America/New_York:20240617T170000
DTEND;TZID=America/New_York:20240617T190000
DTSTAMP:20260421T232849
CREATED:20240605T015718Z
LAST-MODIFIED:20240605T015718Z
UID:5169-1718643600-1718650800@vaishnavsanghusa.org
SUMMARY:Vaishnav Na Gun
DESCRIPTION:Topic: Vaishnav Na Gun \nTime: Monday\, June 17th\, 2024 at 5:00 PM \nVenue: Rajdhani Mandir \n4525 Pleasant Valley Rd\, Chantily\, VA 20151
URL:https://vaishnavsanghusa.org/event/vaishnav-na-gun/
LOCATION:Rajdhani Mandir\, 4525 Pleasant Valley Rd\, Chantilly\, VA\, 20151\, United States
CATEGORIES:Satsang
ATTACH;FMTTYPE=image/jpeg:https://vaishnavsanghusa.org/wp-content/uploads/2024/06/Vaishnav-na-Gun.jpeg
END:VEVENT
BEGIN:VEVENT
DTSTART;TZID=America/New_York:20240618T210000
DTEND;TZID=America/New_York:20240618T223000
DTSTAMP:20260421T232849
CREATED:20240605T021603Z
LAST-MODIFIED:20240605T021603Z
UID:5180-1718744400-1718749800@vaishnavsanghusa.org
SUMMARY:Nirjala Ekadashi June
DESCRIPTION:Topic: Nirjala Ekadashi \nTime: Tuesday\, June 18th\, 2024 at 9:00 PM EST (USA & Canada) \nJoin Zoom Meeting https://zoom.us/j/86161034535 Meeting ID: 861 6103 4535 Passcode: 11
URL:https://vaishnavsanghusa.org/event/nirjala-ekadashi-june/
CATEGORIES:Satsang
ATTACH;FMTTYPE=image/jpeg:https://vaishnavsanghusa.org/wp-content/uploads/2024/06/Nirjala-Ekadashi-June.jpeg
END:VEVENT
BEGIN:VEVENT
DTSTART;TZID=America/New_York:20240622T170000
DTEND;TZID=America/New_York:20240622T190000
DTSTAMP:20260421T232849
CREATED:20240605T015036Z
LAST-MODIFIED:20240605T015036Z
UID:5165-1719075600-1719082800@vaishnavsanghusa.org
SUMMARY:Shrinathji Charitra
DESCRIPTION:Topic: Shrinathji Charitra \nTime: Saturday and Sunday\, June 22nd and 23rd\, 2024 at 5:00 PM to 7:00 PM \nVenue: Hindu Temple of Delaware \n760 Yorklyn Rd\, Hockessin\, DE 19707
URL:https://vaishnavsanghusa.org/event/shrinathji-charitra/
LOCATION:Hindu temple association of Delaware\, 760 Yorklyn Road\, Hockessin\, DE\, 19707\, United States
CATEGORIES:Satsang
ATTACH;FMTTYPE=image/jpeg:https://vaishnavsanghusa.org/wp-content/uploads/2024/06/Shrinathji-Charitra.jpeg
END:VEVENT
BEGIN:VEVENT
DTSTART;TZID=America/New_York:20240623T170000
DTEND;TZID=America/New_York:20240623T190000
DTSTAMP:20260421T232849
CREATED:20240605T015036Z
LAST-MODIFIED:20240605T015036Z
UID:5168-1719162000-1719169200@vaishnavsanghusa.org
SUMMARY:Shrinathji Charitra
DESCRIPTION:Topic: Shrinathji Charitra \nTime: Saturday and Sunday\, June 22nd and 23rd\, 2024 at 5:00 PM to 7:00 PM \nVenue: Hindu Temple of Delaware \n760 Yorklyn Rd\, Hockessin\, DE 19707
URL:https://vaishnavsanghusa.org/event/shrinathji-charitra-2024-06-23/
LOCATION:Hindu temple association of Delaware\, 760 Yorklyn Road\, Hockessin\, DE\, 19707\, United States
CATEGORIES:Satsang
ATTACH;FMTTYPE=image/jpeg:https://vaishnavsanghusa.org/wp-content/uploads/2024/06/Shrinathji-Charitra.jpeg
END:VEVENT
BEGIN:VEVENT
DTSTART;TZID=America/New_York:20240623T180000
DTEND;TZID=America/New_York:20240623T190000
DTSTAMP:20260421T232849
CREATED:20240605T021846Z
LAST-MODIFIED:20240605T021846Z
UID:5183-1719165600-1719169200@vaishnavsanghusa.org
SUMMARY:Naav Manorath
DESCRIPTION:Topic: Naav Manorath \nTime: Sunday\, June 23rd\, 2024 at 6:00 PM to 7:00 PM \nVenue: Vrajdham Haveli \n5733 N. Dean Rd\, Orlando\, FL 32817
URL:https://vaishnavsanghusa.org/event/naav-manorath-2/
LOCATION:Vrajdham Haveli\, 5733 N. Dean Rd\, Orlando\, FL\, 32817\, United States
CATEGORIES:Satsang
ATTACH;FMTTYPE=image/jpeg:https://vaishnavsanghusa.org/wp-content/uploads/2024/06/Naav-Manorath-1.jpeg
END:VEVENT
BEGIN:VEVENT
DTSTART;TZID=America/New_York:20240624T173000
DTEND;TZID=America/New_York:20240624T203000
DTSTAMP:20260421T232849
CREATED:20240605T024425Z
LAST-MODIFIED:20240605T024653Z
UID:5195-1719250200-1719261000@vaishnavsanghusa.org
SUMMARY:Srimad Bhagwad Gita Katha Mahotsav
DESCRIPTION:Topic: Srimad Bhagwad Gita Katha Mahotsav \nTime: Wednesday – Friday\, June 24th to June 26th\, 2024 at 5:30 PM to 8:30 PM daily \nVenue: Greater Cleveland Shiva Vishnu Temple \n7733 Ridge Rd\, Cleveland\, OH 44129
URL:https://vaishnavsanghusa.org/event/srimad-bhagwad-gita-katha-mahotsav/
LOCATION:Greater Cleveland Shiva Vishnu Temple\, 7733 Ridge Rd\, Cleveland\, OH\, 44129\, United States
CATEGORIES:Satsang
ATTACH;FMTTYPE=image/jpeg:https://vaishnavsanghusa.org/wp-content/uploads/2024/06/Srimad-Bhagwad-Gita-Katha-Mahotsav.jpeg
END:VEVENT
BEGIN:VEVENT
DTSTART;TZID=America/New_York:20240625T173000
DTEND;TZID=America/New_York:20240625T203000
DTSTAMP:20260421T232849
CREATED:20240605T024425Z
LAST-MODIFIED:20240605T024653Z
UID:5198-1719336600-1719347400@vaishnavsanghusa.org
SUMMARY:Srimad Bhagwad Gita Katha Mahotsav
DESCRIPTION:Topic: Srimad Bhagwad Gita Katha Mahotsav \nTime: Wednesday – Friday\, June 24th to June 26th\, 2024 at 5:30 PM to 8:30 PM daily \nVenue: Greater Cleveland Shiva Vishnu Temple \n7733 Ridge Rd\, Cleveland\, OH 44129
URL:https://vaishnavsanghusa.org/event/srimad-bhagwad-gita-katha-mahotsav-2024-06-25/
LOCATION:Greater Cleveland Shiva Vishnu Temple\, 7733 Ridge Rd\, Cleveland\, OH\, 44129\, United States
CATEGORIES:Satsang
ATTACH;FMTTYPE=image/jpeg:https://vaishnavsanghusa.org/wp-content/uploads/2024/06/Srimad-Bhagwad-Gita-Katha-Mahotsav.jpeg
END:VEVENT
BEGIN:VEVENT
DTSTART;TZID=America/New_York:20240626T173000
DTEND;TZID=America/New_York:20240626T203000
DTSTAMP:20260421T232849
CREATED:20240605T024425Z
LAST-MODIFIED:20240605T024653Z
UID:5199-1719423000-1719433800@vaishnavsanghusa.org
SUMMARY:Srimad Bhagwad Gita Katha Mahotsav
DESCRIPTION:Topic: Srimad Bhagwad Gita Katha Mahotsav \nTime: Wednesday – Friday\, June 24th to June 26th\, 2024 at 5:30 PM to 8:30 PM daily \nVenue: Greater Cleveland Shiva Vishnu Temple \n7733 Ridge Rd\, Cleveland\, OH 44129
URL:https://vaishnavsanghusa.org/event/srimad-bhagwad-gita-katha-mahotsav-2024-06-26/
LOCATION:Greater Cleveland Shiva Vishnu Temple\, 7733 Ridge Rd\, Cleveland\, OH\, 44129\, United States
CATEGORIES:Satsang
ATTACH;FMTTYPE=image/jpeg:https://vaishnavsanghusa.org/wp-content/uploads/2024/06/Srimad-Bhagwad-Gita-Katha-Mahotsav.jpeg
END:VEVENT
END:VCALENDAR