BEGIN:VCALENDAR
VERSION:2.0
PRODID:-//Vaishnav Sangh of USA - ECPv6.15.18//NONSGML v1.0//EN
CALSCALE:GREGORIAN
METHOD:PUBLISH
X-WR-CALNAME:Vaishnav Sangh of USA
X-ORIGINAL-URL:https://vaishnavsanghusa.org
X-WR-CALDESC:Events for Vaishnav Sangh of USA
REFRESH-INTERVAL;VALUE=DURATION:PT1H
X-Robots-Tag:noindex
X-PUBLISHED-TTL:PT1H
BEGIN:VTIMEZONE
TZID:America/New_York
BEGIN:DAYLIGHT
TZOFFSETFROM:-0500
TZOFFSETTO:-0400
TZNAME:EDT
DTSTART:20230312T070000
END:DAYLIGHT
BEGIN:STANDARD
TZOFFSETFROM:-0400
TZOFFSETTO:-0500
TZNAME:EST
DTSTART:20231105T060000
END:STANDARD
BEGIN:DAYLIGHT
TZOFFSETFROM:-0500
TZOFFSETTO:-0400
TZNAME:EDT
DTSTART:20240310T070000
END:DAYLIGHT
BEGIN:STANDARD
TZOFFSETFROM:-0400
TZOFFSETTO:-0500
TZNAME:EST
DTSTART:20241103T060000
END:STANDARD
BEGIN:DAYLIGHT
TZOFFSETFROM:-0500
TZOFFSETTO:-0400
TZNAME:EDT
DTSTART:20250309T070000
END:DAYLIGHT
BEGIN:STANDARD
TZOFFSETFROM:-0400
TZOFFSETTO:-0500
TZNAME:EST
DTSTART:20251102T060000
END:STANDARD
END:VTIMEZONE
BEGIN:VEVENT
DTSTART;TZID=America/New_York:20240701T170000
DTEND;TZID=America/New_York:20240701T210000
DTSTAMP:20260421T215741
CREATED:20240605T020303Z
LAST-MODIFIED:20240605T020345Z
UID:5173-1719853200-1719867600@vaishnavsanghusa.org
SUMMARY:Madhurashtakam Raspan
DESCRIPTION:Topic: Madhurashtakam Raspan \nTime: Monday & Tuesday\, July 1st and July 2nd\, 2024 at 5:00 PM to 9:00 PM \nVenue: Global Mall\, Ashiana Banquet Hall\, \n5675 Jimmy Carter Blvd\, Suite 101\, Norcross Georgia 30071
URL:https://vaishnavsanghusa.org/event/madhurashtakam-raspan/
LOCATION:Global Mall Ashiana Banquet Hall\, 5675 Jimmy Carter Blvd\, Suite 101\, Norcross\, GA\, 30071\, United States
CATEGORIES:Satsang
ATTACH;FMTTYPE=image/jpeg:https://vaishnavsanghusa.org/wp-content/uploads/2024/06/Madhurashtakam-Raspan.jpeg
END:VEVENT
BEGIN:VEVENT
DTSTART;TZID=America/New_York:20240702T170000
DTEND;TZID=America/New_York:20240702T210000
DTSTAMP:20260421T215741
CREATED:20240605T020303Z
LAST-MODIFIED:20240605T020345Z
UID:5177-1719939600-1719954000@vaishnavsanghusa.org
SUMMARY:Madhurashtakam Raspan
DESCRIPTION:Topic: Madhurashtakam Raspan \nTime: Monday & Tuesday\, July 1st and July 2nd\, 2024 at 5:00 PM to 9:00 PM \nVenue: Global Mall\, Ashiana Banquet Hall\, \n5675 Jimmy Carter Blvd\, Suite 101\, Norcross Georgia 30071
URL:https://vaishnavsanghusa.org/event/madhurashtakam-raspan-2024-07-02/
LOCATION:Global Mall Ashiana Banquet Hall\, 5675 Jimmy Carter Blvd\, Suite 101\, Norcross\, GA\, 30071\, United States
CATEGORIES:Satsang
ATTACH;FMTTYPE=image/jpeg:https://vaishnavsanghusa.org/wp-content/uploads/2024/06/Madhurashtakam-Raspan.jpeg
END:VEVENT
BEGIN:VEVENT
DTSTART;TZID=America/New_York:20240703T163000
DTEND;TZID=America/New_York:20240703T190000
DTSTAMP:20260421T215741
CREATED:20240605T022756Z
LAST-MODIFIED:20240605T022756Z
UID:5186-1720024200-1720033200@vaishnavsanghusa.org
SUMMARY:Patotsar Mahotsav
DESCRIPTION:Topic: Patotsar Mahotsav \nTime: Wednesday\, July 3rd\, 2024 at 4:45 PM to 7:00 PM \nVenue: Vrajdham Haveli \n5733 N. Dean Rd\, Orlando\, FL 32817
URL:https://vaishnavsanghusa.org/event/patotsar-mahotsav/
CATEGORIES:Satsang
ATTACH;FMTTYPE=image/jpeg:https://vaishnavsanghusa.org/wp-content/uploads/2024/06/Patotsar-Mahotsav-scaled.jpeg
END:VEVENT
BEGIN:VEVENT
DTSTART;TZID=America/New_York:20240717T210000
DTEND;TZID=America/New_York:20240717T223000
DTSTAMP:20260421T215741
CREATED:20240712T014418Z
LAST-MODIFIED:20240712T014418Z
UID:5248-1721250000-1721255400@vaishnavsanghusa.org
SUMMARY:Devshayani Ekadashi
DESCRIPTION:Topic: Devshayani Ekadashi \nTime: Wednesday\, July 17th\, 2024 at 9:00 PM EST (USA & Canada) \nJoin Zoom Meeting https://zoom.us/j/86161034535 Meeting ID: 861 6103 4535 Passcode: 11
URL:https://vaishnavsanghusa.org/event/devshayani-ekadashi/
CATEGORIES:Satsang
ATTACH;FMTTYPE=image/jpeg:https://vaishnavsanghusa.org/wp-content/uploads/2024/07/Devshayani-Ekadashi.jpeg
END:VEVENT
BEGIN:VEVENT
DTSTART;TZID=America/New_York:20240721T160000
DTEND;TZID=America/New_York:20240721T170000
DTSTAMP:20260421T215741
CREATED:20240712T014757Z
LAST-MODIFIED:20240712T014757Z
UID:5252-1721577600-1721581200@vaishnavsanghusa.org
SUMMARY:Hindola Manorath
DESCRIPTION:Topic: Hindola Manorath \nTime: Sunday\, July 21st\, 2024 at 4:00 PM \nVenue: Rajdhani Mandir (Prayer Hall) \n4525 Pleasant Valley Rd\, Chantilly\, VA 2015
URL:https://vaishnavsanghusa.org/event/hindola-manorath-2/
LOCATION:Rajdhani Mandir\, 4525 Pleasant Valley Rd\, Chantilly\, VA\, 20151\, United States
CATEGORIES:Satsang
ATTACH;FMTTYPE=image/jpeg:https://vaishnavsanghusa.org/wp-content/uploads/2024/07/Hindola-Manorath2.jpeg
END:VEVENT
BEGIN:VEVENT
DTSTART;TZID=America/New_York:20240721T173000
DTEND;TZID=America/New_York:20240721T190000
DTSTAMP:20260421T215741
CREATED:20240712T015145Z
LAST-MODIFIED:20240712T015145Z
UID:5256-1721583000-1721588400@vaishnavsanghusa.org
SUMMARY:Sunday Satsang July
DESCRIPTION:Topic: Sunday Satsang July \nTime: Sunday\, July 21st\, 2024 at 5:30 PM \nVenue: Vrajdham Haveli \n5733 N. Dean Rd\, Orlando\, FL 32817
URL:https://vaishnavsanghusa.org/event/sunday-satsang-july/
LOCATION:Vrajdham Haveli\, 5733 N. Dean Rd\, Orlando\, FL\, 32817\, United States
CATEGORIES:Satsang
ATTACH;FMTTYPE=image/jpeg:https://vaishnavsanghusa.org/wp-content/uploads/2024/07/Sunday-Satsang-July.jpeg
END:VEVENT
BEGIN:VEVENT
DTSTART;TZID=America/New_York:20240731T210000
DTEND;TZID=America/New_York:20240731T223000
DTSTAMP:20260421T215741
CREATED:20240712T015551Z
LAST-MODIFIED:20240712T015551Z
UID:5260-1722459600-1722465000@vaishnavsanghusa.org
SUMMARY:Kamika Ekadashi
DESCRIPTION:Topic: Kamika Ekadashi \nTime: Wednesday\, July 31st\, 2024 at 9:00 PM EST (USA & Canada) \nJoin Zoom Meeting https://zoom.us/j/86161034535 Meeting ID: 861 6103 4535 Passcode: 11
URL:https://vaishnavsanghusa.org/event/kamika-ekadashi-2/
CATEGORIES:Satsang
ATTACH;FMTTYPE=image/jpeg:https://vaishnavsanghusa.org/wp-content/uploads/2024/07/Kamika-Ekadashi1.jpeg
END:VEVENT
END:VCALENDAR