BEGIN:VCALENDAR
VERSION:2.0
PRODID:-//Vaishnav Sangh of USA - ECPv6.15.18//NONSGML v1.0//EN
CALSCALE:GREGORIAN
METHOD:PUBLISH
X-WR-CALNAME:Vaishnav Sangh of USA
X-ORIGINAL-URL:https://vaishnavsanghusa.org
X-WR-CALDESC:Events for Vaishnav Sangh of USA
REFRESH-INTERVAL;VALUE=DURATION:PT1H
X-Robots-Tag:noindex
X-PUBLISHED-TTL:PT1H
BEGIN:VTIMEZONE
TZID:America/New_York
BEGIN:DAYLIGHT
TZOFFSETFROM:-0500
TZOFFSETTO:-0400
TZNAME:EDT
DTSTART:20240310T070000
END:DAYLIGHT
BEGIN:STANDARD
TZOFFSETFROM:-0400
TZOFFSETTO:-0500
TZNAME:EST
DTSTART:20241103T060000
END:STANDARD
BEGIN:DAYLIGHT
TZOFFSETFROM:-0500
TZOFFSETTO:-0400
TZNAME:EDT
DTSTART:20250309T070000
END:DAYLIGHT
BEGIN:STANDARD
TZOFFSETFROM:-0400
TZOFFSETTO:-0500
TZNAME:EST
DTSTART:20251102T060000
END:STANDARD
BEGIN:DAYLIGHT
TZOFFSETFROM:-0500
TZOFFSETTO:-0400
TZNAME:EDT
DTSTART:20260308T070000
END:DAYLIGHT
BEGIN:STANDARD
TZOFFSETFROM:-0400
TZOFFSETTO:-0500
TZNAME:EST
DTSTART:20261101T060000
END:STANDARD
END:VTIMEZONE
BEGIN:VEVENT
DTSTART;TZID=America/New_York:20250701T170000
DTEND;TZID=America/New_York:20250701T173000
DTSTAMP:20260420T231911
CREATED:20250630T210451Z
LAST-MODIFIED:20250630T210451Z
UID:5658-1751389200-1751391000@vaishnavsanghusa.org
SUMMARY:Kasumbha Chhath
DESCRIPTION:Topic: Kasumbha Chhath \nTime: Tuesday\, July 1st\, 2025 from 5:00 PM to 5:30 PM \nVenue: Vrajdham Haveli \n5733 N. Dean Rd\, Orlando\, FL 32817
URL:https://vaishnavsanghusa.org/event/kasumbha-chhath/
LOCATION:Vrajdham Haveli\, 5733 N. Dean Rd\, Orlando\, FL\, 32817\, United States
CATEGORIES:Satsang
ATTACH;FMTTYPE=image/jpeg:https://vaishnavsanghusa.org/wp-content/uploads/2025/06/Kasumbha-Chhath-July-1st-scaled.jpeg
END:VEVENT
BEGIN:VEVENT
DTSTART;TZID=America/New_York:20250706T210000
DTEND;TZID=America/New_York:20250706T223000
DTSTAMP:20260420T231911
CREATED:20250630T211413Z
LAST-MODIFIED:20250630T211413Z
UID:5663-1751835600-1751841000@vaishnavsanghusa.org
SUMMARY:Devshayani Ekadashi
DESCRIPTION:Topic: Devshayani Ekadashi \nTime: Sunday\, July 6th\, 2025 at 9:00 PM EST (USA & Canada) \nJoin Zoom Meeting https://zoom.us /j/86161034535 Meeting ID: 861 6103 4535 Passcode: 11
URL:https://vaishnavsanghusa.org/event/devshayani-ekadashi-2/
CATEGORIES:Satsang
ATTACH;FMTTYPE=image/jpeg:https://vaishnavsanghusa.org/wp-content/uploads/2025/06/Devshayani-Ekadashi-July-6.jpeg
END:VEVENT
BEGIN:VEVENT
DTSTART;TZID=America/New_York:20250710T180000
DTEND;TZID=America/New_York:20250710T193000
DTSTAMP:20260420T231911
CREATED:20250630T214239Z
LAST-MODIFIED:20250630T214239Z
UID:5667-1752170400-1752175800@vaishnavsanghusa.org
SUMMARY:Patotsav Mahamahotsav
DESCRIPTION:Topic: Patotsav Mahamahotsav \nTime: Thursday\, July 11th\, 2025\, from 6:00 PM onwards \nVenue: Vrajdham Haveli \n5733 N. Dean Rd\, Orlando\, FL 32817
URL:https://vaishnavsanghusa.org/event/patotsav-mahamahotsav/
LOCATION:Vrajdham Haveli\, 5733 N. Dean Rd\, Orlando\, FL\, 32817\, United States
CATEGORIES:Satsang
ATTACH;FMTTYPE=image/jpeg:https://vaishnavsanghusa.org/wp-content/uploads/2025/06/Patotsav-Mahamahotsav-July-10-Updated.jpeg
END:VEVENT
BEGIN:VEVENT
DTSTART;TZID=America/New_York:20250720T113000
DTEND;TZID=America/New_York:20250720T143000
DTSTAMP:20260420T231911
CREATED:20250630T215711Z
LAST-MODIFIED:20250630T215711Z
UID:5675-1753011000-1753021800@vaishnavsanghusa.org
SUMMARY:Naav Manorath
DESCRIPTION:Topic: Naav Manorath \nTime: Sunday\, July 20th\, 2025\, from 11:30 AM to 2:30 PM \nVenue: VFW Hall \n649 Churchman Road\, Newark\, DE 19702
URL:https://vaishnavsanghusa.org/event/naav-manorath-3/
LOCATION:VFW Delaware\, 649 Churchmans Road\, Newark\, DE\, 19702\, United States
CATEGORIES:Satsang
ATTACH;FMTTYPE=image/jpeg:https://vaishnavsanghusa.org/wp-content/uploads/2025/06/Naav-Manorath-July-20.jpeg
END:VEVENT
BEGIN:VEVENT
DTSTART;TZID=America/New_York:20250720T160000
DTEND;TZID=America/New_York:20250720T180000
DTSTAMP:20260420T231911
CREATED:20250630T220222Z
LAST-MODIFIED:20250630T220222Z
UID:5679-1753027200-1753034400@vaishnavsanghusa.org
SUMMARY:Hindola Manorath
DESCRIPTION:Topic: Hindola Manorath \nTime: Sunday\, July 20th\, 2025\, from 4:00 PM onwards \nVenue: Rajdhani Mandir \n4525 Pleasant Valley Rd\, Chantilly\, VA 20151
URL:https://vaishnavsanghusa.org/event/hindola-manorath-3/
LOCATION:Rajdhani Mandir\, 4525 Pleasant Valley Rd\, Chantilly\, VA\, 20151\, United States
CATEGORIES:Satsang
ATTACH;FMTTYPE=image/jpeg:https://vaishnavsanghusa.org/wp-content/uploads/2025/06/Hindola-Manorath-July-20.jpeg
END:VEVENT
BEGIN:VEVENT
DTSTART;TZID=America/New_York:20250720T170000
DTEND;TZID=America/New_York:20250720T183000
DTSTAMP:20260420T231911
CREATED:20250630T215201Z
LAST-MODIFIED:20250630T215201Z
UID:5671-1753030800-1753036200@vaishnavsanghusa.org
SUMMARY:Sunday Satsang July
DESCRIPTION:Topic: Sunday Satsang April 2025 \nTime: Sunday\, July 20th\, 2025 at 5:00 PM onwards \nVenue: Vrajdham Haveli \n5733 N. Dean Rd\, Orlando\, FL 32817
URL:https://vaishnavsanghusa.org/event/sunday-satsang-july-2/
LOCATION:Vrajdham Haveli\, 5733 N. Dean Rd\, Orlando\, FL\, 32817\, United States
CATEGORIES:Satsang
ATTACH;FMTTYPE=image/jpeg:https://vaishnavsanghusa.org/wp-content/uploads/2025/06/Sunday-Satsang-July-20.jpeg
END:VEVENT
BEGIN:VEVENT
DTSTART;TZID=America/New_York:20250721T210000
DTEND;TZID=America/New_York:20250721T220000
DTSTAMP:20260420T231911
CREATED:20250630T220424Z
LAST-MODIFIED:20250630T220526Z
UID:5683-1753131600-1753135200@vaishnavsanghusa.org
SUMMARY:Kamika Ekadashi
DESCRIPTION:Topic: Kamika Ekadashi \nTime: Monday\, July 21st\, 2025\, at 9:00 PM EST (USA & Canada) \nJoin Zoom Meeting https://zoom.us /j/86161034535 Meeting ID: 861 6103 4535 Passcode: 11
URL:https://vaishnavsanghusa.org/event/kamika-ekadashi-3/
CATEGORIES:Satsang
ATTACH;FMTTYPE=image/jpeg:https://vaishnavsanghusa.org/wp-content/uploads/2025/06/Kamika-Ekadashi-July-21.jpeg
END:VEVENT
END:VCALENDAR