BEGIN:VCALENDAR
VERSION:2.0
PRODID:-//Vaishnav Sangh of USA - ECPv6.15.18//NONSGML v1.0//EN
CALSCALE:GREGORIAN
METHOD:PUBLISH
X-ORIGINAL-URL:https://vaishnavsanghusa.org
X-WR-CALDESC:Events for Vaishnav Sangh of USA
REFRESH-INTERVAL;VALUE=DURATION:PT1H
X-Robots-Tag:noindex
X-PUBLISHED-TTL:PT1H
BEGIN:VTIMEZONE
TZID:America/New_York
BEGIN:DAYLIGHT
TZOFFSETFROM:-0500
TZOFFSETTO:-0400
TZNAME:EDT
DTSTART:20240310T070000
END:DAYLIGHT
BEGIN:STANDARD
TZOFFSETFROM:-0400
TZOFFSETTO:-0500
TZNAME:EST
DTSTART:20241103T060000
END:STANDARD
BEGIN:DAYLIGHT
TZOFFSETFROM:-0500
TZOFFSETTO:-0400
TZNAME:EDT
DTSTART:20250309T070000
END:DAYLIGHT
BEGIN:STANDARD
TZOFFSETFROM:-0400
TZOFFSETTO:-0500
TZNAME:EST
DTSTART:20251102T060000
END:STANDARD
BEGIN:DAYLIGHT
TZOFFSETFROM:-0500
TZOFFSETTO:-0400
TZNAME:EDT
DTSTART:20260308T070000
END:DAYLIGHT
BEGIN:STANDARD
TZOFFSETFROM:-0400
TZOFFSETTO:-0500
TZNAME:EST
DTSTART:20261101T060000
END:STANDARD
END:VTIMEZONE
BEGIN:VEVENT
DTSTART;TZID=America/New_York:20250805T210000
DTEND;TZID=America/New_York:20250805T223000
DTSTAMP:20260420T210146
CREATED:20250804T011258Z
LAST-MODIFIED:20250808T011708Z
UID:5740-1754427600-1754433000@vaishnavsanghusa.org
SUMMARY:Putrada Ekadashi
DESCRIPTION:Topic: Kamika Ekadashi \nTime: Tuesday\, August 5th\, 2025\, at 9:00 PM EST (USA & Canada) \nJoin Zoom Meeting https://zoom.us /j/86161034535 Meeting ID: 861 6103 4535 Passcode: 11
URL:https://vaishnavsanghusa.org/event/putrada-ekadashi-7/
CATEGORIES:Satsang
ATTACH;FMTTYPE=image/jpeg:https://vaishnavsanghusa.org/wp-content/uploads/2025/08/Putrada-Ekadashi-August-5.jpeg
END:VEVENT
BEGIN:VEVENT
DTSTART;TZID=America/New_York:20250807T080000
DTEND;TZID=America/New_York:20250807T170000
DTSTAMP:20260420T210146
CREATED:20250808T013201Z
LAST-MODIFIED:20250808T013201Z
UID:5755-1754553600-1754586000@vaishnavsanghusa.org
SUMMARY:Aja Ekadashi
DESCRIPTION:Topic: Aja Ekadashi \nTime: Tuesday\, August 19st\, 2025\, at 9:00 PM EST (USA & Canada) \nJoin Zoom Meeting https://zoom.us /j/86161034535 Meeting ID: 861 6103 4535 Passcode: 11
URL:https://vaishnavsanghusa.org/event/aja-ekadashi-5/
CATEGORIES:Satsang
ATTACH;FMTTYPE=image/jpeg:https://vaishnavsanghusa.org/wp-content/uploads/2025/08/Aja-Ekadashi-Aug-19.jpeg
END:VEVENT
BEGIN:VEVENT
DTSTART;TZID=America/New_York:20250817T170000
DTEND;TZID=America/New_York:20250817T180000
DTSTAMP:20260420T210146
CREATED:20250808T012913Z
LAST-MODIFIED:20250808T012913Z
UID:5751-1755450000-1755453600@vaishnavsanghusa.org
SUMMARY:Sunday Satsang August
DESCRIPTION:Topic: Sunday Satsang August 2025 \nTime: Sunday\, August 17th\, 2025 at 5:00 PM onwards \nVenue: Vrajdham Haveli \n5733 N. Dean Rd\, Orlando\, FL 32817
URL:https://vaishnavsanghusa.org/event/sunday-satsang-august-2/
LOCATION:Vrajdham Haveli\, 5733 N. Dean Rd\, Orlando\, FL\, 32817\, United States
CATEGORIES:Satsang
ATTACH;FMTTYPE=image/jpeg:https://vaishnavsanghusa.org/wp-content/uploads/2025/08/Sunday-Satsang-August-17.jpeg
END:VEVENT
BEGIN:VEVENT
DTSTART;TZID=America/New_York:20250824T113000
DTEND;TZID=America/New_York:20250824T143000
DTSTAMP:20260420T210146
CREATED:20250808T013444Z
LAST-MODIFIED:20250808T013444Z
UID:5759-1756035000-1756045800@vaishnavsanghusa.org
SUMMARY:Nand Mahotsav
DESCRIPTION:Topic: Nand Mahotsav \nTime: Sunday\, August 24th\, 2025\, from 11:30 AM to 2:30 PM \nVenue: VFW Hall \n649 Churchman Road\, Newark\, DE 19702
URL:https://vaishnavsanghusa.org/event/nand-mahotsav-5/
LOCATION:VFW Delaware\, 649 Churchmans Road\, Newark\, DE\, 19702\, United States
CATEGORIES:Satsang
ATTACH;FMTTYPE=image/jpeg:https://vaishnavsanghusa.org/wp-content/uploads/2025/08/Nand-Mahotsav-August-24.jpeg
END:VEVENT
BEGIN:VEVENT
DTSTART;TZID=America/New_York:20250831T173000
DTEND;TZID=America/New_York:20250831T183000
DTSTAMP:20260420T210146
CREATED:20250830T163530Z
LAST-MODIFIED:20250906T163728Z
UID:5802-1756661400-1756665000@vaishnavsanghusa.org
SUMMARY:Radhashtmi
DESCRIPTION:Topic: Radhashtmi \nTime: Sunday\, August 31st\, 2025 at 5:30 PM onwards \nVenue: Vrajdham Haveli \n5733 N. Dean Rd\, Orlando\, FL 32817
URL:https://vaishnavsanghusa.org/event/radhashtmi/
LOCATION:Vrajdham Haveli\, 5733 N. Dean Rd\, Orlando\, FL\, 32817\, United States
CATEGORIES:Satsang
ATTACH;FMTTYPE=image/jpeg:https://vaishnavsanghusa.org/wp-content/uploads/2025/09/Radhashtmi-August-31.jpeg
END:VEVENT
END:VCALENDAR