BEGIN:VCALENDAR
VERSION:2.0
PRODID:-//Vaishnav Sangh of USA - ECPv6.15.18//NONSGML v1.0//EN
CALSCALE:GREGORIAN
METHOD:PUBLISH
X-ORIGINAL-URL:https://vaishnavsanghusa.org
X-WR-CALDESC:Events for Vaishnav Sangh of USA
REFRESH-INTERVAL;VALUE=DURATION:PT1H
X-Robots-Tag:noindex
X-PUBLISHED-TTL:PT1H
BEGIN:VTIMEZONE
TZID:America/Chicago
BEGIN:DAYLIGHT
TZOFFSETFROM:-0600
TZOFFSETTO:-0500
TZNAME:CDT
DTSTART:20220313T080000
END:DAYLIGHT
BEGIN:STANDARD
TZOFFSETFROM:-0500
TZOFFSETTO:-0600
TZNAME:CST
DTSTART:20221106T070000
END:STANDARD
BEGIN:DAYLIGHT
TZOFFSETFROM:-0600
TZOFFSETTO:-0500
TZNAME:CDT
DTSTART:20230312T080000
END:DAYLIGHT
BEGIN:STANDARD
TZOFFSETFROM:-0500
TZOFFSETTO:-0600
TZNAME:CST
DTSTART:20231105T070000
END:STANDARD
BEGIN:DAYLIGHT
TZOFFSETFROM:-0600
TZOFFSETTO:-0500
TZNAME:CDT
DTSTART:20240310T080000
END:DAYLIGHT
BEGIN:STANDARD
TZOFFSETFROM:-0500
TZOFFSETTO:-0600
TZNAME:CST
DTSTART:20241103T070000
END:STANDARD
END:VTIMEZONE
BEGIN:VEVENT
DTSTART;TZID=America/Chicago:20230520T080000
DTEND;TZID=America/Chicago:20230520T170000
DTSTAMP:20260422T232314
CREATED:20230520T223423Z
LAST-MODIFIED:20230520T232128Z
UID:4486-1684569600-1684602000@vaishnavsanghusa.org
SUMMARY:Shrimad Bhagwad Geeta Mahatmaya
DESCRIPTION:Topic: Shrimad Bhagwad Geeta Mahatmaya \nTime: Tuesday\, June 20th\, 2023 at 6:00 PM to 8:00 PM \nMahaprasad: 5:00PM to 6:00PM \nVenue: Aum Ashram \n6931 Kitchener Rd\, San Antonio TX-78240
URL:https://vaishnavsanghusa.org/event/shrimad-bhagwad-geeta-mahatmaya/
LOCATION:Aum Ashram\, 6931 Kitchener Rd\, San Antonio\, TX\, 78240\, United States
CATEGORIES:Satsang
ATTACH;FMTTYPE=image/jpeg:https://vaishnavsanghusa.org/wp-content/uploads/2023/05/Shrimad-Bhagwad-Geeta-Mahatmaya.jpeg
END:VEVENT
END:VCALENDAR