BEGIN:VCALENDAR
VERSION:2.0
PRODID:-//Vaishnav Sangh of USA - ECPv6.15.18//NONSGML v1.0//EN
CALSCALE:GREGORIAN
METHOD:PUBLISH
X-ORIGINAL-URL:https://vaishnavsanghusa.org
X-WR-CALDESC:Events for Vaishnav Sangh of USA
REFRESH-INTERVAL;VALUE=DURATION:PT1H
X-Robots-Tag:noindex
X-PUBLISHED-TTL:PT1H
BEGIN:VTIMEZONE
TZID:America/Chicago
BEGIN:DAYLIGHT
TZOFFSETFROM:-0600
TZOFFSETTO:-0500
TZNAME:CDT
DTSTART:20220313T080000
END:DAYLIGHT
BEGIN:STANDARD
TZOFFSETFROM:-0500
TZOFFSETTO:-0600
TZNAME:CST
DTSTART:20221106T070000
END:STANDARD
BEGIN:DAYLIGHT
TZOFFSETFROM:-0600
TZOFFSETTO:-0500
TZNAME:CDT
DTSTART:20230312T080000
END:DAYLIGHT
BEGIN:STANDARD
TZOFFSETFROM:-0500
TZOFFSETTO:-0600
TZNAME:CST
DTSTART:20231105T070000
END:STANDARD
BEGIN:DAYLIGHT
TZOFFSETFROM:-0600
TZOFFSETTO:-0500
TZNAME:CDT
DTSTART:20240310T080000
END:DAYLIGHT
BEGIN:STANDARD
TZOFFSETFROM:-0500
TZOFFSETTO:-0600
TZNAME:CST
DTSTART:20241103T070000
END:STANDARD
END:VTIMEZONE
BEGIN:VEVENT
DTSTART;TZID=America/Chicago:20230616T170000
DTEND;TZID=America/Chicago:20230618T213000
DTSTAMP:20260422T142221
CREATED:20230520T224239Z
LAST-MODIFIED:20230520T232209Z
UID:4490-1686934800-1687123800@vaishnavsanghusa.org
SUMMARY:Gopigeet Amantran Patrika
DESCRIPTION:Topic: Shrimad Bhagwad Geeta Mahatmaya \nTime: Friday\, June 16th\, 2023 to Sunday\, June 18th \nFriday\, June 16th\, Mahaprasad 5:00 PM to 6:15 PM \nVachanamrut\, Nand Mahotsav\, Thakorii Patotsav Tilak 7:30 PM to 9:30 PM \nSaturday\, June 17th\, 3:00 PM to 6:00 PM Vachanamrut & Rasotsav\n6:30PM to 7:30PM Mahaprasad \nSunday\, June 18th\, 12:30PM to 2:30PM Mahaprasad\n3:00 PM to 6:00 PM Vachanamrut\, Vivahkhel \nVenue: Aum Ashram \n6931 Kitchener Rd\, San Antonio TX-78240
URL:https://vaishnavsanghusa.org/event/gopigeet-amantran-patrika/
LOCATION:DFW Hindu Temple\, 1605 N Britain Road\, Irving\, TX\, 75061\, United States
CATEGORIES:Satsang
ATTACH;FMTTYPE=image/jpeg:https://vaishnavsanghusa.org/wp-content/uploads/2023/05/Gopigeet_Amantran-Patrika_Page_1.jpg
END:VEVENT
END:VCALENDAR