BEGIN:VCALENDAR
VERSION:2.0
PRODID:-//Vaishnav Sangh of USA - ECPv6.15.18//NONSGML v1.0//EN
CALSCALE:GREGORIAN
METHOD:PUBLISH
X-ORIGINAL-URL:https://vaishnavsanghusa.org
X-WR-CALDESC:Events for Vaishnav Sangh of USA
REFRESH-INTERVAL;VALUE=DURATION:PT1H
X-Robots-Tag:noindex
X-PUBLISHED-TTL:PT1H
BEGIN:VTIMEZONE
TZID:America/Chicago
BEGIN:DAYLIGHT
TZOFFSETFROM:-0600
TZOFFSETTO:-0500
TZNAME:CDT
DTSTART:20220313T080000
END:DAYLIGHT
BEGIN:STANDARD
TZOFFSETFROM:-0500
TZOFFSETTO:-0600
TZNAME:CST
DTSTART:20221106T070000
END:STANDARD
BEGIN:DAYLIGHT
TZOFFSETFROM:-0600
TZOFFSETTO:-0500
TZNAME:CDT
DTSTART:20230312T080000
END:DAYLIGHT
BEGIN:STANDARD
TZOFFSETFROM:-0500
TZOFFSETTO:-0600
TZNAME:CST
DTSTART:20231105T070000
END:STANDARD
BEGIN:DAYLIGHT
TZOFFSETFROM:-0600
TZOFFSETTO:-0500
TZNAME:CDT
DTSTART:20240310T080000
END:DAYLIGHT
BEGIN:STANDARD
TZOFFSETFROM:-0500
TZOFFSETTO:-0600
TZNAME:CST
DTSTART:20241103T070000
END:STANDARD
END:VTIMEZONE
BEGIN:VEVENT
DTSTART;TZID=America/Chicago:20230619T170000
DTEND;TZID=America/Chicago:20230619T200000
DTSTAMP:20260422T142233
CREATED:20230520T225229Z
LAST-MODIFIED:20230520T232242Z
UID:4500-1687194000-1687204800@vaishnavsanghusa.org
SUMMARY:Pushtimarg
DESCRIPTION:Topic: Pushtimarg \nTime: Monday\, June 19th\, 2023 at 6:00 PM to 8:00 PM \nMahaprasad: 5:00 PM to 6:00 PM \nVenue: Brushy Creek Community Center \n16318 Great Oaks Dr\, Round Rock\, TX-78681
URL:https://vaishnavsanghusa.org/event/pushtimarg/
LOCATION:Brushy Creek Community Center\, 16318 Great Oaks Dr\, Round Rock\, TX\, 78681\, United States
CATEGORIES:Satsang
ATTACH;FMTTYPE=image/jpeg:https://vaishnavsanghusa.org/wp-content/uploads/2023/05/Pushtimarg.jpeg
END:VEVENT
END:VCALENDAR