BEGIN:VCALENDAR
VERSION:2.0
PRODID:-//Vaishnav Sangh of USA - ECPv6.15.18//NONSGML v1.0//EN
CALSCALE:GREGORIAN
METHOD:PUBLISH
X-ORIGINAL-URL:https://vaishnavsanghusa.org
X-WR-CALDESC:Events for Vaishnav Sangh of USA
REFRESH-INTERVAL;VALUE=DURATION:PT1H
X-Robots-Tag:noindex
X-PUBLISHED-TTL:PT1H
BEGIN:VTIMEZONE
TZID:America/New_York
BEGIN:DAYLIGHT
TZOFFSETFROM:-0500
TZOFFSETTO:-0400
TZNAME:EDT
DTSTART:20230312T070000
END:DAYLIGHT
BEGIN:STANDARD
TZOFFSETFROM:-0400
TZOFFSETTO:-0500
TZNAME:EST
DTSTART:20231105T060000
END:STANDARD
BEGIN:DAYLIGHT
TZOFFSETFROM:-0500
TZOFFSETTO:-0400
TZNAME:EDT
DTSTART:20240310T070000
END:DAYLIGHT
BEGIN:STANDARD
TZOFFSETFROM:-0400
TZOFFSETTO:-0500
TZNAME:EST
DTSTART:20241103T060000
END:STANDARD
BEGIN:DAYLIGHT
TZOFFSETFROM:-0500
TZOFFSETTO:-0400
TZNAME:EDT
DTSTART:20250309T070000
END:DAYLIGHT
BEGIN:STANDARD
TZOFFSETFROM:-0400
TZOFFSETTO:-0500
TZNAME:EST
DTSTART:20251102T060000
END:STANDARD
END:VTIMEZONE
BEGIN:VEVENT
DTSTART;TZID=America/New_York:20240414T080000
DTEND;TZID=America/New_York:20240414T170000
DTSTAMP:20260422T052022
CREATED:20240414T153417Z
LAST-MODIFIED:20240414T153417Z
UID:5046-1713081600-1713114000@vaishnavsanghusa.org
SUMMARY:Yamunaji Utsav
DESCRIPTION:Topic: Yamunaji Utsav \nTime: Sunday\, April 21st\, 2024 \n11:30 AM to 2:30 PM \nVenue: VFW 649 Churchmans Road\, Newark DE\, 19702
URL:https://vaishnavsanghusa.org/event/yamunaji-utsav-2/
LOCATION:VFW Delaware\, 649 Churchmans Road\, Newark\, DE\, 19702\, United States
CATEGORIES:Satsang
ATTACH;FMTTYPE=image/jpeg:https://vaishnavsanghusa.org/wp-content/uploads/2024/04/Yamunaji-Utsav.jpeg
END:VEVENT
BEGIN:VEVENT
DTSTART;TZID=America/New_York:20240414T173000
DTEND;TZID=America/New_York:20240414T183000
DTSTAMP:20260422T052022
CREATED:20240414T155437Z
LAST-MODIFIED:20240414T155437Z
UID:5068-1713115800-1713119400@vaishnavsanghusa.org
SUMMARY:Shri Yamunaji Raspan Utsav
DESCRIPTION:Topic: Shri Yamunaji Raspan Utsav \nTime: Sunday\, April 14th\, 2024 at 5:30 PM EST \nVenue: Vrajdham Haveli \n5733 N. Dean Rd\, Orlando\, FL 32817
URL:https://vaishnavsanghusa.org/event/shri-yamunaji-raspan-utsav/
LOCATION:Vrajdham Haveli\, 5733 N. Dean Rd\, Orlando\, FL\, 32817\, United States
CATEGORIES:Satsang
ATTACH;FMTTYPE=image/jpeg:https://vaishnavsanghusa.org/wp-content/uploads/2024/04/Shri-Yamunaji-Raspan-Utsav.jpeg
END:VEVENT
END:VCALENDAR