BEGIN:VCALENDAR
VERSION:2.0
PRODID:-//Vaishnav Sangh of USA - ECPv6.15.18//NONSGML v1.0//EN
CALSCALE:GREGORIAN
METHOD:PUBLISH
X-WR-CALNAME:Vaishnav Sangh of USA
X-ORIGINAL-URL:https://vaishnavsanghusa.org
X-WR-CALDESC:Events for Vaishnav Sangh of USA
REFRESH-INTERVAL;VALUE=DURATION:PT1H
X-Robots-Tag:noindex
X-PUBLISHED-TTL:PT1H
BEGIN:VTIMEZONE
TZID:America/New_York
BEGIN:DAYLIGHT
TZOFFSETFROM:-0500
TZOFFSETTO:-0400
TZNAME:EDT
DTSTART:20230312T070000
END:DAYLIGHT
BEGIN:STANDARD
TZOFFSETFROM:-0400
TZOFFSETTO:-0500
TZNAME:EST
DTSTART:20231105T060000
END:STANDARD
BEGIN:DAYLIGHT
TZOFFSETFROM:-0500
TZOFFSETTO:-0400
TZNAME:EDT
DTSTART:20240310T070000
END:DAYLIGHT
BEGIN:STANDARD
TZOFFSETFROM:-0400
TZOFFSETTO:-0500
TZNAME:EST
DTSTART:20241103T060000
END:STANDARD
BEGIN:DAYLIGHT
TZOFFSETFROM:-0500
TZOFFSETTO:-0400
TZNAME:EDT
DTSTART:20250309T070000
END:DAYLIGHT
BEGIN:STANDARD
TZOFFSETFROM:-0400
TZOFFSETTO:-0500
TZNAME:EST
DTSTART:20251102T060000
END:STANDARD
END:VTIMEZONE
BEGIN:VEVENT
DTSTART;TZID=America/New_York:20240504T120000
DTEND;TZID=America/New_York:20240504T183000
DTSTAMP:20260422T025911
CREATED:20240426T021327Z
LAST-MODIFIED:20240426T021350Z
UID:5078-1714824000-1714847400@vaishnavsanghusa.org
SUMMARY:Shri Mahaprabhuji Pragtya Utsav
DESCRIPTION:Topic: Shri Mahaprabhuji Pragtya Utsav \nMahaprabhuji Tilak Darshan \nTime: Saturday\, May 4th\, 2024 at 12:00 PM to 12:30 PM \nVallabhsakhi Gungaan \nTime: Saturday\, May 4th\, 2024 at 5:30 PM to 6:30 PM \nVenue: Vrajdham Haveli \n5733 N. Dean Rd\, Orlando\, FL 32817
URL:https://vaishnavsanghusa.org/event/shri-mahaprabhuji-pragtya-utsav/
LOCATION:Vrajdham Haveli\, 5733 N. Dean Rd\, Orlando\, FL\, 32817\, United States
CATEGORIES:Satsang
ATTACH;FMTTYPE=image/jpeg:https://vaishnavsanghusa.org/wp-content/uploads/2024/04/Shri-Mahaprabhuji-Pragtya-Utsav.jpeg
END:VEVENT
END:VCALENDAR