BEGIN:VCALENDAR
VERSION:2.0
PRODID:-//Vaishnav Sangh of USA - ECPv6.15.18//NONSGML v1.0//EN
CALSCALE:GREGORIAN
METHOD:PUBLISH
X-WR-CALNAME:Vaishnav Sangh of USA
X-ORIGINAL-URL:https://vaishnavsanghusa.org
X-WR-CALDESC:Events for Vaishnav Sangh of USA
REFRESH-INTERVAL;VALUE=DURATION:PT1H
X-Robots-Tag:noindex
X-PUBLISHED-TTL:PT1H
BEGIN:VTIMEZONE
TZID:America/New_York
BEGIN:DAYLIGHT
TZOFFSETFROM:-0500
TZOFFSETTO:-0400
TZNAME:EDT
DTSTART:20230312T070000
END:DAYLIGHT
BEGIN:STANDARD
TZOFFSETFROM:-0400
TZOFFSETTO:-0500
TZNAME:EST
DTSTART:20231105T060000
END:STANDARD
BEGIN:DAYLIGHT
TZOFFSETFROM:-0500
TZOFFSETTO:-0400
TZNAME:EDT
DTSTART:20240310T070000
END:DAYLIGHT
BEGIN:STANDARD
TZOFFSETFROM:-0400
TZOFFSETTO:-0500
TZNAME:EST
DTSTART:20241103T060000
END:STANDARD
BEGIN:DAYLIGHT
TZOFFSETFROM:-0500
TZOFFSETTO:-0400
TZNAME:EDT
DTSTART:20250309T070000
END:DAYLIGHT
BEGIN:STANDARD
TZOFFSETFROM:-0400
TZOFFSETTO:-0500
TZNAME:EST
DTSTART:20251102T060000
END:STANDARD
END:VTIMEZONE
BEGIN:VEVENT
DTSTART;TZID=America/New_York:20240618T210000
DTEND;TZID=America/New_York:20240618T223000
DTSTAMP:20260422T010754
CREATED:20240605T021603Z
LAST-MODIFIED:20240605T021603Z
UID:5180-1718744400-1718749800@vaishnavsanghusa.org
SUMMARY:Nirjala Ekadashi June
DESCRIPTION:Topic: Nirjala Ekadashi \nTime: Tuesday\, June 18th\, 2024 at 9:00 PM EST (USA & Canada) \nJoin Zoom Meeting https://zoom.us/j/86161034535 Meeting ID: 861 6103 4535 Passcode: 11
URL:https://vaishnavsanghusa.org/event/nirjala-ekadashi-june/
CATEGORIES:Satsang
ATTACH;FMTTYPE=image/jpeg:https://vaishnavsanghusa.org/wp-content/uploads/2024/06/Nirjala-Ekadashi-June.jpeg
END:VEVENT
END:VCALENDAR