BEGIN:VCALENDAR
VERSION:2.0
PRODID:-//Vaishnav Sangh of USA - ECPv6.15.18//NONSGML v1.0//EN
CALSCALE:GREGORIAN
METHOD:PUBLISH
X-ORIGINAL-URL:https://vaishnavsanghusa.org
X-WR-CALDESC:Events for Vaishnav Sangh of USA
REFRESH-INTERVAL;VALUE=DURATION:PT1H
X-Robots-Tag:noindex
X-PUBLISHED-TTL:PT1H
BEGIN:VTIMEZONE
TZID:America/New_York
BEGIN:DAYLIGHT
TZOFFSETFROM:-0500
TZOFFSETTO:-0400
TZNAME:EDT
DTSTART:20230312T070000
END:DAYLIGHT
BEGIN:STANDARD
TZOFFSETFROM:-0400
TZOFFSETTO:-0500
TZNAME:EST
DTSTART:20231105T060000
END:STANDARD
BEGIN:DAYLIGHT
TZOFFSETFROM:-0500
TZOFFSETTO:-0400
TZNAME:EDT
DTSTART:20240310T070000
END:DAYLIGHT
BEGIN:STANDARD
TZOFFSETFROM:-0400
TZOFFSETTO:-0500
TZNAME:EST
DTSTART:20241103T060000
END:STANDARD
BEGIN:DAYLIGHT
TZOFFSETFROM:-0500
TZOFFSETTO:-0400
TZNAME:EDT
DTSTART:20250309T070000
END:DAYLIGHT
BEGIN:STANDARD
TZOFFSETFROM:-0400
TZOFFSETTO:-0500
TZNAME:EST
DTSTART:20251102T060000
END:STANDARD
END:VTIMEZONE
BEGIN:VEVENT
DTSTART;TZID=America/New_York:20240622T170000
DTEND;TZID=America/New_York:20240622T190000
DTSTAMP:20260422T010953
CREATED:20240605T015036Z
LAST-MODIFIED:20240605T015036Z
UID:5165-1719075600-1719082800@vaishnavsanghusa.org
SUMMARY:Shrinathji Charitra
DESCRIPTION:Topic: Shrinathji Charitra \nTime: Saturday and Sunday\, June 22nd and 23rd\, 2024 at 5:00 PM to 7:00 PM \nVenue: Hindu Temple of Delaware \n760 Yorklyn Rd\, Hockessin\, DE 19707
URL:https://vaishnavsanghusa.org/event/shrinathji-charitra/
LOCATION:Hindu temple association of Delaware\, 760 Yorklyn Road\, Hockessin\, DE\, 19707\, United States
CATEGORIES:Satsang
ATTACH;FMTTYPE=image/jpeg:https://vaishnavsanghusa.org/wp-content/uploads/2024/06/Shrinathji-Charitra.jpeg
END:VEVENT
END:VCALENDAR