BEGIN:VCALENDAR
VERSION:2.0
PRODID:-//Vaishnav Sangh of USA - ECPv6.15.18//NONSGML v1.0//EN
CALSCALE:GREGORIAN
METHOD:PUBLISH
X-ORIGINAL-URL:https://vaishnavsanghusa.org
X-WR-CALDESC:Events for Vaishnav Sangh of USA
REFRESH-INTERVAL;VALUE=DURATION:PT1H
X-Robots-Tag:noindex
X-PUBLISHED-TTL:PT1H
BEGIN:VTIMEZONE
TZID:America/New_York
BEGIN:DAYLIGHT
TZOFFSETFROM:-0500
TZOFFSETTO:-0400
TZNAME:EDT
DTSTART:20230312T070000
END:DAYLIGHT
BEGIN:STANDARD
TZOFFSETFROM:-0400
TZOFFSETTO:-0500
TZNAME:EST
DTSTART:20231105T060000
END:STANDARD
BEGIN:DAYLIGHT
TZOFFSETFROM:-0500
TZOFFSETTO:-0400
TZNAME:EDT
DTSTART:20240310T070000
END:DAYLIGHT
BEGIN:STANDARD
TZOFFSETFROM:-0400
TZOFFSETTO:-0500
TZNAME:EST
DTSTART:20241103T060000
END:STANDARD
BEGIN:DAYLIGHT
TZOFFSETFROM:-0500
TZOFFSETTO:-0400
TZNAME:EDT
DTSTART:20250309T070000
END:DAYLIGHT
BEGIN:STANDARD
TZOFFSETFROM:-0400
TZOFFSETTO:-0500
TZNAME:EST
DTSTART:20251102T060000
END:STANDARD
END:VTIMEZONE
BEGIN:VEVENT
DTSTART;TZID=America/New_York:20240626T173000
DTEND;TZID=America/New_York:20240626T203000
DTSTAMP:20260422T010952
CREATED:20240605T024425Z
LAST-MODIFIED:20240605T024653Z
UID:5199-1719423000-1719433800@vaishnavsanghusa.org
SUMMARY:Srimad Bhagwad Gita Katha Mahotsav
DESCRIPTION:Topic: Srimad Bhagwad Gita Katha Mahotsav \nTime: Wednesday – Friday\, June 24th to June 26th\, 2024 at 5:30 PM to 8:30 PM daily \nVenue: Greater Cleveland Shiva Vishnu Temple \n7733 Ridge Rd\, Cleveland\, OH 44129
URL:https://vaishnavsanghusa.org/event/srimad-bhagwad-gita-katha-mahotsav-2024-06-26/
LOCATION:Greater Cleveland Shiva Vishnu Temple\, 7733 Ridge Rd\, Cleveland\, OH\, 44129\, United States
CATEGORIES:Satsang
ATTACH;FMTTYPE=image/jpeg:https://vaishnavsanghusa.org/wp-content/uploads/2024/06/Srimad-Bhagwad-Gita-Katha-Mahotsav.jpeg
END:VEVENT
END:VCALENDAR