BEGIN:VCALENDAR
VERSION:2.0
PRODID:-//Vaishnav Sangh of USA - ECPv6.15.18//NONSGML v1.0//EN
CALSCALE:GREGORIAN
METHOD:PUBLISH
X-ORIGINAL-URL:https://vaishnavsanghusa.org
X-WR-CALDESC:Events for Vaishnav Sangh of USA
REFRESH-INTERVAL;VALUE=DURATION:PT1H
X-Robots-Tag:noindex
X-PUBLISHED-TTL:PT1H
BEGIN:VTIMEZONE
TZID:America/New_York
BEGIN:DAYLIGHT
TZOFFSETFROM:-0500
TZOFFSETTO:-0400
TZNAME:EDT
DTSTART:20240310T070000
END:DAYLIGHT
BEGIN:STANDARD
TZOFFSETFROM:-0400
TZOFFSETTO:-0500
TZNAME:EST
DTSTART:20241103T060000
END:STANDARD
BEGIN:DAYLIGHT
TZOFFSETFROM:-0500
TZOFFSETTO:-0400
TZNAME:EDT
DTSTART:20250309T070000
END:DAYLIGHT
BEGIN:STANDARD
TZOFFSETFROM:-0400
TZOFFSETTO:-0500
TZNAME:EST
DTSTART:20251102T060000
END:STANDARD
BEGIN:DAYLIGHT
TZOFFSETFROM:-0500
TZOFFSETTO:-0400
TZNAME:EDT
DTSTART:20260308T070000
END:DAYLIGHT
BEGIN:STANDARD
TZOFFSETFROM:-0400
TZOFFSETTO:-0500
TZNAME:EST
DTSTART:20261101T060000
END:STANDARD
END:VTIMEZONE
BEGIN:VEVENT
DTSTART;TZID=America/New_York:20250701T170000
DTEND;TZID=America/New_York:20250701T173000
DTSTAMP:20260421T014105
CREATED:20250630T210451Z
LAST-MODIFIED:20250630T210451Z
UID:5658-1751389200-1751391000@vaishnavsanghusa.org
SUMMARY:Kasumbha Chhath
DESCRIPTION:Topic: Kasumbha Chhath \nTime: Tuesday\, July 1st\, 2025 from 5:00 PM to 5:30 PM \nVenue: Vrajdham Haveli \n5733 N. Dean Rd\, Orlando\, FL 32817
URL:https://vaishnavsanghusa.org/event/kasumbha-chhath/
LOCATION:Vrajdham Haveli\, 5733 N. Dean Rd\, Orlando\, FL\, 32817\, United States
CATEGORIES:Satsang
ATTACH;FMTTYPE=image/jpeg:https://vaishnavsanghusa.org/wp-content/uploads/2025/06/Kasumbha-Chhath-July-1st-scaled.jpeg
END:VEVENT
END:VCALENDAR