BEGIN:VCALENDAR
VERSION:2.0
PRODID:-//Vaishnav Sangh of USA - ECPv6.15.18//NONSGML v1.0//EN
CALSCALE:GREGORIAN
METHOD:PUBLISH
X-WR-CALNAME:Vaishnav Sangh of USA
X-ORIGINAL-URL:https://vaishnavsanghusa.org
X-WR-CALDESC:Events for Vaishnav Sangh of USA
REFRESH-INTERVAL;VALUE=DURATION:PT1H
X-Robots-Tag:noindex
X-PUBLISHED-TTL:PT1H
BEGIN:VTIMEZONE
TZID:America/New_York
BEGIN:DAYLIGHT
TZOFFSETFROM:-0500
TZOFFSETTO:-0400
TZNAME:EDT
DTSTART:20230312T070000
END:DAYLIGHT
BEGIN:STANDARD
TZOFFSETFROM:-0400
TZOFFSETTO:-0500
TZNAME:EST
DTSTART:20231105T060000
END:STANDARD
BEGIN:DAYLIGHT
TZOFFSETFROM:-0500
TZOFFSETTO:-0400
TZNAME:EDT
DTSTART:20240310T070000
END:DAYLIGHT
BEGIN:STANDARD
TZOFFSETFROM:-0400
TZOFFSETTO:-0500
TZNAME:EST
DTSTART:20241103T060000
END:STANDARD
BEGIN:DAYLIGHT
TZOFFSETFROM:-0500
TZOFFSETTO:-0400
TZNAME:EDT
DTSTART:20250309T070000
END:DAYLIGHT
BEGIN:STANDARD
TZOFFSETFROM:-0400
TZOFFSETTO:-0500
TZNAME:EST
DTSTART:20251102T060000
END:STANDARD
BEGIN:DAYLIGHT
TZOFFSETFROM:-0500
TZOFFSETTO:-0400
TZNAME:EDT
DTSTART:20260308T070000
END:DAYLIGHT
BEGIN:STANDARD
TZOFFSETFROM:-0400
TZOFFSETTO:-0500
TZNAME:EST
DTSTART:20261101T060000
END:STANDARD
END:VTIMEZONE
BEGIN:VEVENT
DTSTART;TZID=America/New_York:20240731T210000
DTEND;TZID=America/New_York:20240731T223000
DTSTAMP:20260419T135144
CREATED:20240712T015551Z
LAST-MODIFIED:20240712T015551Z
UID:5260-1722459600-1722465000@vaishnavsanghusa.org
SUMMARY:Kamika Ekadashi
DESCRIPTION:Topic: Kamika Ekadashi \nTime: Wednesday\, July 31st\, 2024 at 9:00 PM EST (USA & Canada) \nJoin Zoom Meeting https://zoom.us/j/86161034535 Meeting ID: 861 6103 4535 Passcode: 11
URL:https://vaishnavsanghusa.org/event/kamika-ekadashi-2/
CATEGORIES:Satsang
ATTACH;FMTTYPE=image/jpeg:https://vaishnavsanghusa.org/wp-content/uploads/2024/07/Kamika-Ekadashi1.jpeg
END:VEVENT
BEGIN:VEVENT
DTSTART;TZID=America/New_York:20240816T210000
DTEND;TZID=America/New_York:20240816T223000
DTSTAMP:20260419T135144
CREATED:20240811T181955Z
LAST-MODIFIED:20240811T181955Z
UID:5328-1723842000-1723847400@vaishnavsanghusa.org
SUMMARY:Putrada Ekadashi
DESCRIPTION:Topic: Putrada Ekadashi \nTime: Friday\, August 16th\, 2024 at 9:00 PM EST (USA & Canada) \nJoin Zoom Meeting https://zoom.us/j/8616 1034535 Meeting ID: 861 6103 4535 Passcode: 11
URL:https://vaishnavsanghusa.org/event/putrada-ekadashi-6/
CATEGORIES:Satsang
ATTACH;FMTTYPE=image/jpeg:https://vaishnavsanghusa.org/wp-content/uploads/2024/08/Putrada-Ekadashi-1.jpeg
END:VEVENT
BEGIN:VEVENT
DTSTART;TZID=America/New_York:20240818T170000
DTEND;TZID=America/New_York:20240818T190000
DTSTAMP:20260419T135144
CREATED:20240811T184228Z
LAST-MODIFIED:20240811T184228Z
UID:5345-1724000400-1724007600@vaishnavsanghusa.org
SUMMARY:Sunday Satsang August
DESCRIPTION:Topic: Sunday Satsang August \nTime: Sunday\, August 18th\, 2024 at 5:00 PM \nVenue: Vrajdham Haveli \n5733 N. Dean Rd\, Orlando\, FL 32817
URL:https://vaishnavsanghusa.org/event/sunday-satsang-august/
LOCATION:Vrajdham Haveli\, 5733 N. Dean Rd\, Orlando\, FL\, 32817\, United States
CATEGORIES:Satsang
ATTACH;FMTTYPE=image/jpeg:https://vaishnavsanghusa.org/wp-content/uploads/2024/08/August-18th-Sunday-Satsang.jpeg
END:VEVENT
BEGIN:VEVENT
DTSTART;TZID=America/New_York:20240825T013000
DTEND;TZID=America/New_York:20240825T190000
DTSTAMP:20260419T135144
CREATED:20240811T183018Z
LAST-MODIFIED:20240811T183018Z
UID:5341-1724549400-1724612400@vaishnavsanghusa.org
SUMMARY:Summer Picnic
DESCRIPTION:Topic: Summer Picnic \nTime: Sunday\, August 25th\, 2024 at 1:30 PM to 7:00 PM EST (USA & Canada) \nVenue: Hal and Berni Hanson Regional Park \n41894 Correspondent Dr\, Stone Ridge\, VA 20105
URL:https://vaishnavsanghusa.org/event/summer-picnic/
LOCATION:Hal and Berni Hanson Regional Park\, 41894 Correspondent Dr\, Stone Ridge\, VA\, 20105\, United States
ATTACH;FMTTYPE=image/jpeg:https://vaishnavsanghusa.org/wp-content/uploads/2024/08/SUMMER-PICNIC.jpeg
END:VEVENT
BEGIN:VEVENT
DTSTART;TZID=America/New_York:20240829T210000
DTEND;TZID=America/New_York:20240829T223000
DTSTAMP:20260419T135144
CREATED:20240811T182225Z
LAST-MODIFIED:20240811T182225Z
UID:5332-1724965200-1724970600@vaishnavsanghusa.org
SUMMARY:Aja Ekadashi
DESCRIPTION:Topic: Aja Ekadashi \nTime: Thursday\, August 29th\, 2024 at 9:00 PM EST (USA & Canada) \nJoin Zoom Meeting https://zoom.us /j/86161034535 Meeting ID: 861 6103 4535 Passcode: 11
URL:https://vaishnavsanghusa.org/event/aja-ekadashi-4/
CATEGORIES:Satsang
ATTACH;FMTTYPE=image/jpeg:https://vaishnavsanghusa.org/wp-content/uploads/2024/08/Aja-Ekadashi.jpeg
END:VEVENT
BEGIN:VEVENT
DTSTART;TZID=America/New_York:20241003T180000
DTEND;TZID=America/New_York:20241011T203000
DTSTAMP:20260419T135144
CREATED:20241002T005927Z
LAST-MODIFIED:20241023T010517Z
UID:5418-1727978400-1728678600@vaishnavsanghusa.org
SUMMARY:Nav Villas
DESCRIPTION:Topic: Nav Villas \nTime: Thursday\, October 3rd\, 2024 to Friday\, October 11th\, 2024 from 6:00 PM to 8:30 PM daily \nVenue: Vrajdham Haveli \n5733 N. Dean Rd\, Orlando\, FL 32817
URL:https://vaishnavsanghusa.org/event/nav-villas/
LOCATION:Vrajdham Haveli\, 5733 N. Dean Rd\, Orlando\, FL\, 32817\, United States
CATEGORIES:Traditions
ATTACH;FMTTYPE=image/jpeg:https://vaishnavsanghusa.org/wp-content/uploads/2024/10/Nav-Villas.jpeg
END:VEVENT
BEGIN:VEVENT
DTSTART;TZID=America/New_York:20241014T210000
DTEND;TZID=America/New_York:20241014T223000
DTSTAMP:20260419T135144
CREATED:20241002T010619Z
LAST-MODIFIED:20241023T010853Z
UID:5422-1728939600-1728945000@vaishnavsanghusa.org
SUMMARY:Pashankusha Ekadashi
DESCRIPTION:Topic: Pashankusha Ekadashi \nTime: Monday\, October 14th\, 2024 at 9:00 PM EST (USA & Canada) \nJoin Zoom Meeting https://zoom.us /j/86161034535 Meeting ID: 861 6103 4535 Passcode: 11
URL:https://vaishnavsanghusa.org/event/pashankusha-ekadashi-3/
CATEGORIES:Satsang
ATTACH;FMTTYPE=image/jpeg:https://vaishnavsanghusa.org/wp-content/uploads/2024/10/Pashankusha-Ekadashi.jpeg
END:VEVENT
BEGIN:VEVENT
DTSTART;TZID=America/New_York:20241016T180000
DTEND;TZID=America/New_York:20241016T203000
DTSTAMP:20260419T135144
CREATED:20241002T011054Z
LAST-MODIFIED:20241023T011324Z
UID:5430-1729101600-1729110600@vaishnavsanghusa.org
SUMMARY:Sharad Poonam
DESCRIPTION:Topic: Sharad Poonam \nTime: Wednesday\, October 16th\, 2024 from 6:00 PM to 8:30 PM \nVenue: Vrajdham Haveli \n5733 N. Dean Rd\, Orlando\, FL 32817
URL:https://vaishnavsanghusa.org/event/sharad-poonam/
LOCATION:Vrajdham Haveli\, 5733 N. Dean Rd\, Orlando\, FL\, 32817\, United States
CATEGORIES:Traditions
ATTACH;FMTTYPE=image/jpeg:https://vaishnavsanghusa.org/wp-content/uploads/2024/10/Sharad-Poonam-scaled.jpeg
END:VEVENT
BEGIN:VEVENT
DTSTART;TZID=America/New_York:20241020T170000
DTEND;TZID=America/New_York:20241020T190000
DTSTAMP:20260419T135144
CREATED:20241002T011616Z
LAST-MODIFIED:20241023T011626Z
UID:5434-1729443600-1729450800@vaishnavsanghusa.org
SUMMARY:Sunday Satsang October
DESCRIPTION:Topic: Sunday Satsang October \nTime: Sunday\, October 20th\, 2024 at 5:00 PM \nVenue: Vrajdham Haveli \n5733 N. Dean Rd\, Orlando\, FL 32817
URL:https://vaishnavsanghusa.org/event/sunday-satsang-october/
LOCATION:Vrajdham Haveli\, 5733 N. Dean Rd\, Orlando\, FL\, 32817\, United States
CATEGORIES:Satsang
ATTACH;FMTTYPE=image/jpeg:https://vaishnavsanghusa.org/wp-content/uploads/2024/10/Sunday-Satsang-October.jpeg
END:VEVENT
BEGIN:VEVENT
DTSTART;TZID=America/New_York:20241028T180000
DTEND;TZID=America/New_York:20241102T193000
DTSTAMP:20260419T135144
CREATED:20241023T011926Z
LAST-MODIFIED:20241023T011926Z
UID:5438-1730138400-1730575800@vaishnavsanghusa.org
SUMMARY:Diwali at Vrajdham Haveli
DESCRIPTION:Topic: Diwali at Vrajdham Haveli \nTime: Monday\, October 28th\, 2024 to November 2nd \nVenue: Vrajdham Haveli \n5733 N. Dean Rd\, Orlando\, FL 32817
URL:https://vaishnavsanghusa.org/event/diwali-at-vrajdham-haveli/
LOCATION:Vrajdham Haveli\, 5733 N. Dean Rd\, Orlando\, FL\, 32817\, United States
ATTACH;FMTTYPE=image/jpeg:https://vaishnavsanghusa.org/wp-content/uploads/2024/10/Diwali-at-Vrajdham-Haveli-scaled.jpeg
END:VEVENT
BEGIN:VEVENT
DTSTART;TZID=America/New_York:20241028T210000
DTEND;TZID=America/New_York:20241028T223000
DTSTAMP:20260419T135144
CREATED:20241023T011040Z
LAST-MODIFIED:20241023T011040Z
UID:5426-1730149200-1730154600@vaishnavsanghusa.org
SUMMARY:Rama Ekadashi
DESCRIPTION:Topic: Rama Ekadashi \nTime: Monday\, October 28th\, 2024 at 9:00 PM EST (USA & Canada) \nJoin Zoom Meeting https://zoom.us /j/86161034535 Meeting ID: 861 6103 4535 Passcode: 11
URL:https://vaishnavsanghusa.org/event/rama-ekadashi-3/
CATEGORIES:Satsang
ATTACH;FMTTYPE=image/jpeg:https://vaishnavsanghusa.org/wp-content/uploads/2024/10/Rama-Ekadashi.jpeg
END:VEVENT
BEGIN:VEVENT
DTSTART;TZID=America/New_York:20241110T113000
DTEND;TZID=America/New_York:20241110T143000
DTSTAMP:20260419T135144
CREATED:20241101T225837Z
LAST-MODIFIED:20241119T000139Z
UID:5465-1731238200-1731249000@vaishnavsanghusa.org
SUMMARY:Annakut Mahotsav Delaware
DESCRIPTION:Topic: Annakut Mahamahotsav Delaware \nTime: Sunday\, November 10th\, 2024 from 11:30 AM to 2:30 PM \nVenue: Nur Shrine Center \n198 S DuPont Hwy. New Castle. DE 19720
URL:https://vaishnavsanghusa.org/event/annakut-mahotsav-delaware/
LOCATION:Nur Shrine Center\, 198 S DuPont Hwy\, New Castle\, DE\, 19720\, United States
CATEGORIES:Satsang
ATTACH;FMTTYPE=image/jpeg:https://vaishnavsanghusa.org/wp-content/uploads/2024/11/Annakut-Mahotsav.jpeg
END:VEVENT
BEGIN:VEVENT
DTSTART;TZID=America/New_York:20241112T210000
DTEND;TZID=America/New_York:20241112T223000
DTSTAMP:20260419T135144
CREATED:20241101T230207Z
LAST-MODIFIED:20241119T000340Z
UID:5469-1731445200-1731450600@vaishnavsanghusa.org
SUMMARY:Prabodhini Ekadashi
DESCRIPTION:Topic: Prabodhini Ekadashi \nTime: Tuesday\, November 12th\, 2024 at 9:00 PM EST (USA & Canada) \nJoin Zoom Meeting https://zoom.us /j/86161034535 Meeting ID: 861 6103 4535 Passcode: 11
URL:https://vaishnavsanghusa.org/event/prabodhini-ekadashi-3/
CATEGORIES:Satsang
ATTACH;FMTTYPE=image/jpeg:https://vaishnavsanghusa.org/wp-content/uploads/2024/11/Prabodhini-Ekadashi.jpeg
END:VEVENT
BEGIN:VEVENT
DTSTART;TZID=America/New_York:20241117T160000
DTEND;TZID=America/New_York:20241117T170000
DTSTAMP:20260419T135144
CREATED:20241101T230603Z
LAST-MODIFIED:20241119T000812Z
UID:5477-1731859200-1731862800@vaishnavsanghusa.org
SUMMARY:Annkut Utsav Virginia
DESCRIPTION:Topic: Annkut Utsav Virginia \nTime: Sunday\, November 17th\, 2024 at 4:00 PM onwards \nVenue: Rajdhani Mandir (Prayer Hall) \n4525 Pleasant Valley Rd\, Chantilly\, VA 20151 \n 
URL:https://vaishnavsanghusa.org/event/annkut-utsav-virginia/
LOCATION:Rajdhani Mandir\, 4525 Pleasant Valley Rd\, Chantilly\, VA\, 20151\, United States
CATEGORIES:Satsang
ATTACH;FMTTYPE=image/jpeg:https://vaishnavsanghusa.org/wp-content/uploads/2024/11/Annkut-Utsav-scaled.jpeg
END:VEVENT
BEGIN:VEVENT
DTSTART;TZID=America/New_York:20241117T170000
DTEND;TZID=America/New_York:20241117T183000
DTSTAMP:20260419T135144
CREATED:20241101T230358Z
LAST-MODIFIED:20241119T000548Z
UID:5473-1731862800-1731868200@vaishnavsanghusa.org
SUMMARY:Sunday Satsang November
DESCRIPTION:Topic: Sunday Satsang November \nTime: Sunday\, November 17th\, 2024 at 5:00 PM onwards \nVenue: Vrajdham Haveli \n5733 N. Dean Rd\, Orlando\, FL 32817
URL:https://vaishnavsanghusa.org/event/sunday-satsang-november/
LOCATION:Vrajdham Haveli\, 5733 N. Dean Rd\, Orlando\, FL\, 32817\, United States
CATEGORIES:Satsang
ATTACH;FMTTYPE=image/jpeg:https://vaishnavsanghusa.org/wp-content/uploads/2024/11/Sunday-Satsang-November.jpeg
END:VEVENT
BEGIN:VEVENT
DTSTART;TZID=America/New_York:20241124T100000
DTEND;TZID=America/New_York:20241124T140000
DTSTAMP:20260419T135144
CREATED:20241023T012232Z
LAST-MODIFIED:20241023T012232Z
UID:5442-1732442400-1732456800@vaishnavsanghusa.org
SUMMARY:Annakut Mahamahotsav at Vrajdham Haveli
DESCRIPTION:Topic: Annakut Mahamahotsav at Vrajdham Haveli \nTime: Sunday\, November 24th\, 2024 at 10:00 AM onwards \nVenue: Vrajdham Haveli \n5733 N. Dean Rd\, Orlando\, FL 32817
URL:https://vaishnavsanghusa.org/event/annakut-mahamahotsav-at-vrajdham-haveli/
LOCATION:Vrajdham Haveli\, 5733 N. Dean Rd\, Orlando\, FL\, 32817\, United States
CATEGORIES:Satsang
ATTACH;FMTTYPE=image/jpeg:https://vaishnavsanghusa.org/wp-content/uploads/2024/10/Annakut-Mahamahotsav-at-Vrajdham-Haveli-scaled.jpeg
END:VEVENT
BEGIN:VEVENT
DTSTART;TZID=America/New_York:20250310T210000
DTEND;TZID=America/New_York:20250310T220000
DTSTAMP:20260419T135144
CREATED:20250310T022101Z
LAST-MODIFIED:20250312T022719Z
UID:5553-1741640400-1741644000@vaishnavsanghusa.org
SUMMARY:Kunj Ekadashi
DESCRIPTION:Topic: Kunj Ekadashi \nTime: Monday\, March 10th\, 2025 at 9:00 PM EST (USA & Canada) \nJoin Zoom Meeting https://zoom.us /j/86161034535 Meeting ID: 861 6103 4535 Passcode: 11
URL:https://vaishnavsanghusa.org/event/kunj-ekadashi-2/
CATEGORIES:Satsang
ATTACH;FMTTYPE=image/jpeg:https://vaishnavsanghusa.org/wp-content/uploads/2025/03/Kunj-Ekadashi-March-10th.jpeg
END:VEVENT
BEGIN:VEVENT
DTSTART;TZID=America/New_York:20250313T180000
DTEND;TZID=America/New_York:20250313T200000
DTSTAMP:20260419T135144
CREATED:20250312T023502Z
LAST-MODIFIED:20250312T024759Z
UID:5557-1741888800-1741896000@vaishnavsanghusa.org
SUMMARY:Holi Utsav
DESCRIPTION:Topic: Holi Utsav \nTime: Thursday\, March 13th\, 2025 at 6:00 PM followed by Shayan Darshan \nVenue: Vrajdham Haveli \n5733 N. Dean Rd\, Orlando\, FL 32817
URL:https://vaishnavsanghusa.org/event/holi-utsav/
LOCATION:Vrajdham Haveli\, 5733 N. Dean Rd\, Orlando\, FL\, 32817\, United States
CATEGORIES:Satsang
ATTACH;FMTTYPE=image/jpeg:https://vaishnavsanghusa.org/wp-content/uploads/2025/03/Holi-Utsav-March-13th-scaled.jpeg
END:VEVENT
BEGIN:VEVENT
DTSTART;TZID=America/New_York:20250314T120000
DTEND;TZID=America/New_York:20250314T193000
DTSTAMP:20260419T135144
CREATED:20250312T025016Z
LAST-MODIFIED:20250312T025016Z
UID:5561-1741953600-1741980600@vaishnavsanghusa.org
SUMMARY:Dolutsav
DESCRIPTION:Topic: Dolutsav \nTime: Friday\, March 14th\, 2025 from 12:00 PM onwards \nVenue: Vrajdham Haveli \n5733 N. Dean Rd\, Orlando\, FL 32817
URL:https://vaishnavsanghusa.org/event/dolutsav/
LOCATION:Vrajdham Haveli\, 5733 N. Dean Rd\, Orlando\, FL\, 32817\, United States
CATEGORIES:Satsang
ATTACH;FMTTYPE=image/jpeg:https://vaishnavsanghusa.org/wp-content/uploads/2025/03/Dolutsav-March-14th-scaled.jpeg
END:VEVENT
BEGIN:VEVENT
DTSTART;TZID=America/New_York:20250316T113000
DTEND;TZID=America/New_York:20250316T143000
DTSTAMP:20260419T135144
CREATED:20250312T223729Z
LAST-MODIFIED:20250312T223739Z
UID:5570-1742124600-1742135400@vaishnavsanghusa.org
SUMMARY:Fulfaag Manorath Newark
DESCRIPTION:Topic: Fulfaag Manorath \nTime: Sunday\, March 16th\, 2025 at 11:30 AM to 2:30 PM \nVenue: VFW \n649 Churchmans Road\, Newark\, DE 19702
URL:https://vaishnavsanghusa.org/event/fulfaag-manorath-newark/
LOCATION:VFW Delaware\, 649 Churchmans Road\, Newark\, DE\, 19702\, United States
CATEGORIES:Satsang
ATTACH;FMTTYPE=image/jpeg:https://vaishnavsanghusa.org/wp-content/uploads/2025/03/Fulfaag-Manorath-Newark-March-16th.jpeg
END:VEVENT
BEGIN:VEVENT
DTSTART;TZID=America/New_York:20250316T170000
DTEND;TZID=America/New_York:20250316T190000
DTSTAMP:20260419T135144
CREATED:20250312T223154Z
LAST-MODIFIED:20250312T223154Z
UID:5566-1742144400-1742151600@vaishnavsanghusa.org
SUMMARY:Sunday Satsang March 2025
DESCRIPTION:Topic: Sunday Satsang March 2025 \nTime: Sunday\, March 16th\, 2024 at 5:00 PM onwards \nVenue: Vrajdham Haveli \n5733 N. Dean Rd\, Orlando\, FL 32817
URL:https://vaishnavsanghusa.org/event/sunday-satsang-march-2025/
LOCATION:Vrajdham Haveli\, 5733 N. Dean Rd\, Orlando\, FL\, 32817\, United States
CATEGORIES:Satsang
ATTACH;FMTTYPE=image/jpeg:https://vaishnavsanghusa.org/wp-content/uploads/2025/03/Sunday-Satsang-March-16.jpeg
END:VEVENT
BEGIN:VEVENT
DTSTART;TZID=America/New_York:20250316T170000
DTEND;TZID=America/New_York:20250316T190000
DTSTAMP:20260419T135144
CREATED:20250312T224021Z
LAST-MODIFIED:20250312T224128Z
UID:5574-1742144400-1742151600@vaishnavsanghusa.org
SUMMARY:Fulfaag Manorath Orlando
DESCRIPTION:Topic: Fulfaag Manorath Orlando \nTime: Sunday\, March 16th\, 2025 5:30 PM onwards \nSatsang\, Manorath Followed by Prasad \nVenue: Vrajdham Haveli \n5733 N. Dean Rd\, Orlando\, FL 32817
URL:https://vaishnavsanghusa.org/event/fulfaag-manorath-orlando/
LOCATION:Vrajdham Haveli\, 5733 N. Dean Rd\, Orlando\, FL\, 32817\, United States
CATEGORIES:Satsang
ATTACH;FMTTYPE=image/jpeg:https://vaishnavsanghusa.org/wp-content/uploads/2025/03/Fulfaag-Manorath-Orlando-March-16th-scaled.jpeg
END:VEVENT
BEGIN:VEVENT
DTSTART;TZID=America/New_York:20250403T180000
DTEND;TZID=America/New_York:20250403T190000
DTSTAMP:20260419T135144
CREATED:20250403T163804Z
LAST-MODIFIED:20250426T164137Z
UID:5600-1743703200-1743706800@vaishnavsanghusa.org
SUMMARY:Yamunaji Utsav
DESCRIPTION:Topic: Yamunaji Utsav \nTime: Thursday\, April 3rd\, 2025 6:00 PM onwards \nYamunaji Gungaan & Ras Garba \nVenue: Vrajdham Haveli \n5733 N. Dean Rd\, Orlando\, FL 32817
URL:https://vaishnavsanghusa.org/event/yamunaji-utsav-3/
LOCATION:Vrajdham Haveli\, 5733 N. Dean Rd\, Orlando\, FL\, 32817\, United States
CATEGORIES:Satsang
ATTACH;FMTTYPE=image/jpeg:https://vaishnavsanghusa.org/wp-content/uploads/2025/04/Yamunaji-Utsav-April-3-scaled.jpeg
END:VEVENT
BEGIN:VEVENT
DTSTART;TZID=America/New_York:20250406T080000
DTEND;TZID=America/New_York:20250406T170000
DTSTAMP:20260419T135144
CREATED:20250402T164548Z
LAST-MODIFIED:20250426T164821Z
UID:5604-1743926400-1743958800@vaishnavsanghusa.org
SUMMARY:Ram Navmi Utsav
DESCRIPTION:Topic: Ram Navmi Utsav \nTime: Saturday\, April 6th\, 2025 12:00 PM to 12:30 PM \nShaligramji Panchamrut & Fulmandali Darshan \nVenue: Vrajdham Haveli \n5733 N. Dean Rd\, Orlando\, FL 32817
URL:https://vaishnavsanghusa.org/event/ram-navmi-utsav/
LOCATION:Vrajdham Haveli\, 5733 N. Dean Rd\, Orlando\, FL\, 32817\, United States
CATEGORIES:Satsang
ATTACH;FMTTYPE=image/jpeg:https://vaishnavsanghusa.org/wp-content/uploads/2025/04/Ram-Navmi-Utsav-April-6-scaled.jpeg
END:VEVENT
BEGIN:VEVENT
DTSTART;TZID=America/New_York:20250408T210000
DTEND;TZID=America/New_York:20250408T220000
DTSTAMP:20260419T135144
CREATED:20250402T165142Z
LAST-MODIFIED:20250426T165343Z
UID:5609-1744146000-1744149600@vaishnavsanghusa.org
SUMMARY:Kamada Ekadashi
DESCRIPTION:Topic: Kamada Ekadashi \nTime: Tuesday\, April 8th\, 2025 at 9:00 PM EST (USA & Canada) \nJoin Zoom Meeting https://zoom.us /j/86161034535 Meeting ID: 861 6103 4535 Passcode: 11
URL:https://vaishnavsanghusa.org/event/kamada-ekadashi-4/
CATEGORIES:Satsang
ATTACH;FMTTYPE=image/jpeg:https://vaishnavsanghusa.org/wp-content/uploads/2025/04/Kamada-Ekadashi-April-8.jpeg
END:VEVENT
BEGIN:VEVENT
DTSTART;TZID=America/New_York:20250413T150000
DTEND;TZID=America/New_York:20250413T180000
DTSTAMP:20260419T135144
CREATED:20250402T170821Z
LAST-MODIFIED:20250426T171154Z
UID:5622-1744556400-1744567200@vaishnavsanghusa.org
SUMMARY:Shri Mahaprabhuji Pragatya Utsav
DESCRIPTION:Topic: Shri Mahaprabhuji Pragatya Utsav \nTime: Sunday\, April 13th\, 2024 at 3:00 PM onwards \nVenue: Skaggs Elementary \n3201 Russel Creek Rd \nPlano\, TX 75025
URL:https://vaishnavsanghusa.org/event/shri-mahaprabhuji-pragatya-utsav/
LOCATION:Skaggs Elementary\, 3201 Russel Creek Rd\, Planto\, 75025\, United States
CATEGORIES:Satsang
ATTACH;FMTTYPE=image/jpeg:https://vaishnavsanghusa.org/wp-content/uploads/2025/04/Shri-Mahaprabhuji-Pragatya-Utsav-April-13-2.jpeg
END:VEVENT
BEGIN:VEVENT
DTSTART;TZID=America/New_York:20250420T160000
DTEND;TZID=America/New_York:20250420T180000
DTSTAMP:20260419T135144
CREATED:20250402T171316Z
LAST-MODIFIED:20250426T171612Z
UID:5626-1745164800-1745172000@vaishnavsanghusa.org
SUMMARY:Mahaprahbhuji Pragatya Utsav
DESCRIPTION:Topic: Mahaprahbhuji Pragatya Utsav \nTime: Sunday\, April 20th\, 2025 at 4:00 PM onwards \nVenue: Rajdhani Mandir(Prayer Hall) \n4525 Pleasant Valley Rd\, Chantilly\, VA 20151
URL:https://vaishnavsanghusa.org/event/mahaprahbhuji-pragatya-utsav/
LOCATION:Rajdhani Mandir\, 4525 Pleasant Valley Rd\, Chantilly\, VA\, 20151\, United States
CATEGORIES:Satsang
ATTACH;FMTTYPE=image/jpeg:https://vaishnavsanghusa.org/wp-content/uploads/2025/04/Mahaprahbhuji-Pragatya-Utsav-April-20.jpeg
END:VEVENT
BEGIN:VEVENT
DTSTART;TZID=America/New_York:20250420T170000
DTEND;TZID=America/New_York:20250420T180000
DTSTAMP:20260419T135144
CREATED:20250402T171633Z
LAST-MODIFIED:20250426T171838Z
UID:5630-1745168400-1745172000@vaishnavsanghusa.org
SUMMARY:Sunday Satsang April
DESCRIPTION:Topic: Sunday Satsang April 2025 \nTime: Sunday\, April 20th\, 2025 at 5:00 PM onwards \nVenue: Vrajdham Haveli \n5733 N. Dean Rd\, Orlando\, FL 32817
URL:https://vaishnavsanghusa.org/event/sunday-satsang-april/
LOCATION:Vrajdham Haveli\, 5733 N. Dean Rd\, Orlando\, FL\, 32817\, United States
CATEGORIES:Satsang
ATTACH;FMTTYPE=image/jpeg:https://vaishnavsanghusa.org/wp-content/uploads/2025/04/Sunday-Satsang-April-20.jpeg
END:VEVENT
BEGIN:VEVENT
DTSTART;TZID=America/New_York:20250427T180000
DTEND;TZID=America/New_York:20250427T190000
DTSTAMP:20260419T135144
CREATED:20250426T172706Z
LAST-MODIFIED:20250426T172706Z
UID:5634-1745776800-1745780400@vaishnavsanghusa.org
SUMMARY:Shri Mahaprabhuji Utsav
DESCRIPTION:Topic: Shri Mahaprabhuji Utsav \nTime: Sunday\, April 27th\, 2025 from 6:00 PM to 7:00 PM \nVenue: Vrajdham Haveli \n5733 N. Dean Rd\, Orlando\, FL 32817
URL:https://vaishnavsanghusa.org/event/shri-mahaprabhuji-utsav/
LOCATION:Vrajdham Haveli\, 5733 N. Dean Rd\, Orlando\, FL\, 32817\, United States
CATEGORIES:Satsang
ATTACH;FMTTYPE=image/jpeg:https://vaishnavsanghusa.org/wp-content/uploads/2025/04/Shri-Mahaprabhuji-Utsav-April-27-scaled.jpeg
END:VEVENT
BEGIN:VEVENT
DTSTART;TZID=America/New_York:20250503T120000
DTEND;TZID=America/New_York:20250503T170000
DTSTAMP:20260419T135144
CREATED:20250426T173410Z
LAST-MODIFIED:20250426T173647Z
UID:5638-1746273600-1746291600@vaishnavsanghusa.org
SUMMARY:Holi & Kite Festival
DESCRIPTION:Topic: Holi & Kite Festival \nTime: Saturday\, May 3rd\, 2025\, from 12:00 PM to 5:00 PM onwards \nVenue: Brandywine Creek State Park \n41 Adams Dam Rd\, Wilmington\, DE 19807
URL:https://vaishnavsanghusa.org/event/holi-kite-festival-2/
LOCATION:Brandywine Creek State Park\, 41 Adams Dam Rd\, Wilmington\, FL\, 19807\, United States
CATEGORIES:Traditions
ATTACH;FMTTYPE=image/jpeg:https://vaishnavsanghusa.org/wp-content/uploads/2025/04/Holi-Kite-Festival-May-3.jpeg
END:VEVENT
END:VCALENDAR