BEGIN:VCALENDAR
VERSION:2.0
PRODID:-//Vaishnav Sangh of USA - ECPv6.15.18//NONSGML v1.0//EN
CALSCALE:GREGORIAN
METHOD:PUBLISH
X-WR-CALNAME:Vaishnav Sangh of USA
X-ORIGINAL-URL:https://vaishnavsanghusa.org
X-WR-CALDESC:Events for Vaishnav Sangh of USA
REFRESH-INTERVAL;VALUE=DURATION:PT1H
X-Robots-Tag:noindex
X-PUBLISHED-TTL:PT1H
BEGIN:VTIMEZONE
TZID:America/New_York
BEGIN:DAYLIGHT
TZOFFSETFROM:-0500
TZOFFSETTO:-0400
TZNAME:EDT
DTSTART:20240310T070000
END:DAYLIGHT
BEGIN:STANDARD
TZOFFSETFROM:-0400
TZOFFSETTO:-0500
TZNAME:EST
DTSTART:20241103T060000
END:STANDARD
BEGIN:DAYLIGHT
TZOFFSETFROM:-0500
TZOFFSETTO:-0400
TZNAME:EDT
DTSTART:20250309T070000
END:DAYLIGHT
BEGIN:STANDARD
TZOFFSETFROM:-0400
TZOFFSETTO:-0500
TZNAME:EST
DTSTART:20251102T060000
END:STANDARD
BEGIN:DAYLIGHT
TZOFFSETFROM:-0500
TZOFFSETTO:-0400
TZNAME:EDT
DTSTART:20260308T070000
END:DAYLIGHT
BEGIN:STANDARD
TZOFFSETFROM:-0400
TZOFFSETTO:-0500
TZNAME:EST
DTSTART:20261101T060000
END:STANDARD
BEGIN:DAYLIGHT
TZOFFSETFROM:-0500
TZOFFSETTO:-0400
TZNAME:EDT
DTSTART:20270314T070000
END:DAYLIGHT
BEGIN:STANDARD
TZOFFSETFROM:-0400
TZOFFSETTO:-0500
TZNAME:EST
DTSTART:20271107T060000
END:STANDARD
END:VTIMEZONE
BEGIN:VEVENT
DTSTART;TZID=America/New_York:20250721T210000
DTEND;TZID=America/New_York:20250721T220000
DTSTAMP:20260419T091039
CREATED:20250630T220424Z
LAST-MODIFIED:20250630T220526Z
UID:5683-1753131600-1753135200@vaishnavsanghusa.org
SUMMARY:Kamika Ekadashi
DESCRIPTION:Topic: Kamika Ekadashi \nTime: Monday\, July 21st\, 2025\, at 9:00 PM EST (USA & Canada) \nJoin Zoom Meeting https://zoom.us /j/86161034535 Meeting ID: 861 6103 4535 Passcode: 11
URL:https://vaishnavsanghusa.org/event/kamika-ekadashi-3/
LOCATION:VA
CATEGORIES:Satsang
ATTACH;FMTTYPE=image/jpeg:https://vaishnavsanghusa.org/wp-content/uploads/2025/06/Kamika-Ekadashi-July-21.jpeg
END:VEVENT
BEGIN:VEVENT
DTSTART;TZID=America/New_York:20250805T210000
DTEND;TZID=America/New_York:20250805T223000
DTSTAMP:20260419T091039
CREATED:20250804T011258Z
LAST-MODIFIED:20250808T011708Z
UID:5740-1754427600-1754433000@vaishnavsanghusa.org
SUMMARY:Putrada Ekadashi
DESCRIPTION:Topic: Kamika Ekadashi \nTime: Tuesday\, August 5th\, 2025\, at 9:00 PM EST (USA & Canada) \nJoin Zoom Meeting https://zoom.us /j/86161034535 Meeting ID: 861 6103 4535 Passcode: 11
URL:https://vaishnavsanghusa.org/event/putrada-ekadashi-7/
LOCATION:VA
CATEGORIES:Satsang
ATTACH;FMTTYPE=image/jpeg:https://vaishnavsanghusa.org/wp-content/uploads/2025/08/Putrada-Ekadashi-August-5.jpeg
END:VEVENT
BEGIN:VEVENT
DTSTART;TZID=America/New_York:20250807T080000
DTEND;TZID=America/New_York:20250807T170000
DTSTAMP:20260419T091039
CREATED:20250808T013201Z
LAST-MODIFIED:20250808T013201Z
UID:5755-1754553600-1754586000@vaishnavsanghusa.org
SUMMARY:Aja Ekadashi
DESCRIPTION:Topic: Aja Ekadashi \nTime: Tuesday\, August 19st\, 2025\, at 9:00 PM EST (USA & Canada) \nJoin Zoom Meeting https://zoom.us /j/86161034535 Meeting ID: 861 6103 4535 Passcode: 11
URL:https://vaishnavsanghusa.org/event/aja-ekadashi-5/
LOCATION:VA
CATEGORIES:Satsang
ATTACH;FMTTYPE=image/jpeg:https://vaishnavsanghusa.org/wp-content/uploads/2025/08/Aja-Ekadashi-Aug-19.jpeg
END:VEVENT
BEGIN:VEVENT
DTSTART;TZID=America/New_York:20250817T160000
DTEND;TZID=America/New_York:20250817T180000
DTSTAMP:20260419T091039
CREATED:20250808T012232Z
LAST-MODIFIED:20250808T012232Z
UID:5744-1755446400-1755453600@vaishnavsanghusa.org
SUMMARY:Nand Mahotsav
DESCRIPTION:Topic: Nand Mahotsav \nTime: Sunday\, August 17th\, 2025\, at 4:00 PM \nVenue: Rajdhani Mandir (Prayer Hall) \n4525 Pleasant Valley Rd\, Chantilly\, VA 20151
URL:https://vaishnavsanghusa.org/event/nand-mahotsav-4/
LOCATION:Rajdhani Mandir\, 4525 Pleasant Valley Rd\, Chantilly\, VA\, 20151\, United States
ATTACH;FMTTYPE=image/jpeg:https://vaishnavsanghusa.org/wp-content/uploads/2025/08/Nand-Mahotsav-August-17.jpeg
END:VEVENT
BEGIN:VEVENT
DTSTART;TZID=America/New_York:20250817T170000
DTEND;TZID=America/New_York:20250817T180000
DTSTAMP:20260419T091039
CREATED:20250808T012913Z
LAST-MODIFIED:20250808T012913Z
UID:5751-1755450000-1755453600@vaishnavsanghusa.org
SUMMARY:Sunday Satsang August
DESCRIPTION:Topic: Sunday Satsang August 2025 \nTime: Sunday\, August 17th\, 2025 at 5:00 PM onwards \nVenue: Vrajdham Haveli \n5733 N. Dean Rd\, Orlando\, FL 32817
URL:https://vaishnavsanghusa.org/event/sunday-satsang-august-2/
LOCATION:Vrajdham Haveli\, 5733 N. Dean Rd\, Orlando\, FL\, 32817\, United States
CATEGORIES:Satsang
ATTACH;FMTTYPE=image/jpeg:https://vaishnavsanghusa.org/wp-content/uploads/2025/08/Sunday-Satsang-August-17.jpeg
END:VEVENT
BEGIN:VEVENT
DTSTART;TZID=America/New_York:20250824T113000
DTEND;TZID=America/New_York:20250824T143000
DTSTAMP:20260419T091039
CREATED:20250808T013444Z
LAST-MODIFIED:20250808T013444Z
UID:5759-1756035000-1756045800@vaishnavsanghusa.org
SUMMARY:Nand Mahotsav
DESCRIPTION:Topic: Nand Mahotsav \nTime: Sunday\, August 24th\, 2025\, from 11:30 AM to 2:30 PM \nVenue: VFW Hall \n649 Churchman Road\, Newark\, DE 19702
URL:https://vaishnavsanghusa.org/event/nand-mahotsav-5/
LOCATION:VFW Delaware\, 649 Churchmans Road\, Newark\, DE\, 19702\, United States
CATEGORIES:Satsang
ATTACH;FMTTYPE=image/jpeg:https://vaishnavsanghusa.org/wp-content/uploads/2025/08/Nand-Mahotsav-August-24.jpeg
END:VEVENT
BEGIN:VEVENT
DTSTART;TZID=America/New_York:20250831T173000
DTEND;TZID=America/New_York:20250831T183000
DTSTAMP:20260419T091039
CREATED:20250830T163530Z
LAST-MODIFIED:20250906T163728Z
UID:5802-1756661400-1756665000@vaishnavsanghusa.org
SUMMARY:Radhashtmi
DESCRIPTION:Topic: Radhashtmi \nTime: Sunday\, August 31st\, 2025 at 5:30 PM onwards \nVenue: Vrajdham Haveli \n5733 N. Dean Rd\, Orlando\, FL 32817
URL:https://vaishnavsanghusa.org/event/radhashtmi/
LOCATION:Vrajdham Haveli\, 5733 N. Dean Rd\, Orlando\, FL\, 32817\, United States
CATEGORIES:Satsang
ATTACH;FMTTYPE=image/jpeg:https://vaishnavsanghusa.org/wp-content/uploads/2025/09/Radhashtmi-August-31.jpeg
END:VEVENT
BEGIN:VEVENT
DTSTART;TZID=America/New_York:20250903T210000
DTEND;TZID=America/New_York:20250903T220000
DTSTAMP:20260419T091039
CREATED:20250902T163736Z
LAST-MODIFIED:20250906T164146Z
UID:5806-1756933200-1756936800@vaishnavsanghusa.org
SUMMARY:Parivartini Ekadashi
DESCRIPTION:Topic: Parivartini Ekadashi \nTime: Wednesday\, September 3rd\, 2025\, at 9:00 PM EST (USA & Canada) \nJoin Zoom Meeting https://zoom.us /j/86161034535 Meeting ID: 861 6103 4535 Passcode: 11
URL:https://vaishnavsanghusa.org/event/parivartini-ekadashi-2/
LOCATION:VA
CATEGORIES:Satsang
ATTACH;FMTTYPE=image/jpeg:https://vaishnavsanghusa.org/wp-content/uploads/2025/09/Parivartini-Ekadashi-September-3.jpeg
END:VEVENT
BEGIN:VEVENT
DTSTART;TZID=America/New_York:20250904T173000
DTEND;TZID=America/New_York:20250904T183000
DTSTAMP:20260419T091039
CREATED:20250906T165521Z
LAST-MODIFIED:20250906T165521Z
UID:5818-1757007000-1757010600@vaishnavsanghusa.org
SUMMARY:Sharad Poonam
DESCRIPTION:Topic: Sharad Poonam \nTime: Saturday\, October 4th\, 2025\, at 5:30 PM onwards\, and Monday\, October 6th\, 2025 \nVenue: Vrajdham Haveli \n5733 N. Dean Rd\, Orlando\, FL 32817
URL:https://vaishnavsanghusa.org/event/sharad-poonam-2/
LOCATION:Vrajdham Haveli\, 5733 N. Dean Rd\, Orlando\, FL\, 32817\, United States
CATEGORIES:Garba
ATTACH;FMTTYPE=image/jpeg:https://vaishnavsanghusa.org/wp-content/uploads/2025/09/Sharad-Poonam-Oct-4.jpeg
END:VEVENT
BEGIN:VEVENT
DTSTART;TZID=America/New_York:20250917T210000
DTEND;TZID=America/New_York:20250917T220000
DTSTAMP:20260419T091039
CREATED:20250906T164413Z
LAST-MODIFIED:20250906T164413Z
UID:5810-1758142800-1758146400@vaishnavsanghusa.org
SUMMARY:Indira Ekadashi
DESCRIPTION:Topic: Indira Ekadashi \nTime: Wednesday\, September 17th\, 2025\, at 9:00 PM EST (USA & Canada) \nJoin Zoom Meeting https://zoom.us /j/86161034535 Meeting ID: 861 6103 4535 Passcode: 11
URL:https://vaishnavsanghusa.org/event/indira-ekadashi-2/
LOCATION:VA
CATEGORIES:Satsang
ATTACH;FMTTYPE=image/jpeg:https://vaishnavsanghusa.org/wp-content/uploads/2025/09/Indira-Ekadashi-September-17.jpeg
END:VEVENT
BEGIN:VEVENT
DTSTART;TZID=America/New_York:20250921T170000
DTEND;TZID=America/New_York:20250921T183000
DTSTAMP:20260419T091039
CREATED:20250906T163515Z
LAST-MODIFIED:20250906T163515Z
UID:5798-1758474000-1758479400@vaishnavsanghusa.org
SUMMARY:Sunday Satsang September
DESCRIPTION:Topic: Sunday Satsang September 2025 \nTime: Sunday\, September 21st\, 2025\, at 5:00 PM onwards \nVenue: Vrajdham Haveli \n5733 N. Dean Rd\, Orlando\, FL 32817
URL:https://vaishnavsanghusa.org/event/sunday-satsang-september/
LOCATION:Vrajdham Haveli\, 5733 N. Dean Rd\, Orlando\, FL\, 32817\, United States
CATEGORIES:Satsang
ATTACH;FMTTYPE=image/jpeg:https://vaishnavsanghusa.org/wp-content/uploads/2025/09/Sunday-Satsang-September-21.jpeg
END:VEVENT
BEGIN:VEVENT
DTSTART;TZID=America/New_York:20250922T183000
DTEND;TZID=America/New_York:20251001T200000
DTSTAMP:20260419T091039
CREATED:20250906T165030Z
LAST-MODIFIED:20250906T165030Z
UID:5814-1758565800-1759348800@vaishnavsanghusa.org
SUMMARY:Nav Vilas
DESCRIPTION:Topic: Nav Vilas \nA 10-day Grand Garba event \nTime: Monday\, September 22nd\, 2025\, from 6:30 PM to 8:00 PM\, to Wednesday\, October 1st\, 2025. \nVenue: Vrajdham Haveli \n5733 N. Dean Rd\, Orlando\, FL 32817
URL:https://vaishnavsanghusa.org/event/nav-vilas/
LOCATION:Vrajdham Haveli\, 5733 N. Dean Rd\, Orlando\, FL\, 32817\, United States
CATEGORIES:Garba
ATTACH;FMTTYPE=image/jpeg:https://vaishnavsanghusa.org/wp-content/uploads/2025/09/Nav-Vilas-September-22-to-Oct-1.jpeg
END:VEVENT
BEGIN:VEVENT
DTSTART;TZID=America/New_York:20260114T210000
DTEND;TZID=America/New_York:20260114T223000
DTSTAMP:20260419T091039
CREATED:20260105T225258Z
LAST-MODIFIED:20260105T225258Z
UID:5891-1768424400-1768429800@vaishnavsanghusa.org
SUMMARY:Shattila Ekadashi
DESCRIPTION:Topic: Shattila Ekadashi \nTime: Wednesday\, January 14th\, 2026\, at 9:00 PM EST (USA & Canada) \nJoin Zoom Meeting https://zoom.us /j/86161034535 Meeting ID: 861 6103 4535 Passcode: 11
URL:https://vaishnavsanghusa.org/event/shattila-ekadashi-2/
LOCATION:VA
CATEGORIES:Satsang
ATTACH;FMTTYPE=image/jpeg:https://vaishnavsanghusa.org/wp-content/uploads/2026/01/Shattila-Ekadashi-Jan-14th.jpeg
END:VEVENT
BEGIN:VEVENT
DTSTART;TZID=America/New_York:20260118T170000
DTEND;TZID=America/New_York:20260118T180000
DTSTAMP:20260419T091039
CREATED:20260105T225719Z
LAST-MODIFIED:20260105T225719Z
UID:5895-1768755600-1768759200@vaishnavsanghusa.org
SUMMARY:Sunday Satsang January 2026
DESCRIPTION:Topic: Sunday Satsang January 2026 \nTime: Sunday\, January 18th\, 2026\, at 5:00 PM onwards \nVenue: Vrajdham Haveli \n5733 N. Dean Rd\, Orlando\, FL 32817
URL:https://vaishnavsanghusa.org/event/sunday-satsang-january-2026/
LOCATION:Vrajdham Haveli\, 5733 N. Dean Rd\, Orlando\, FL\, 32817\, United States
CATEGORIES:Satsang
ATTACH;FMTTYPE=image/jpeg:https://vaishnavsanghusa.org/wp-content/uploads/2026/01/Sunday-Satsang-Jan-18.jpeg
END:VEVENT
BEGIN:VEVENT
DTSTART;TZID=America/New_York:20260129T210000
DTEND;TZID=America/New_York:20260129T223000
DTSTAMP:20260419T091039
CREATED:20260105T230338Z
LAST-MODIFIED:20260105T230338Z
UID:5899-1769720400-1769725800@vaishnavsanghusa.org
SUMMARY:Jaya Ekadashi
DESCRIPTION:Topic: Jaya Ekadashi \nTime: Thursday\, January 29th\, 2026\, at 9:00 PM EST (USA & Canada) \nJoin Zoom Meeting https://zoom.us /j/86161034535 Meeting ID: 861 6103 4535 Passcode: 11
URL:https://vaishnavsanghusa.org/event/jaya-ekadashi-3/
LOCATION:VA
CATEGORIES:Satsang
ATTACH;FMTTYPE=image/jpeg:https://vaishnavsanghusa.org/wp-content/uploads/2026/01/Jaya-Ekadashi-Jan-29th.jpeg
END:VEVENT
BEGIN:VEVENT
DTSTART;TZID=America/New_York:20260315T210000
DTEND;TZID=America/New_York:20260315T223000
DTSTAMP:20260419T091039
CREATED:20260315T160255Z
LAST-MODIFIED:20260315T160255Z
UID:5912-1773608400-1773613800@vaishnavsanghusa.org
SUMMARY:Paapmochani Ekadashi
DESCRIPTION:Topic: Paapmochani Ekadashi \nTime: Sunday\, March 15th\, 2026\, at 9:00 PM EST (USA & Canada) \nJoin Zoom Meeting https://zoom.us /j/86161034535 Meeting ID: 861 6103 4535 Passcode: 11
URL:https://vaishnavsanghusa.org/event/paapmochani-ekadashi-3/
LOCATION:VA
CATEGORIES:Satsang
ATTACH;FMTTYPE=image/jpeg:https://vaishnavsanghusa.org/wp-content/uploads/2026/03/Paapmochani-Ekadashi-Mar-15th.jpeg
END:VEVENT
END:VCALENDAR