BEGIN:VCALENDAR
VERSION:2.0
PRODID:-//Vaishnav Sangh of USA - ECPv6.15.18//NONSGML v1.0//EN
CALSCALE:GREGORIAN
METHOD:PUBLISH
X-WR-CALNAME:Vaishnav Sangh of USA
X-ORIGINAL-URL:https://vaishnavsanghusa.org
X-WR-CALDESC:Events for Vaishnav Sangh of USA
REFRESH-INTERVAL;VALUE=DURATION:PT1H
X-Robots-Tag:noindex
X-PUBLISHED-TTL:PT1H
BEGIN:VTIMEZONE
TZID:America/New_York
BEGIN:DAYLIGHT
TZOFFSETFROM:-0500
TZOFFSETTO:-0400
TZNAME:EDT
DTSTART:20200308T070000
END:DAYLIGHT
BEGIN:STANDARD
TZOFFSETFROM:-0400
TZOFFSETTO:-0500
TZNAME:EST
DTSTART:20201101T060000
END:STANDARD
BEGIN:DAYLIGHT
TZOFFSETFROM:-0500
TZOFFSETTO:-0400
TZNAME:EDT
DTSTART:20210314T070000
END:DAYLIGHT
BEGIN:STANDARD
TZOFFSETFROM:-0400
TZOFFSETTO:-0500
TZNAME:EST
DTSTART:20211107T060000
END:STANDARD
BEGIN:DAYLIGHT
TZOFFSETFROM:-0500
TZOFFSETTO:-0400
TZNAME:EDT
DTSTART:20220313T070000
END:DAYLIGHT
BEGIN:STANDARD
TZOFFSETFROM:-0400
TZOFFSETTO:-0500
TZNAME:EST
DTSTART:20221106T060000
END:STANDARD
END:VTIMEZONE
BEGIN:VTIMEZONE
TZID:UTC
BEGIN:STANDARD
TZOFFSETFROM:+0000
TZOFFSETTO:+0000
TZNAME:UTC
DTSTART:20200101T000000
END:STANDARD
END:VTIMEZONE
BEGIN:VEVENT
DTSTART;TZID=America/New_York:20211219T113000
DTEND;TZID=America/New_York:20211219T123000
DTSTAMP:20260419T213909
CREATED:20211202T085901Z
LAST-MODIFIED:20211202T090522Z
UID:3599-1639913400-1639917000@vaishnavsanghusa.org
SUMMARY:Pakhawaj Introduction Session
DESCRIPTION:Topic: Pakhawaj Introduction Session \n\n\n\nTime: Sunday\, December 19th\, 2021 at 11:30 AM EST (USA & Canada) Join Zoom Meeting \n\n\n\nhttps://uso2web.zoom.us/j/84979650934 Meeting ID: 849 7965 0934 Passcode: 19
URL:https://vaishnavsanghusa.org/event/pakhawaj-introduction-session/
LOCATION:DE
CATEGORIES:Meditation
ATTACH;FMTTYPE=image/jpeg:https://vaishnavsanghusa.org/wp-content/uploads/2021/12/Pakhawaj-Introduction-Session.jpeg
END:VEVENT
BEGIN:VEVENT
DTSTART;TZID=America/New_York:20211216T113000
DTEND;TZID=America/New_York:20211216T123000
DTSTAMP:20260419T213909
CREATED:20211202T090404Z
LAST-MODIFIED:20211202T090404Z
UID:3603-1639654200-1639657800@vaishnavsanghusa.org
SUMMARY:Harmonium Introduction Session
DESCRIPTION:Topic: Harmonium Introduction Session\n\n\n\nTime: Sunday\, December 12th\, 2021 at 11:30 AM EST (USA & Canada) Join Zoom Meeting\n\n\n\nhttps://uso2web.zoom.us/j/84119560166 Meeting ID: 841 1956 0166 Passcode: 12
URL:https://vaishnavsanghusa.org/event/harmonium-introduction-session/
LOCATION:DE
CATEGORIES:Satsang
ATTACH;FMTTYPE=image/jpeg:https://vaishnavsanghusa.org/wp-content/uploads/2021/12/Harmonium-Introduction-Session.jpeg
END:VEVENT
BEGIN:VEVENT
DTSTART;TZID=America/New_York:20211214T210000
DTEND;TZID=America/New_York:20211214T220000
DTSTAMP:20260419T213909
CREATED:20211202T091352Z
LAST-MODIFIED:20211202T091407Z
UID:3611-1639515600-1639519200@vaishnavsanghusa.org
SUMMARY:Mokshada Ekadashi
DESCRIPTION:Topic: Mokshada Ekadashi \n\n\n\nTime: Tuesday\, December 14th\, 2021 at 9:00 PM EST (USA & Canada) Join Zoom Meeting \n\n\n\nhttps://uso2web.zoom.us/j/82584160379 Meeting ID: 825 8416 0379 Passcode: 11
URL:https://vaishnavsanghusa.org/event/mokshada-ekadashi/
LOCATION:DE
CATEGORIES:Satsang
ATTACH;FMTTYPE=image/jpeg:https://vaishnavsanghusa.org/wp-content/uploads/2021/12/Mokshada-Ekadashi.jpeg
END:VEVENT
BEGIN:VEVENT
DTSTART;TZID=America/New_York:20211128T160000
DTEND;TZID=America/New_York:20211128T170000
DTSTAMP:20260419T213909
CREATED:20211103T050039Z
LAST-MODIFIED:20211103T051214Z
UID:3534-1638115200-1638118800@vaishnavsanghusa.org
SUMMARY:November Monthly Satsang
DESCRIPTION:Topic: Florida Monthly Satsang \n\n\n\nTime: Sunday\, November 28th\, 2021 at 4:00 PM EST (USA & Canada) Join Zoom Meeting \n\n\n\nhttps://uso2web.zoom.us/j/82562205155 Meeting ID: 890 9156 5073 Passcode: 01
URL:https://vaishnavsanghusa.org/event/november-monthly-satsang/
LOCATION:DE
CATEGORIES:Satsang
ATTACH;FMTTYPE=image/jpeg:https://vaishnavsanghusa.org/wp-content/uploads/2021/11/Monthly-Satsang.jpeg
END:VEVENT
BEGIN:VEVENT
DTSTART;TZID=America/New_York:20211115T210000
DTEND;TZID=America/New_York:20211115T223000
DTSTAMP:20260419T213909
CREATED:20211103T051751Z
LAST-MODIFIED:20211103T051751Z
UID:3542-1637010000-1637015400@vaishnavsanghusa.org
SUMMARY:Devutthana Ekadashi
DESCRIPTION:Topic: Devutthana Ekadashi\n\n\n\nTime: Monday\, November 15th\, 2021 at 9:00 PM EST (USA & Canada)\n\nJoin Zoom Meeting https://uso2web.zoom.us/j/81074632886 Meeting ID: 890 9156 5073 Passcode: 11
URL:https://vaishnavsanghusa.org/event/devutthana-ekadashi/
LOCATION:DE
CATEGORIES:Satsang
ATTACH;FMTTYPE=image/jpeg:https://vaishnavsanghusa.org/wp-content/uploads/2021/11/Devutthana-Ekadashi.jpeg
END:VEVENT
BEGIN:VEVENT
DTSTART;TZID=America/New_York:20211114T113000
DTEND;TZID=America/New_York:20211114T130000
DTSTAMP:20260419T213909
CREATED:20211103T050705Z
LAST-MODIFIED:20211104T170216Z
UID:3537-1636889400-1636894800@vaishnavsanghusa.org
SUMMARY:Pustimarg Ma Dus Marm
DESCRIPTION:Topic: Pustimarg Ma Dus Marm \n\n\n\nTime: Sunday\, November 14th\, 2021 at 11:30 AM EST (USA & Canada) \nJoin Zoom Meeting https://uso2web.zoom.us/j/85863331481 Meeting ID: 890 9156 5073 Passcode: 30
URL:https://vaishnavsanghusa.org/event/pustimarg-ma-dus-marm/
LOCATION:DE
CATEGORIES:Satsang
ATTACH;FMTTYPE=image/jpeg:https://vaishnavsanghusa.org/wp-content/uploads/2021/11/Pustimarg-ma-dus-marm.jpeg
END:VEVENT
BEGIN:VEVENT
DTSTART;TZID=America/New_York:20211017T113000
DTEND;TZID=America/New_York:20211017T130000
DTSTAMP:20260419T213909
CREATED:20211005T063744Z
LAST-MODIFIED:20211005T063744Z
UID:3483-1634470200-1634475600@vaishnavsanghusa.org
SUMMARY:Kirtan Vadya Parichay
DESCRIPTION:Topic: Kirtan Vadya Parichay\n\n\n\nTime: Sunday\, October 17th\, 2021 at 11:30 AM EST (USA & Canada) Join Zoom Meeting\n\n\n\nhttps://uso2web.zoom.us/j/89091565073 Meeting ID: 890 9156 5073 Passcode: 24
URL:https://vaishnavsanghusa.org/event/kirtan-vadya-parichay/
LOCATION:DE
CATEGORIES:Satsang
ATTACH;FMTTYPE=image/jpeg:https://vaishnavsanghusa.org/wp-content/uploads/2021/10/Kirtan-Vadya-Parichay.jpeg
END:VEVENT
BEGIN:VEVENT
DTSTART;TZID=America/New_York:20211016T210000
DTEND;TZID=America/New_York:20211016T223000
DTSTAMP:20260419T213909
CREATED:20210929T055140Z
LAST-MODIFIED:20210929T060210Z
UID:3456-1634418000-1634423400@vaishnavsanghusa.org
SUMMARY:National Satsang - Papankusha Ekadshi
DESCRIPTION:Topic: National Satsang – Papankusha Ekadshi \n\n\n\nTime: Saturday\, October 16th\, 2021 at 9:00 PM EST (USA & Canada) Join Zoom Meeting \n\n\n\nhttps://uso2web.zoom.us/j/83127901493 Meeting ID: 831 2790 1493 Passcode: 11
URL:https://vaishnavsanghusa.org/event/national-satsang-indira-ekadashi/
LOCATION:DE
CATEGORIES:Satsang
ATTACH;FMTTYPE=image/jpeg:https://vaishnavsanghusa.org/wp-content/uploads/2021/09/Indira-Ekadashi.jpeg
END:VEVENT
BEGIN:VEVENT
DTSTART;TZID=America/New_York:20211010T113000
DTEND;TZID=America/New_York:20211010T130000
DTSTAMP:20260419T213909
CREATED:20211005T063054Z
LAST-MODIFIED:20211005T063821Z
UID:3479-1633865400-1633870800@vaishnavsanghusa.org
SUMMARY:Shri Paras Shastriji
DESCRIPTION:Topic: National Satsang – Papankusha Ekadshi \n\n\n\nTime: Sunday\, October 10th\, 2021 at 11:30 AM EST (USA & Canada) Join Zoom Meeting \n\n\n\nhttps://uso2web.zoom.us/j/8512490225 Meeting ID: 851 2490 225 Passcode: 10
URL:https://vaishnavsanghusa.org/event/shri-paras-shastriji/
LOCATION:DE
CATEGORIES:Satsang
ATTACH;FMTTYPE=image/jpeg:https://vaishnavsanghusa.org/wp-content/uploads/2021/10/Shri-Paras-Shastriji.jpeg
END:VEVENT
BEGIN:VEVENT
DTSTART;TZID=America/New_York:20211002T210000
DTEND;TZID=America/New_York:20211002T223000
DTSTAMP:20260419T213909
CREATED:20210929T060159Z
LAST-MODIFIED:20210929T060159Z
UID:3459-1633208400-1633213800@vaishnavsanghusa.org
SUMMARY:National Satsang - Indira Ekadashi
DESCRIPTION:Topic: National Satsang – Indira Ekadashi\n\n\n\nTime: Saturday\, October 2nd\, 2021 at 9:00 PM EST (USA & Canada) Join Zoom Meeting\n\n\n\nhttps://uso2web.zoom.us/j/883420164349 Meeting ID: 834 2016 4349 Passcode: 11
URL:https://vaishnavsanghusa.org/event/national-satsang-indira-ekadashi-2/
LOCATION:DE
CATEGORIES:Satsang
ATTACH;FMTTYPE=image/jpeg:https://vaishnavsanghusa.org/wp-content/uploads/2021/09/Indira-Ekadashi-1.jpeg
END:VEVENT
BEGIN:VEVENT
DTSTART;TZID=UTC:20210917T210000
DTEND;TZID=UTC:20210917T223000
DTSTAMP:20260419T213909
CREATED:20210824T053332Z
LAST-MODIFIED:20210824T053332Z
UID:3402-1631912400-1631917800@vaishnavsanghusa.org
SUMMARY:Parsva Ekadashi
DESCRIPTION:Topic: National Ekadashi Satsang: Parsva Ekadashi\n\nTime: Friday\, September 17th\, 2021\, 9 pm EST (USA & CANADA Time)\n\n\n\nZoom link: https://uso2web.zoom.us/j/84941399572\n\n\n\nMeeting ID: 849 4139 9572 Password: 11
URL:https://vaishnavsanghusa.org/event/parsva-ekadashi/
LOCATION:DE
CATEGORIES:Satsang
ATTACH;FMTTYPE=image/jpeg:https://vaishnavsanghusa.org/wp-content/uploads/2021/08/National-Ekadashi-Satsang-2.jpeg
END:VEVENT
BEGIN:VEVENT
DTSTART;TZID=America/New_York:20210912T113000
DTEND;TZID=America/New_York:20210912T123000
DTSTAMP:20260419T213909
CREATED:20210908T035248Z
LAST-MODIFIED:20210908T035248Z
UID:3427-1631446200-1631449800@vaishnavsanghusa.org
SUMMARY:Sanjhi Kala Shibir
DESCRIPTION:Topic: Sanjhi Kala Shibir\n\nTime: Sunday\, September 12th\, 2021\, 11:30 am EST (USA & CANADA Time)\n\n\n\nZoom link: https://uso2web.zoom.us/j/88106223570\n\n\n\nMeeting ID: 881 0622 3570 Passcode: 12
URL:https://vaishnavsanghusa.org/event/sanjhi-kala-shibir/
LOCATION:DE
CATEGORIES:Satsang
ATTACH;FMTTYPE=image/jpeg:https://vaishnavsanghusa.org/wp-content/uploads/2021/09/Sanjhi-Kala-Shibir.jpeg
END:VEVENT
BEGIN:VEVENT
DTSTART;TZID=UTC:20210903T210000
DTEND;TZID=UTC:20210903T223000
DTSTAMP:20260419T213909
CREATED:20210824T052434Z
LAST-MODIFIED:20210824T052626Z
UID:3399-1630702800-1630708200@vaishnavsanghusa.org
SUMMARY:Aja Ekadashi
DESCRIPTION:Topic: National Ekadashi Satsang: Aja Ekadashi \nTime: Friday\, September 3rd\, 2021\, 9 pm EST (USA & CANADA Time) \n\n\n\nZoom link: https://uso2web.zoom.us/j/83494220362 \n\n\n\nMeeting ID: 834 9422 0362 Password: 11
URL:https://vaishnavsanghusa.org/event/aja-ekadashi/
LOCATION:DE
CATEGORIES:Satsang
ATTACH;FMTTYPE=image/jpeg:https://vaishnavsanghusa.org/wp-content/uploads/2021/08/National-Ekadashi-Satsang.jpeg
END:VEVENT
BEGIN:VEVENT
DTSTART;TZID=UTC:20210818T210000
DTEND;TZID=UTC:20210818T220000
DTSTAMP:20260419T213909
CREATED:20210727T022057Z
LAST-MODIFIED:20210803T051446Z
UID:3354-1629320400-1629324000@vaishnavsanghusa.org
SUMMARY:Shravana Putrada Ekadashi
DESCRIPTION:Topic: Shravana Putrada Ekadashi \nTime: Wednesday\, August 18\, 2021\, 9 pm EST (USA & CANADA Time) \n\n\n\nZoom link: https://uso2web.zoom.us/j/86359379468 \n\n\n\nMeeting ID: 863 5937 9468 Password: 02
URL:https://vaishnavsanghusa.org/event/shravana-putrada-ekadashi/
LOCATION:DE
CATEGORIES:Satsang
ATTACH;FMTTYPE=image/jpeg:https://vaishnavsanghusa.org/wp-content/uploads/2021/07/Shravana-Putrada-Ekadashi.jpeg
END:VEVENT
BEGIN:VEVENT
DTSTART;TZID=UTC:20210808T113000
DTEND;TZID=UTC:20210808T130000
DTSTAMP:20260419T213909
CREATED:20210803T051810Z
LAST-MODIFIED:20210803T051810Z
UID:3364-1628422200-1628427600@vaishnavsanghusa.org
SUMMARY:Seva Shringar Shibir
DESCRIPTION:Topic: Seva Shringar Shibir with Mayur Patel (Nairobi)\n\nTime: September\, August 8\, 2021\, 11:30 am EST (USA & CANADA Time)\n\n\n\nZoom link: https://uso2web.zoom.us/j/88991239501\n\n\n\nMeeting ID: 889 9123 9501 Password: 15
URL:https://vaishnavsanghusa.org/event/seva-shringar-shibir-2/
LOCATION:DE
CATEGORIES:Satsang
ATTACH;FMTTYPE=image/jpeg:https://vaishnavsanghusa.org/wp-content/uploads/2021/08/Seva-Shringar-Shibir-Flyer-3.jpeg
END:VEVENT
BEGIN:VEVENT
DTSTART;TZID=UTC:20210804T210000
DTEND;TZID=UTC:20210804T220000
DTSTAMP:20260419T213909
CREATED:20210727T021438Z
LAST-MODIFIED:20210727T021438Z
UID:3350-1628110800-1628114400@vaishnavsanghusa.org
SUMMARY:Vaishnava Kamika Ekadashi
DESCRIPTION:Topic: Vaishnava Kamika Ekadashi\n\nTime: Wednesday\, August 4\, 2021\, 9 pm EST (USA & CANADA Time)\n\n\n\nZoom link: https://uso2web.zoom.us/j/86158297680\n\n\n\nMeeting ID: 861 5829 7680 Password: 01
URL:https://vaishnavsanghusa.org/event/vaishnava-kamika-ekadashi/
LOCATION:DE
CATEGORIES:Satsang
ATTACH;FMTTYPE=image/jpeg:https://vaishnavsanghusa.org/wp-content/uploads/2021/07/Vaishnava-Kamika-Ekadashi.jpeg
END:VEVENT
BEGIN:VEVENT
DTSTART;TZID=UTC:20210725T113000
DTEND;TZID=UTC:20210725T123000
DTSTAMP:20260419T213909
CREATED:20210707T070559Z
LAST-MODIFIED:20210727T020921Z
UID:3318-1627212600-1627216200@vaishnavsanghusa.org
SUMMARY:Vachnamrut by JJ Shri
DESCRIPTION:Topic: Vachnamrut by JJ Shri \nTime: Sunday\, July 25th\, 2021 at 11:30 AM EST (USA & CANADA Time) \n\n\n\nZoom link: https://uso2web.zoom.us/j/85863331481? \n\n\n\nMeeting ID: 858 6333 1481 Password: 30
URL:https://vaishnavsanghusa.org/event/vachnamrut-by-jj-shri/
LOCATION:DE
CATEGORIES:Satsang
ATTACH;FMTTYPE=image/jpeg:https://vaishnavsanghusa.org/wp-content/uploads/2020/09/JeJeShree.jpeg
END:VEVENT
BEGIN:VEVENT
DTSTART;TZID=UTC:20210720T210000
DTEND;TZID=UTC:20210720T220000
DTSTAMP:20260419T213909
CREATED:20210707T065745Z
LAST-MODIFIED:20210708T014842Z
UID:3314-1626814800-1626818400@vaishnavsanghusa.org
SUMMARY:National Satsang 
DESCRIPTION:Topic: National Satsang \n\n\n\nTime: Tuesday\, July 20th\, 2021 at 9:00 PM EST (USA & Canada) Join Zoom Meeting \n\n\n\nhttps://uso2web.zoom.us/j/89171846857? Meeting ID: 891 7184 6857 Passcode: 20
URL:https://vaishnavsanghusa.org/event/national-satsang/
LOCATION:DE
CATEGORIES:Satsang
ATTACH;FMTTYPE=image/jpeg:https://vaishnavsanghusa.org/wp-content/uploads/2021/07/National-Satsang.jpeg
END:VEVENT
BEGIN:VEVENT
DTSTART;TZID=UTC:20210710T103000
DTEND;TZID=UTC:20210710T120000
DTSTAMP:20260419T213909
CREATED:20210702T180120Z
LAST-MODIFIED:20210702T180120Z
UID:3296-1625913000-1625918400@vaishnavsanghusa.org
SUMMARY:Manav Jivan Me Dharma Ki Avashyakta
DESCRIPTION:Topic: Manav Jivan Me Dharma Ki Avashyakta\nTime: Saturday\, July 10th\, 2021 at 10:30 AM (EST US and Canada) \nJoin Zoom Meeting \nhttp://us02web.zoom.us/j/82505473118 \nMeeting ID: 825 054 73118\nPasscode: 10
URL:https://vaishnavsanghusa.org/event/manav-jivan-me-dharma-ki-avashyakta/
LOCATION:DE
CATEGORIES:Satsang
ATTACH;FMTTYPE=image/jpeg:https://vaishnavsanghusa.org/wp-content/uploads/2021/07/Manav-Jivan-Me-Dharma-Ki-Avashyakta.jpeg
END:VEVENT
BEGIN:VEVENT
DTSTART;TZID=UTC:20210626T113000
DTEND;TZID=UTC:20210626T130000
DTSTAMP:20260419T213909
CREATED:20210602T063158Z
LAST-MODIFIED:20210602T063158Z
UID:3254-1624707000-1624712400@vaishnavsanghusa.org
SUMMARY:Shri Vallabh Ane 24 Avtar
DESCRIPTION:Topic: Shri Vallabh Ane 24 Avtar\nTime: Saturday\, June 26th\, 2021 at 11:30 AM (EST US and Canada) \nJoin Zoom Meeting \nhttp://us02web.zoom.us/j/85863331481 \nMeeting ID: 858 6333 1481\nPasscode: 30
URL:https://vaishnavsanghusa.org/event/shri-vallabh-ane-24-avtar/
LOCATION:DE
CATEGORIES:Satsang
ATTACH;FMTTYPE=image/jpeg:https://vaishnavsanghusa.org/wp-content/uploads/2021/06/Shri-Vallabh-Ane-24-Avtar.jpeg
END:VEVENT
BEGIN:VEVENT
DTSTART;TZID=UTC:20210606T113000
DTEND;TZID=UTC:20210606T130000
DTSTAMP:20260419T213909
CREATED:20210602T062123Z
LAST-MODIFIED:20210602T062819Z
UID:3250-1622979000-1622984400@vaishnavsanghusa.org
SUMMARY:Seva Shringar Shibir
DESCRIPTION:Topic: Seva Shringar Shibir with Mayur Patel (Nairobi)\nTime: Sunday\, June 6th\, 2021 at 11:30 AM (EST US and Canada) \nJoin Zoom Meeting \nhttp://us02web.zoom.us/j/89093902921 \nMeeting ID: 890 9390 2921\nPasscode: 06
URL:https://vaishnavsanghusa.org/event/seva-shringar-shibir/
LOCATION:DE
CATEGORIES:Satsang
ATTACH;FMTTYPE=image/jpeg:https://vaishnavsanghusa.org/wp-content/uploads/2021/06/Seva-Shringar-Shibir-Flyer-2.jpeg
END:VEVENT
BEGIN:VEVENT
DTSTART;TZID=UTC:20210515T233000
DTEND;TZID=UTC:20210515T233000
DTSTAMP:20260419T213909
CREATED:20210509T190551Z
LAST-MODIFIED:20210509T190551Z
UID:3214-1621121400-1621121400@vaishnavsanghusa.org
SUMMARY:Shrimad Bhagvad Gita Sar
DESCRIPTION:Topic: Shrimad Bhagvad Gita Sar\nTime: Saturday\, 15th May 2021 at 11:30 PM (EST US and Canada) \nJoin Zoom Meeting \nhttp://us02web.zoom.us/j/85228812544 \nMeeting ID: 852 2881 2544\nPasscode: 15
URL:https://vaishnavsanghusa.org/event/shrimad-bhagvad-gita-sar/
LOCATION:DE
CATEGORIES:Satsang
ATTACH;FMTTYPE=image/jpeg:https://vaishnavsanghusa.org/wp-content/uploads/2021/05/Shrimad-Bhagvad-Gita-Sar.jpeg
END:VEVENT
BEGIN:VEVENT
DTSTART;TZID=UTC:20210509T113000
DTEND;TZID=UTC:20210509T130000
DTSTAMP:20260419T213909
CREATED:20210503T155514Z
LAST-MODIFIED:20210503T155514Z
UID:3176-1620559800-1620565200@vaishnavsanghusa.org
SUMMARY:Mahaprabhuji Prakatya Utsav Gungaan
DESCRIPTION:Topic: Mahaprabhuji Prakatya Utsav Gungaan\nTime: Sunday\, 9th May 2021 at 11:30 AM (EST US and Canada) \nJoin Zoom Meeting \nhttp://us02web.zoom.us/j/85362597215 \nMeeting ID: 853 6259 7215\nPasscode: 09
URL:https://vaishnavsanghusa.org/event/mahaprabhuji-prakatya-utsav-gungaan/
LOCATION:DE
CATEGORIES:Satsang
ATTACH;FMTTYPE=image/jpeg:https://vaishnavsanghusa.org/wp-content/uploads/2021/05/Mahaprabhuji-Prakatya-Utsav-Gungaan.jpeg
END:VEVENT
BEGIN:VEVENT
DTSTART;TZID=America/New_York:20210425T113000
DTEND;TZID=America/New_York:20210425T130000
DTSTAMP:20260419T213909
CREATED:20210420T061754Z
LAST-MODIFIED:20210422T062217Z
UID:3098-1619350200-1619355600@vaishnavsanghusa.org
SUMMARY:Ashray Pad Mahima
DESCRIPTION:Topic: Ashray Pad Mahima\nTime: Sunday\, 25th April 2021 at 11:30 AM (EST US and Canada) \nJoin Zoom Meeting \nhttp://us02web.zoom.us/j/85863331481 \nMeeting ID: 858 63333 1481\nPasscode: 30
URL:https://vaishnavsanghusa.org/event/ashray-pad-mahima/
LOCATION:DE
CATEGORIES:Satsang
ATTACH;FMTTYPE=image/jpeg:https://vaishnavsanghusa.org/wp-content/uploads/2021/04/Ashray-Pad-Mahima.jpeg
END:VEVENT
BEGIN:VEVENT
DTSTART;TZID=UTC:20210411T113000
DTEND;TZID=UTC:20210411T123000
DTSTAMP:20260419T213909
CREATED:20210407T174937Z
LAST-MODIFIED:20210407T174937Z
UID:3076-1618140600-1618144200@vaishnavsanghusa.org
SUMMARY:Vraj Bhasha Shibir
DESCRIPTION:Topic: Vraj Bhasha Shibir – A Delightful Experience to learn Vrajbhasha with Pankajbhai\nTime: Sunday\, 11th April 2021 at 11:30 am (EST US and Canada) \nJoin Zoom Meeting \nhttp://us02web.zoom.us/j/84061469958 \nMeeting ID: 840 6146 9958\nPasscode: 11
URL:https://vaishnavsanghusa.org/event/vraj-bhasha-shibir/
LOCATION:DE
CATEGORIES:Satsang
ATTACH;FMTTYPE=image/jpeg:https://vaishnavsanghusa.org/wp-content/uploads/2021/04/Vraj-Bhasha-Shibir.jpeg
END:VEVENT
BEGIN:VEVENT
DTSTART;TZID=UTC:20210327T113000
DTEND;TZID=UTC:20210327T123000
DTSTAMP:20260419T213909
CREATED:20210323T204129Z
LAST-MODIFIED:20210323T204129Z
UID:2990-1616844600-1616848200@vaishnavsanghusa.org
SUMMARY:Holi Rasiya Gaan 4
DESCRIPTION:Topic: Holi Rasiya Gaan – 4 by Rasesh Shah & Vrund\nTime: Saturday\, March 27\, 2021 11:30 AM Eastern Time (US and Canada) \nJoin Zoom Meeting \nhttp://us02web.zoom.us/j/87279126495 \nMeeting ID: 872 7912 6495\nPasscode: 14
URL:https://vaishnavsanghusa.org/event/holi-rasiya-gaan-4/
LOCATION:DE
CATEGORIES:Satsang
ATTACH;FMTTYPE=image/jpeg:https://vaishnavsanghusa.org/wp-content/uploads/2021/03/Holi-Rasiya-Gaan-4.jpeg
END:VEVENT
BEGIN:VEVENT
DTSTART;TZID=America/New_York:20210314T120000
DTEND;TZID=America/New_York:20210314T133000
DTSTAMP:20260419T213909
CREATED:20210313T083755Z
LAST-MODIFIED:20210313T083755Z
UID:2954-1615723200-1615728600@vaishnavsanghusa.org
SUMMARY:Holi Rasiya Gaan
DESCRIPTION:Topic: Holi Rasiya Gaan by Kirtankaar Krishnadaas & Vrund\nTime: Sunday\, March 14\, 2021 12:30 PM Eastern Time (US and Canada) \nJoin Zoom Meeting \nhttp://us02web.zoom.us/j/87279126495 \nMeeting ID: 872 7912 6495\nPasscode: 14
URL:https://vaishnavsanghusa.org/event/holi-rasiya-gaan-2/
LOCATION:DE
CATEGORIES:Satsang
ATTACH;FMTTYPE=image/jpeg:https://vaishnavsanghusa.org/wp-content/uploads/2021/03/Holi-Rasiya-Gaan-2.jpeg
END:VEVENT
BEGIN:VEVENT
DTSTART;TZID=America/New_York:20210307T113000
DTEND;TZID=America/New_York:20210307T130000
DTSTAMP:20260419T213909
CREATED:20210220T213144Z
LAST-MODIFIED:20210220T213217Z
UID:2944-1615116600-1615122000@vaishnavsanghusa.org
SUMMARY:Holi Rasiya Gaan
DESCRIPTION:Topic: Holi Rasiya Gaan by Kirtankaar Rasesh Shah & Vrund\nTime: Sunday\, March 7\, 2021 11:30 AM Eastern Time (US and Canada) \nJoin Zoom Meeting \nhttps://us02web.zoom.us/j/83145167470 \nMeeting ID: 831 4516 7470\nPasscode: 07
URL:https://vaishnavsanghusa.org/event/holi-rasiya-gaan/
LOCATION:DE
CATEGORIES:Satsang
ATTACH;FMTTYPE=image/jpeg:https://vaishnavsanghusa.org/wp-content/uploads/2021/02/Holi-Rasiya-Gaan.jpeg
END:VEVENT
BEGIN:VEVENT
DTSTART;TZID=America/New_York:20210227T113000
DTEND;TZID=America/New_York:20210227T130000
DTSTAMP:20260419T213909
CREATED:20210220T211610Z
LAST-MODIFIED:20210220T211610Z
UID:2941-1614425400-1614430800@vaishnavsanghusa.org
SUMMARY:Yamunaji Ni Aarti
DESCRIPTION:Topic: Yamunaji Ni Aarti (Vachnamrut by Pujya Jejeshree)\nTime: Saturday\, Feb 27\, 2021 11:30 AM Eastern Time (US and Canada) \nJoin Zoom Meeting \nhttps://us02web.zoom.us/j/85863331481 \nMeeting ID: 858 6333 1481\nPasscode: 30
URL:https://vaishnavsanghusa.org/event/yamunaji-ni-aarti/
https://vaishnavsanghusa.org/event/yamunaji-ni-aarti/
CATEGORIES:Satsang
ATTACH;FMTTYPE=image/jpeg:https://vaishnavsanghusa.org/wp-content/uploads/2021/02/yamunaji-aarti.jpg
END:VEVENT
BEGIN:VEVENT
DTSTART;TZID=America/New_York:20210131T113000
DTEND;TZID=America/New_York:20210131T130000
DTSTAMP:20260419T213909
CREATED:20210118T192704Z
LAST-MODIFIED:20210118T192704Z
UID:2881-1612092600-1612098000@vaishnavsanghusa.org
SUMMARY:JJ Shri Vachnamrut
DESCRIPTION:Topic: JJ Shri Vachnamrut \nDate: Sunday\, January 31st\, 2021 \nTime: 11:30 AM EST (USA & CANADA Time) & 10:00 PM India Time \nZoom link: https:us02web.zoom.us/j/85863331481 \nMeeting ID: 858 6333 1481 Password: 30 \nPhone No: (301) 715-8592
URL:https://vaishnavsanghusa.org/event/jj-shri-vachnamrut/
LOCATION:DE
CATEGORIES:Satsang
ATTACH;FMTTYPE=image/jpeg:https://vaishnavsanghusa.org/wp-content/uploads/2021/01/shrinathji-charan-chinha.jpg
END:VEVENT
END:VCALENDAR