BEGIN:VCALENDAR
VERSION:2.0
PRODID:-//Vaishnav Sangh of USA - ECPv6.15.18//NONSGML v1.0//EN
CALSCALE:GREGORIAN
METHOD:PUBLISH
X-WR-CALNAME:Vaishnav Sangh of USA
X-ORIGINAL-URL:https://vaishnavsanghusa.org
X-WR-CALDESC:Events for Vaishnav Sangh of USA
REFRESH-INTERVAL;VALUE=DURATION:PT1H
X-Robots-Tag:noindex
X-PUBLISHED-TTL:PT1H
BEGIN:VTIMEZONE
TZID:America/New_York
BEGIN:DAYLIGHT
TZOFFSETFROM:-0500
TZOFFSETTO:-0400
TZNAME:EDT
DTSTART:20190310T070000
END:DAYLIGHT
BEGIN:STANDARD
TZOFFSETFROM:-0400
TZOFFSETTO:-0500
TZNAME:EST
DTSTART:20191103T060000
END:STANDARD
BEGIN:DAYLIGHT
TZOFFSETFROM:-0500
TZOFFSETTO:-0400
TZNAME:EDT
DTSTART:20200308T070000
END:DAYLIGHT
BEGIN:STANDARD
TZOFFSETFROM:-0400
TZOFFSETTO:-0500
TZNAME:EST
DTSTART:20201101T060000
END:STANDARD
BEGIN:DAYLIGHT
TZOFFSETFROM:-0500
TZOFFSETTO:-0400
TZNAME:EDT
DTSTART:20210314T070000
END:DAYLIGHT
BEGIN:STANDARD
TZOFFSETFROM:-0400
TZOFFSETTO:-0500
TZNAME:EST
DTSTART:20211107T060000
END:STANDARD
END:VTIMEZONE
BEGIN:VEVENT
DTSTART;TZID=America/New_York:20201025T123000
DTEND;TZID=America/New_York:20201025T140000
DTSTAMP:20260420T000341
CREATED:20200919T004736Z
LAST-MODIFIED:20201006T062627Z
UID:2347-1603629000-1603634400@vaishnavsanghusa.org
SUMMARY:Vachnamrut by P.P 108 Shri Dwarkeshlalji
DESCRIPTION:Vachnamrut by P.P 108 Shri Dwarkeshlalji \nSarvottam Stotra Parichay \nVia Zoom: \nMeeting ID: 858 6333 1481\nPasscode: 26 \nDial by Phone\n+1 301 715 8592 US
URL:https://vaishnavsanghusa.org/event/vachnamrut-by-p-p-108-shri-dwarkeshlalji/
LOCATION:FL
CATEGORIES:Satsang
ATTACH;FMTTYPE=image/jpeg:https://vaishnavsanghusa.org/wp-content/uploads/2020/08/Shree-DwarkeshlaljiI.jpeg
END:VEVENT
BEGIN:VEVENT
DTSTART;TZID=America/New_York:20201011T123000
DTEND;TZID=America/New_York:20201011T140000
DTSTAMP:20260420T000341
CREATED:20200919T004105Z
LAST-MODIFIED:20200925T040845Z
UID:2332-1602419400-1602424800@vaishnavsanghusa.org
SUMMARY:Seva Shringar Shibir - Part 5
DESCRIPTION:Seva Shringar Shibir by Mayur Patel\, Nairobi explaining detail Shringar for Chitraji Swaroop of Thakorji \nVia Zoom: \nMeeting ID: 813 9117 0584\nPasscode: 17 \nDail by phone: 301-715-8592
URL:https://vaishnavsanghusa.org/event/seva-shringar-shibir-part-5/
LOCATION:FL
CATEGORIES:Satsang
ATTACH;FMTTYPE=image/jpeg:https://vaishnavsanghusa.org/wp-content/uploads/2020/09/seva-shringar-part-4.jpeg
END:VEVENT
BEGIN:VEVENT
DTSTART;TZID=America/New_York:20200920T113000
DTEND;TZID=America/New_York:20200920T123000
DTSTAMP:20260420T000341
CREATED:20200919T002138Z
LAST-MODIFIED:20200928T181008Z
UID:2326-1600601400-1600605000@vaishnavsanghusa.org
SUMMARY:Baal Pushti Class - Students Only
DESCRIPTION:Classes are for children aged 3-7 years old. Focusing on Pushtimarg education\, Gujurati learning\, story telling\, and arts & crafts activities. \nClasses are offered virtually every Saturday from 11:30am to 12:00pm via Zoom. \nMeeting ID: 870 3318 6819\nPasscode: 29
URL:https://vaishnavsanghusa.org/event/baal-pushti-class-students-only/
LOCATION:FL
CATEGORIES:Satsang
ATTACH;FMTTYPE=image/jpeg:https://vaishnavsanghusa.org/wp-content/uploads/2020/09/student_image4.jpeg
ORGANIZER;CN="Isha Chokshi":MAILTO:vsusa2020@gmail.com
END:VEVENT
END:VCALENDAR