BEGIN:VCALENDAR
VERSION:2.0
PRODID:-//Vaishnav Sangh of USA - ECPv6.15.18//NONSGML v1.0//EN
CALSCALE:GREGORIAN
METHOD:PUBLISH
X-WR-CALNAME:Vaishnav Sangh of USA
X-ORIGINAL-URL:https://vaishnavsanghusa.org
X-WR-CALDESC:Events for Vaishnav Sangh of USA
REFRESH-INTERVAL;VALUE=DURATION:PT1H
X-Robots-Tag:noindex
X-PUBLISHED-TTL:PT1H
BEGIN:VTIMEZONE
TZID:America/New_York
BEGIN:DAYLIGHT
TZOFFSETFROM:-0500
TZOFFSETTO:-0400
TZNAME:EDT
DTSTART:20220313T070000
END:DAYLIGHT
BEGIN:STANDARD
TZOFFSETFROM:-0400
TZOFFSETTO:-0500
TZNAME:EST
DTSTART:20221106T060000
END:STANDARD
BEGIN:DAYLIGHT
TZOFFSETFROM:-0500
TZOFFSETTO:-0400
TZNAME:EDT
DTSTART:20230312T070000
END:DAYLIGHT
BEGIN:STANDARD
TZOFFSETFROM:-0400
TZOFFSETTO:-0500
TZNAME:EST
DTSTART:20231105T060000
END:STANDARD
BEGIN:DAYLIGHT
TZOFFSETFROM:-0500
TZOFFSETTO:-0400
TZNAME:EDT
DTSTART:20240310T070000
END:DAYLIGHT
BEGIN:STANDARD
TZOFFSETFROM:-0400
TZOFFSETTO:-0500
TZNAME:EST
DTSTART:20241103T060000
END:STANDARD
END:VTIMEZONE
BEGIN:VEVENT
DTSTART;TZID=America/New_York:20230827T210000
DTEND;TZID=America/New_York:20230827T223000
DTSTAMP:20260420T010754
CREATED:20230809T195216Z
LAST-MODIFIED:20230809T195216Z
UID:4689-1693170000-1693175400@vaishnavsanghusa.org
SUMMARY:Putrada Ekadashi
DESCRIPTION:Topic: Putrada Ekadashi \nTime: Sunday\, August 27th\, 2023 at 9:00 PM EST (USA & Canada) \nJoin Zoom Meeting https://zoom.us/j/86161034535 Meeting ID: 861 6103 4535 Passcode: 11
URL:https://vaishnavsanghusa.org/event/putrada-ekadashi-4/
CATEGORIES:Satsang
ATTACH;FMTTYPE=image/jpeg:https://vaishnavsanghusa.org/wp-content/uploads/2023/08/Putrada-Ekadashi-Aug.jpeg
END:VEVENT
BEGIN:VEVENT
DTSTART;TZID=America/New_York:20230910T210000
DTEND;TZID=America/New_York:20230910T223000
DTSTAMP:20260420T010754
CREATED:20230908T000658Z
LAST-MODIFIED:20230908T003432Z
UID:4757-1694379600-1694385000@vaishnavsanghusa.org
SUMMARY:Aja Ekadashi
DESCRIPTION:Topic: Aja Ekadashi \nTime: Sunday\, September  10th\, 2023 at 9:00 PM EST (USA & Canada) \nJoin Zoom Meeting https://zoom.us/j/86161034535 Meeting ID: 861 6103 4535 Passcode: 11
URL:https://vaishnavsanghusa.org/event/aja-ekadashi-3/
CATEGORIES:Satsang
ATTACH;FMTTYPE=image/jpeg:https://vaishnavsanghusa.org/wp-content/uploads/2023/09/Aja-Ekadashi-1.jpeg
END:VEVENT
BEGIN:VEVENT
DTSTART;TZID=America/New_York:20230912T160000
DTEND;TZID=America/New_York:20230912T213000
DTSTAMP:20260420T010754
CREATED:20230908T004820Z
LAST-MODIFIED:20230908T005228Z
UID:4783-1694534400-1694554200@vaishnavsanghusa.org
SUMMARY:Shrimad Bhagwat Satsang Mahotsav
DESCRIPTION:Topic: Shrimad Bhagwat Satsang Mahotsav \nTime: September 12th – September 18th\, 2023 from 4:00 PM EST (USA & Canada) onwards \nShobha Yatra will be on 12th Sept 2023 at 4:00 PM \nMahaprasad 5:00 PM to 6:15 PM \nProgram: 6:30 PM to 9:30 PM \nVenue: Samarpan Temple & Community Center \n2746 Mechanicsville Road \nBensalem\, PA 19020
URL:https://vaishnavsanghusa.org/event/shrimad-bhagwat-satsang-mahotsav-2/
LOCATION:Samarpan Temple & community Center\, 2746 Mechanicsville road\, Bensalem\, PA\, 19020\, United States
CATEGORIES:Satsang
ATTACH;FMTTYPE=image/jpeg:https://vaishnavsanghusa.org/wp-content/uploads/2023/09/Shrimad-Bhagwat-Satsang-Mahotsav-1.jpeg
END:VEVENT
BEGIN:VEVENT
DTSTART;TZID=America/New_York:20230913T170000
DTEND;TZID=America/New_York:20230914T213000
DTSTAMP:20260420T010754
CREATED:20230908T004820Z
LAST-MODIFIED:20230908T005229Z
UID:4787-1694624400-1694727000@vaishnavsanghusa.org
SUMMARY:Shrimad Bhagwat Satsang Mahotsav
DESCRIPTION:Topic: Shrimad Bhagwat Satsang Mahotsav \nTime: September 12th – September 18th\, 2023 from 4:00 PM EST (USA & Canada) onwards \nShobha Yatra will be on 12th Sept 2023 at 4:00 PM \nMahaprasad 5:00 PM to 6:15 PM \nProgram: 6:30 PM to 9:30 PM \nVenue: Samarpan Temple & Community Center \n2746 Mechanicsville Road \nBensalem\, PA 19020
URL:https://vaishnavsanghusa.org/event/shrimad-bhagwat-satsang-mahotsav-2-2023-09-13/
LOCATION:Samarpan Temple & community Center\, 2746 Mechanicsville road\, Bensalem\, PA\, 19020\, United States
CATEGORIES:Satsang
ATTACH;FMTTYPE=image/jpeg:https://vaishnavsanghusa.org/wp-content/uploads/2023/09/Shrimad-Bhagwat-Satsang-Mahotsav-1.jpeg
END:VEVENT
BEGIN:VEVENT
DTSTART;TZID=America/New_York:20230914T170000
DTEND;TZID=America/New_York:20230915T213000
DTSTAMP:20260420T010754
CREATED:20230908T004820Z
LAST-MODIFIED:20230908T005229Z
UID:4788-1694710800-1694813400@vaishnavsanghusa.org
SUMMARY:Shrimad Bhagwat Satsang Mahotsav
DESCRIPTION:Topic: Shrimad Bhagwat Satsang Mahotsav \nTime: September 12th – September 18th\, 2023 from 4:00 PM EST (USA & Canada) onwards \nShobha Yatra will be on 12th Sept 2023 at 4:00 PM \nMahaprasad 5:00 PM to 6:15 PM \nProgram: 6:30 PM to 9:30 PM \nVenue: Samarpan Temple & Community Center \n2746 Mechanicsville Road \nBensalem\, PA 19020
URL:https://vaishnavsanghusa.org/event/shrimad-bhagwat-satsang-mahotsav-2-2023-09-14/
LOCATION:Samarpan Temple & community Center\, 2746 Mechanicsville road\, Bensalem\, PA\, 19020\, United States
CATEGORIES:Satsang
ATTACH;FMTTYPE=image/jpeg:https://vaishnavsanghusa.org/wp-content/uploads/2023/09/Shrimad-Bhagwat-Satsang-Mahotsav-1.jpeg
END:VEVENT
BEGIN:VEVENT
DTSTART;TZID=America/New_York:20230915T170000
DTEND;TZID=America/New_York:20230916T213000
DTSTAMP:20260420T010754
CREATED:20230908T004820Z
LAST-MODIFIED:20230908T005229Z
UID:4789-1694797200-1694899800@vaishnavsanghusa.org
SUMMARY:Shrimad Bhagwat Satsang Mahotsav
DESCRIPTION:Topic: Shrimad Bhagwat Satsang Mahotsav \nTime: September 12th – September 18th\, 2023 from 4:00 PM EST (USA & Canada) onwards \nShobha Yatra will be on 12th Sept 2023 at 4:00 PM \nMahaprasad 5:00 PM to 6:15 PM \nProgram: 6:30 PM to 9:30 PM \nVenue: Samarpan Temple & Community Center \n2746 Mechanicsville Road \nBensalem\, PA 19020
URL:https://vaishnavsanghusa.org/event/shrimad-bhagwat-satsang-mahotsav-2-2023-09-15/
LOCATION:Samarpan Temple & community Center\, 2746 Mechanicsville road\, Bensalem\, PA\, 19020\, United States
CATEGORIES:Satsang
ATTACH;FMTTYPE=image/jpeg:https://vaishnavsanghusa.org/wp-content/uploads/2023/09/Shrimad-Bhagwat-Satsang-Mahotsav-1.jpeg
END:VEVENT
BEGIN:VEVENT
DTSTART;TZID=America/New_York:20230916T170000
DTEND;TZID=America/New_York:20230917T213000
DTSTAMP:20260420T010754
CREATED:20230908T004820Z
LAST-MODIFIED:20230908T005230Z
UID:4790-1694883600-1694986200@vaishnavsanghusa.org
SUMMARY:Shrimad Bhagwat Satsang Mahotsav
DESCRIPTION:Topic: Shrimad Bhagwat Satsang Mahotsav \nTime: September 12th – September 18th\, 2023 from 4:00 PM EST (USA & Canada) onwards \nShobha Yatra will be on 12th Sept 2023 at 4:00 PM \nMahaprasad 5:00 PM to 6:15 PM \nProgram: 6:30 PM to 9:30 PM \nVenue: Samarpan Temple & Community Center \n2746 Mechanicsville Road \nBensalem\, PA 19020
URL:https://vaishnavsanghusa.org/event/shrimad-bhagwat-satsang-mahotsav-2-2023-09-16/
LOCATION:Samarpan Temple & community Center\, 2746 Mechanicsville road\, Bensalem\, PA\, 19020\, United States
CATEGORIES:Satsang
ATTACH;FMTTYPE=image/jpeg:https://vaishnavsanghusa.org/wp-content/uploads/2023/09/Shrimad-Bhagwat-Satsang-Mahotsav-1.jpeg
END:VEVENT
BEGIN:VEVENT
DTSTART;TZID=America/New_York:20230917T170000
DTEND;TZID=America/New_York:20230918T213000
DTSTAMP:20260420T010754
CREATED:20230908T004820Z
LAST-MODIFIED:20230908T005230Z
UID:4791-1694970000-1695072600@vaishnavsanghusa.org
SUMMARY:Shrimad Bhagwat Satsang Mahotsav
DESCRIPTION:Topic: Shrimad Bhagwat Satsang Mahotsav \nTime: September 12th – September 18th\, 2023 from 4:00 PM EST (USA & Canada) onwards \nShobha Yatra will be on 12th Sept 2023 at 4:00 PM \nMahaprasad 5:00 PM to 6:15 PM \nProgram: 6:30 PM to 9:30 PM \nVenue: Samarpan Temple & Community Center \n2746 Mechanicsville Road \nBensalem\, PA 19020
URL:https://vaishnavsanghusa.org/event/shrimad-bhagwat-satsang-mahotsav-2-2023-09-17/
LOCATION:Samarpan Temple & community Center\, 2746 Mechanicsville road\, Bensalem\, PA\, 19020\, United States
CATEGORIES:Satsang
ATTACH;FMTTYPE=image/jpeg:https://vaishnavsanghusa.org/wp-content/uploads/2023/09/Shrimad-Bhagwat-Satsang-Mahotsav-1.jpeg
END:VEVENT
BEGIN:VEVENT
DTSTART;TZID=America/New_York:20230918T170000
DTEND;TZID=America/New_York:20230919T213000
DTSTAMP:20260420T010754
CREATED:20230908T004820Z
LAST-MODIFIED:20230908T005231Z
UID:4792-1695056400-1695159000@vaishnavsanghusa.org
SUMMARY:Shrimad Bhagwat Satsang Mahotsav
DESCRIPTION:Topic: Shrimad Bhagwat Satsang Mahotsav \nTime: September 12th – September 18th\, 2023 from 4:00 PM EST (USA & Canada) onwards \nShobha Yatra will be on 12th Sept 2023 at 4:00 PM \nMahaprasad 5:00 PM to 6:15 PM \nProgram: 6:30 PM to 9:30 PM \nVenue: Samarpan Temple & Community Center \n2746 Mechanicsville Road \nBensalem\, PA 19020
URL:https://vaishnavsanghusa.org/event/shrimad-bhagwat-satsang-mahotsav-2-2023-09-18/
LOCATION:Samarpan Temple & community Center\, 2746 Mechanicsville road\, Bensalem\, PA\, 19020\, United States
CATEGORIES:Satsang
ATTACH;FMTTYPE=image/jpeg:https://vaishnavsanghusa.org/wp-content/uploads/2023/09/Shrimad-Bhagwat-Satsang-Mahotsav-1.jpeg
END:VEVENT
BEGIN:VEVENT
DTSTART;TZID=America/New_York:20230920T173000
DTEND;TZID=America/New_York:20230920T193000
DTSTAMP:20260420T010754
CREATED:20230908T010038Z
LAST-MODIFIED:20230908T010038Z
UID:4801-1695231000-1695238200@vaishnavsanghusa.org
SUMMARY:Nand Mahotsav DE
DESCRIPTION:Topic: Nand Mahotsav \nTime: Wednesday\, September 20th\, 2023 from 5:30 PM to 7:30 PM EST (USA & Canada) \nPrasad: 7:30 PM \nVenue: Hindu Temple Association of Delaware \n760 Yorklyn Road \nHockessin\, DE 19707
URL:https://vaishnavsanghusa.org/event/nand-mahotsav-de/
LOCATION:Hindu temple association of Delaware\, 760 Yorklyn Road\, Hockessin\, DE\, 19707\, United States
CATEGORIES:Satsang
ATTACH;FMTTYPE=image/jpeg:https://vaishnavsanghusa.org/wp-content/uploads/2023/09/Nand-Mahotsav-4.jpeg
END:VEVENT
BEGIN:VEVENT
DTSTART;TZID=America/New_York:20230921T170000
DTEND;TZID=America/New_York:20230921T190000
DTSTAMP:20260420T010754
CREATED:20230908T001921Z
LAST-MODIFIED:20230908T010613Z
UID:4761-1695315600-1695322800@vaishnavsanghusa.org
SUMMARY:Nand Mahotsav
DESCRIPTION:Topic: Nand Mahotsav \nTime: Thursday\, September 21st\, 2023 from 5:00 PM to 7:00 PM EST (USA & Canada) \nVachanamrut: 5:00 PM to 6:00 PM \nNand Mahotsav: 6:00 PM to 7:00 PM \nVenue: Vrajdham Haveli \n5733 N. Dean Rd\, Orlando\, FL 32817
URL:https://vaishnavsanghusa.org/event/nand-mahotsav-3/
LOCATION:Vrajdham Haveli\, 5733 N. Dean Rd\, Orlando\, FL\, 32817\, United States
CATEGORIES:Satsang
ATTACH;FMTTYPE=image/jpeg:https://vaishnavsanghusa.org/wp-content/uploads/2023/09/Nand-Mahotsav-2.jpeg
END:VEVENT
BEGIN:VEVENT
DTSTART;TZID=America/New_York:20230924T160000
DTEND;TZID=America/New_York:20230924T170000
DTSTAMP:20260420T010754
CREATED:20230908T003755Z
LAST-MODIFIED:20230908T003755Z
UID:4779-1695571200-1695574800@vaishnavsanghusa.org
SUMMARY:Nand Mahotsav VA
DESCRIPTION:Topic: Nand Mahotsav \nTime: Sunday\, September 24th\, 2023 from 4:00 PM EST (USA & Canada) \nVenue: Cale Community Center (Greenbrier) \n4615 Stringfellow Road\, \nChantilly\, VA 20151
URL:https://vaishnavsanghusa.org/event/nand-mahotsav-va/
LOCATION:Cale Community Center (Greenbrier)\, 4615 Stringfellow Road\, Chantilly\, VA\, 20151\, United States
CATEGORIES:Satsang
ATTACH;FMTTYPE=image/jpeg:https://vaishnavsanghusa.org/wp-content/uploads/2023/09/Nand-Mahotsav-3.jpeg
END:VEVENT
BEGIN:VEVENT
DTSTART;TZID=America/New_York:20230924T173000
DTEND;TZID=America/New_York:20230924T210000
DTSTAMP:20260420T010754
CREATED:20230908T002752Z
LAST-MODIFIED:20230908T002752Z
UID:4772-1695576600-1695589200@vaishnavsanghusa.org
SUMMARY:Krishna An Inspiration
DESCRIPTION:Topic: Krishna An Inspiration \nTime: Sunday\, September 24th\, 2023 from 5:30 PM EST (USA & Canada) onwards \nDinner: 5:30 PM to 6:30 PM \nShow: 7:00 PM onwards \nVenue: Olympia High School \n4301 S Apopka Vineland\, Orlando\, FL 32835
URL:https://vaishnavsanghusa.org/event/krishna-an-inspiration/
LOCATION:Olympia High School\, 4301 S Apopka Vineland\, Orlando\, FL\, 32835\, United States
CATEGORIES:Satsang
ATTACH;FMTTYPE=image/jpeg:https://vaishnavsanghusa.org/wp-content/uploads/2023/09/Krishna-An-Inspiration.jpeg
END:VEVENT
BEGIN:VEVENT
DTSTART;TZID=America/New_York:20230926T120000
DTEND;TZID=America/New_York:20230926T183000
DTSTAMP:20260420T010754
CREATED:20230926T011918Z
LAST-MODIFIED:20230927T012146Z
UID:4828-1695729600-1695753000@vaishnavsanghusa.org
SUMMARY:Daan Leela Manorath
DESCRIPTION:Topic: Daan Leela Manorath \nTime: Tuesday\, September 26th\, 2023 12:00 PM & 6:30 PM EST (USA & Canada) \nVenue: Vrajdham Haveli \n5733 N. Dean Rd\, Orlando\, FL 32817
URL:https://vaishnavsanghusa.org/event/daan-leela-manorath/
LOCATION:Vrajdham Haveli\, 5733 N. Dean Rd\, Orlando\, FL\, 32817\, United States
CATEGORIES:Satsang
ATTACH;FMTTYPE=image/jpeg:https://vaishnavsanghusa.org/wp-content/uploads/2023/09/Daan-Leela-Manorath.jpeg
END:VEVENT
BEGIN:VEVENT
DTSTART;TZID=America/New_York:20230926T210000
DTEND;TZID=America/New_York:20230926T223000
DTSTAMP:20260420T010754
CREATED:20230908T003252Z
LAST-MODIFIED:20230908T003252Z
UID:4775-1695762000-1695767400@vaishnavsanghusa.org
SUMMARY:Parivartini Ekadashi
DESCRIPTION:Topic: Parivartini Ekadashi \nTime: Tuesday\, September 26th\, 2023 at 9:00 PM EST (USA & Canada) \nJoin Zoom Meeting https://zoom.us/j/86161034535 Meeting ID: 861 6103 4535 Passcode: 11
URL:https://vaishnavsanghusa.org/event/parivartini-ekadashi/
CATEGORIES:Satsang
ATTACH;FMTTYPE=image/jpeg:https://vaishnavsanghusa.org/wp-content/uploads/2023/09/Parivartini-Ekadashi.jpeg
END:VEVENT
BEGIN:VEVENT
DTSTART;TZID=America/New_York:20231001T120000
DTEND;TZID=America/New_York:20231001T183000
DTSTAMP:20260420T010754
CREATED:20230927T012435Z
LAST-MODIFIED:20230927T012435Z
UID:4832-1696161600-1696185000@vaishnavsanghusa.org
SUMMARY:Daan Leela Manorath
DESCRIPTION:Topic: Daan Leela Manorath \nTime: Sunday\, October 1st\, 2023 12:00 PM & 6:30 PM EST (USA & Canada) \nVenue: Vrajdham Haveli \n5733 N. Dean Rd\, Orlando\, FL 32817
URL:https://vaishnavsanghusa.org/event/daan-leela-manorath-2/
LOCATION:Vrajdham Haveli\, 5733 N. Dean Rd\, Orlando\, FL\, 32817\, United States
CATEGORIES:Satsang
ATTACH;FMTTYPE=image/jpeg:https://vaishnavsanghusa.org/wp-content/uploads/2023/09/Daan-Leela-Manorath.jpeg
END:VEVENT
BEGIN:VEVENT
DTSTART;TZID=America/New_York:20231014T183000
DTEND;TZID=America/New_York:20231014T190000
DTSTAMP:20260420T010754
CREATED:20231010T224804Z
LAST-MODIFIED:20231010T224804Z
UID:4841-1697308200-1697310000@vaishnavsanghusa.org
SUMMARY:Kot Ni Sanji
DESCRIPTION:Topic: Kot Ni Sanji \nTime: Saturday\, October 14th\, 2023 6:30 PM to 7:00 PM EST (USA & Canada) \nVenue: Vrajdham Haveli \n5733 N. Dean Rd\, Orlando\, FL 32817
URL:https://vaishnavsanghusa.org/event/kot-ni-sanji/
LOCATION:Vrajdham Haveli\, 5733 N. Dean Rd\, Orlando\, FL\, 32817\, United States
CATEGORIES:Satsang
ATTACH;FMTTYPE=image/jpeg:https://vaishnavsanghusa.org/wp-content/uploads/2023/10/Kot-Ni-Sanji.jpeg
END:VEVENT
BEGIN:VEVENT
DTSTART;TZID=America/New_York:20231015T180000
DTEND;TZID=America/New_York:20231015T210000
DTSTAMP:20260420T010754
CREATED:20231010T230431Z
LAST-MODIFIED:20231017T231219Z
UID:4848-1697392800-1697403600@vaishnavsanghusa.org
SUMMARY:Raas Garba
DESCRIPTION:Topic: Raas Garba \nTime: Sunday\, October 15th\, 2023 6:00 PM onwards EST (USA & Canada) \nVenue: Vrajdham Haveli \n5733 N. Dean Rd\, Orlando\, FL 32817
URL:https://vaishnavsanghusa.org/event/raas-garba/
LOCATION:Vrajdham Haveli\, 5733 N. Dean Rd\, Orlando\, FL\, 32817\, United States
ATTACH;FMTTYPE=image/jpeg:https://vaishnavsanghusa.org/wp-content/uploads/2023/10/Raas-Garba-2023.jpeg
END:VEVENT
BEGIN:VEVENT
DTSTART;TZID=America/New_York:20231021T180000
DTEND;TZID=America/New_York:20231021T200000
DTSTAMP:20260420T010754
CREATED:20231018T002522Z
LAST-MODIFIED:20231018T002522Z
UID:4852-1697911200-1697918400@vaishnavsanghusa.org
SUMMARY:Ras Vilas Garba Nights
DESCRIPTION:Topic: Ras Vilas Garba Nights \nTime: Saturday\, October 21st\, 2023 6:00 PM onwards \nTime: Sunday\, October 22nd\, 2023 6:00 PM onwards \nTime: Saturday\, October 28th\, 2023 6:00 PM onwards \nVenue: Vrajdham Haveli \n5733 N. Dean Rd\, Orlando\, FL 32817
URL:https://vaishnavsanghusa.org/event/ras-vilas-garba-nights/
LOCATION:Vrajdham Haveli\, 5733 N. Dean Rd\, Orlando\, FL\, 32817\, United States
ATTACH;FMTTYPE=image/jpeg:https://vaishnavsanghusa.org/wp-content/uploads/2023/10/Ras-Vilas-Garba-Nights.jpeg
END:VEVENT
BEGIN:VEVENT
DTSTART;TZID=America/New_York:20231022T180000
DTEND;TZID=America/New_York:20231022T200000
DTSTAMP:20260420T010754
CREATED:20231018T002522Z
LAST-MODIFIED:20231018T002522Z
UID:4857-1697997600-1698004800@vaishnavsanghusa.org
SUMMARY:Ras Vilas Garba Nights
DESCRIPTION:Topic: Ras Vilas Garba Nights \nTime: Saturday\, October 21st\, 2023 6:00 PM onwards \nTime: Sunday\, October 22nd\, 2023 6:00 PM onwards \nTime: Saturday\, October 28th\, 2023 6:00 PM onwards \nVenue: Vrajdham Haveli \n5733 N. Dean Rd\, Orlando\, FL 32817
URL:https://vaishnavsanghusa.org/event/ras-vilas-garba-nights-2023-10-22/
LOCATION:Vrajdham Haveli\, 5733 N. Dean Rd\, Orlando\, FL\, 32817\, United States
ATTACH;FMTTYPE=image/jpeg:https://vaishnavsanghusa.org/wp-content/uploads/2023/10/Ras-Vilas-Garba-Nights.jpeg
END:VEVENT
BEGIN:VEVENT
DTSTART;TZID=America/New_York:20231025T210000
DTEND;TZID=America/New_York:20231025T220000
DTSTAMP:20260420T010754
CREATED:20231024T013504Z
LAST-MODIFIED:20231024T013504Z
UID:4864-1698267600-1698271200@vaishnavsanghusa.org
SUMMARY:Pashankusha Ekadashi
DESCRIPTION:Topic: Pashankusha Ekadashi \nTime: Wednesday\, October 25th\, 2023 at 9:00 PM EST (USA & Canada) \nJoin Zoom Meeting https://zoom.us/j/86161034535 Meeting ID: 861 6103 4535 Passcode: 11
URL:https://vaishnavsanghusa.org/event/pashankusha-ekadashi-2/
CATEGORIES:Satsang
ATTACH;FMTTYPE=image/jpeg:https://vaishnavsanghusa.org/wp-content/uploads/2023/10/Pashankusha-Ekadashi.jpeg
END:VEVENT
BEGIN:VEVENT
DTSTART;TZID=America/New_York:20231028T180000
DTEND;TZID=America/New_York:20231028T200000
DTSTAMP:20260420T010754
CREATED:20231018T002522Z
LAST-MODIFIED:20231018T002522Z
UID:4858-1698516000-1698523200@vaishnavsanghusa.org
SUMMARY:Ras Vilas Garba Nights
DESCRIPTION:Topic: Ras Vilas Garba Nights \nTime: Saturday\, October 21st\, 2023 6:00 PM onwards \nTime: Sunday\, October 22nd\, 2023 6:00 PM onwards \nTime: Saturday\, October 28th\, 2023 6:00 PM onwards \nVenue: Vrajdham Haveli \n5733 N. Dean Rd\, Orlando\, FL 32817
URL:https://vaishnavsanghusa.org/event/ras-vilas-garba-nights-2023-10-28/
LOCATION:Vrajdham Haveli\, 5733 N. Dean Rd\, Orlando\, FL\, 32817\, United States
ATTACH;FMTTYPE=image/jpeg:https://vaishnavsanghusa.org/wp-content/uploads/2023/10/Ras-Vilas-Garba-Nights.jpeg
END:VEVENT
BEGIN:VEVENT
DTSTART;TZID=America/New_York:20231105T190000
DTEND;TZID=America/New_York:20231105T210000
DTSTAMP:20260420T010754
CREATED:20231105T194332Z
LAST-MODIFIED:20231105T194332Z
UID:4872-1699210800-1699218000@vaishnavsanghusa.org
SUMMARY:Shri Krushna Bhajans
DESCRIPTION:Topic: Shri Krushna Bhajans \nTime: Sunday\, November 5th\, 2023 7:00 PM to 9:00 PM \nVenue: Vrajdham Haveli \n5733 N. Dean Rd\, Orlando\, FL 32817
URL:https://vaishnavsanghusa.org/event/shri-krushna-bhajans/
LOCATION:Vrajdham Haveli\, 5733 N. Dean Rd\, Orlando\, FL\, 32817\, United States
CATEGORIES:Satsang
ATTACH;FMTTYPE=image/jpeg:https://vaishnavsanghusa.org/wp-content/uploads/2023/11/Shri-Krushna-Bhajans.jpeg
END:VEVENT
BEGIN:VEVENT
DTSTART;TZID=America/New_York:20231109T210000
DTEND;TZID=America/New_York:20231109T223000
DTSTAMP:20260420T010754
CREATED:20231105T201021Z
LAST-MODIFIED:20231105T201021Z
UID:4887-1699563600-1699569000@vaishnavsanghusa.org
SUMMARY:Rama Ekadashi
DESCRIPTION:Topic: Rama Ekadashi \nTime: Thursday\, November 9th\, 2023 at 9:00 PM EST (USA & Canada) \nJoin Zoom Meeting https://zoom.us/j/86161034535 Meeting ID: 861 6103 4535 Passcode: 11
URL:https://vaishnavsanghusa.org/event/rama-ekadashi-2/
CATEGORIES:Satsang
ATTACH;FMTTYPE=image/jpeg:https://vaishnavsanghusa.org/wp-content/uploads/2023/11/Rama-Ekadashi.jpeg
END:VEVENT
BEGIN:VEVENT
DTSTART;TZID=America/New_York:20231111T120000
DTEND;TZID=America/New_York:20231111T123000
DTSTAMP:20260420T010754
CREATED:20231105T203227Z
LAST-MODIFIED:20231105T203227Z
UID:4895-1699704000-1699705800@vaishnavsanghusa.org
SUMMARY:Dhanteras 2023
DESCRIPTION:Topic: Dhanteras 2023 \nTime: Saturday\, November 11th\, 2023 12:00 PM onwards \nVenue: Vrajdham Haveli \n5733 N. Dean Rd\, Orlando\, FL 32817
URL:https://vaishnavsanghusa.org/event/dhanteras-2023/
LOCATION:Vrajdham Haveli\, 5733 N. Dean Rd\, Orlando\, FL\, 32817\, United States
CATEGORIES:Satsang
ATTACH;FMTTYPE=image/jpeg:https://vaishnavsanghusa.org/wp-content/uploads/2023/11/Dhanteras-2023.jpeg
END:VEVENT
BEGIN:VEVENT
DTSTART;TZID=America/New_York:20231118T100000
DTEND;TZID=America/New_York:20231118T140000
DTSTAMP:20260420T010754
CREATED:20231105T195358Z
LAST-MODIFIED:20231105T195358Z
UID:4879-1700301600-1700316000@vaishnavsanghusa.org
SUMMARY:Annakut Mahotsav
DESCRIPTION:Topic: Annakut Mahotsav \nTime: Saturday\, November 18th\, 2023 10:00 AM onwards \nVenue: Vrajdham Haveli \n5733 N. Dean Rd\, Orlando\, FL 32817
URL:https://vaishnavsanghusa.org/event/annakut-mahotsav-2/
LOCATION:Vrajdham Haveli\, 5733 N. Dean Rd\, Orlando\, FL\, 32817\, United States
CATEGORIES:Satsang
ATTACH;FMTTYPE=image/jpeg:https://vaishnavsanghusa.org/wp-content/uploads/2023/11/Annakut-Mahotsav.jpeg
END:VEVENT
BEGIN:VEVENT
DTSTART;TZID=America/New_York:20231120T180000
DTEND;TZID=America/New_York:20231120T190000
DTSTAMP:20260420T010754
CREATED:20231105T203829Z
LAST-MODIFIED:20231105T203829Z
UID:4899-1700503200-1700506800@vaishnavsanghusa.org
SUMMARY:Gopashtami
DESCRIPTION:Topic: Gopashtami \nTime: Monday\, November 20th\, 2023 6:00 PM onwards \nVenue: Vrajdham Haveli \n5733 N. Dean Rd\, Orlando\, FL 32817
URL:https://vaishnavsanghusa.org/event/gopashtami/
LOCATION:Vrajdham Haveli\, 5733 N. Dean Rd\, Orlando\, FL\, 32817\, United States
CATEGORIES:Satsang
ATTACH;FMTTYPE=image/jpeg:https://vaishnavsanghusa.org/wp-content/uploads/2023/11/Gopashtami.jpeg
END:VEVENT
BEGIN:VEVENT
DTSTART;TZID=America/New_York:20231122T120000
DTEND;TZID=America/New_York:20231122T123000
DTSTAMP:20260420T010754
CREATED:20231105T204713Z
LAST-MODIFIED:20231105T204713Z
UID:4907-1700654400-1700656200@vaishnavsanghusa.org
SUMMARY:Palna Darshan
DESCRIPTION:Topic: Palna Darshan \nTime: Wednesday\, November 22nd\, 2023 12:00 PM onwards \nVenue: Vrajdham Haveli \n5733 N. Dean Rd\, Orlando\, FL 32817
URL:https://vaishnavsanghusa.org/event/palna-darshan/
LOCATION:Vrajdham Haveli\, 5733 N. Dean Rd\, Orlando\, FL\, 32817\, United States
CATEGORIES:Satsang
ATTACH;FMTTYPE=image/jpeg:https://vaishnavsanghusa.org/wp-content/uploads/2023/11/Palna-Darshan.jpeg
END:VEVENT
BEGIN:VEVENT
DTSTART;TZID=America/New_York:20231123T180000
DTEND;TZID=America/New_York:20231123T190000
DTSTAMP:20260420T010754
CREATED:20231105T202649Z
LAST-MODIFIED:20231105T202649Z
UID:4891-1700762400-1700766000@vaishnavsanghusa.org
SUMMARY:Prabodini Ekadashi
DESCRIPTION:Topic: Prabodini Ekadashi \nTime: Thursday\, November 23rd\, 2023 6:00 PM onwards \nVenue: Vrajdham Haveli \n5733 N. Dean Rd\, Orlando\, FL 32817
URL:https://vaishnavsanghusa.org/event/prabodini-ekadashi/
LOCATION:Vrajdham Haveli\, 5733 N. Dean Rd\, Orlando\, FL\, 32817\, United States
CATEGORIES:Satsang
ATTACH;FMTTYPE=image/jpeg:https://vaishnavsanghusa.org/wp-content/uploads/2023/11/Prabodini-Ekadashi.jpeg
END:VEVENT
BEGIN:VEVENT
DTSTART;TZID=America/New_York:20231123T210000
DTEND;TZID=America/New_York:20231123T223000
DTSTAMP:20260420T010754
CREATED:20231105T200342Z
LAST-MODIFIED:20231105T200342Z
UID:4883-1700773200-1700778600@vaishnavsanghusa.org
SUMMARY:Prabodhini Ekadashi
DESCRIPTION:Topic: Prabodhini Ekadashi \nTime: Thursday\, November 23rd\, 2023 at 9:00 PM EST (USA & Canada) \nJoin Zoom Meeting https://zoom.us/j/86161034535 Meeting ID: 861 6103 4535 Passcode: 11
URL:https://vaishnavsanghusa.org/event/prabodhini-ekadashi-2/
CATEGORIES:Satsang
ATTACH;FMTTYPE=image/jpeg:https://vaishnavsanghusa.org/wp-content/uploads/2023/11/Prabodhini-Ekadashi.jpeg
END:VEVENT
END:VCALENDAR