BEGIN:VCALENDAR
VERSION:2.0
PRODID:-//Vaishnav Sangh of USA - ECPv6.15.18//NONSGML v1.0//EN
CALSCALE:GREGORIAN
METHOD:PUBLISH
X-ORIGINAL-URL:https://vaishnavsanghusa.org
X-WR-CALDESC:Events for Vaishnav Sangh of USA
REFRESH-INTERVAL;VALUE=DURATION:PT1H
X-Robots-Tag:noindex
X-PUBLISHED-TTL:PT1H
BEGIN:VTIMEZONE
TZID:America/New_York
BEGIN:DAYLIGHT
TZOFFSETFROM:-0500
TZOFFSETTO:-0400
TZNAME:EDT
DTSTART:20210314T070000
END:DAYLIGHT
BEGIN:STANDARD
TZOFFSETFROM:-0400
TZOFFSETTO:-0500
TZNAME:EST
DTSTART:20211107T060000
END:STANDARD
BEGIN:DAYLIGHT
TZOFFSETFROM:-0500
TZOFFSETTO:-0400
TZNAME:EDT
DTSTART:20220313T070000
END:DAYLIGHT
BEGIN:STANDARD
TZOFFSETFROM:-0400
TZOFFSETTO:-0500
TZNAME:EST
DTSTART:20221106T060000
END:STANDARD
BEGIN:DAYLIGHT
TZOFFSETFROM:-0500
TZOFFSETTO:-0400
TZNAME:EDT
DTSTART:20230312T070000
END:DAYLIGHT
BEGIN:STANDARD
TZOFFSETFROM:-0400
TZOFFSETTO:-0500
TZNAME:EST
DTSTART:20231105T060000
END:STANDARD
END:VTIMEZONE
BEGIN:VEVENT
DTSTART;TZID=America/New_York:20220412T210000
DTEND;TZID=America/New_York:20220412T223000
DTSTAMP:20260419T103201
CREATED:20220411T034442Z
LAST-MODIFIED:20220411T034442Z
UID:3809-1649797200-1649802600@vaishnavsanghusa.org
SUMMARY:Kamada Ekadashi
DESCRIPTION:Topic: Kamada Ekadashi \nTime: Tuesday\, April 12th\, 2022 at 9:00 PM EST (USA & Canada) \nJoin Zoom Meeting https://uso2web.zoom.us/j/86161034535 Meeting ID: 861 6103 4535 Passcode: 11
URL:https://vaishnavsanghusa.org/event/kamada-ekadashi/
CATEGORIES:Satsang
ATTACH;FMTTYPE=image/jpeg:https://vaishnavsanghusa.org/wp-content/uploads/2022/04/National-Ekadashi-Satsang-5.jpeg
END:VEVENT
BEGIN:VEVENT
DTSTART;TZID=America/New_York:20220426T210000
DTEND;TZID=America/New_York:20220426T223000
DTSTAMP:20260419T103201
CREATED:20220411T034829Z
LAST-MODIFIED:20220411T034829Z
UID:3812-1651006800-1651012200@vaishnavsanghusa.org
SUMMARY:Varuthini Ekadashi
DESCRIPTION:Topic: Varuthini Ekadashi \nTime: Tuesday\, April 26th\, 2022 at 9:00 PM EST (USA & Canada) \nJoin Zoom Meeting https://uso2web.zoom.us/j/86161034535 Meeting ID: 861 6103 4535 Passcode: 11
URL:https://vaishnavsanghusa.org/event/varuthini-ekadashi/
CATEGORIES:Satsang
ATTACH;FMTTYPE=image/jpeg:https://vaishnavsanghusa.org/wp-content/uploads/2022/04/National-Ekadashi-Satsang-4.jpeg
END:VEVENT
END:VCALENDAR