BEGIN:VCALENDAR
VERSION:2.0
PRODID:-//Vaishnav Sangh of USA - ECPv6.15.18//NONSGML v1.0//EN
CALSCALE:GREGORIAN
METHOD:PUBLISH
X-ORIGINAL-URL:https://vaishnavsanghusa.org
X-WR-CALDESC:Events for Vaishnav Sangh of USA
REFRESH-INTERVAL;VALUE=DURATION:PT1H
X-Robots-Tag:noindex
X-PUBLISHED-TTL:PT1H
BEGIN:VTIMEZONE
TZID:America/New_York
BEGIN:DAYLIGHT
TZOFFSETFROM:-0500
TZOFFSETTO:-0400
TZNAME:EDT
DTSTART:20210314T070000
END:DAYLIGHT
BEGIN:STANDARD
TZOFFSETFROM:-0400
TZOFFSETTO:-0500
TZNAME:EST
DTSTART:20211107T060000
END:STANDARD
BEGIN:DAYLIGHT
TZOFFSETFROM:-0500
TZOFFSETTO:-0400
TZNAME:EDT
DTSTART:20220313T070000
END:DAYLIGHT
BEGIN:STANDARD
TZOFFSETFROM:-0400
TZOFFSETTO:-0500
TZNAME:EST
DTSTART:20221106T060000
END:STANDARD
BEGIN:DAYLIGHT
TZOFFSETFROM:-0500
TZOFFSETTO:-0400
TZNAME:EDT
DTSTART:20230312T070000
END:DAYLIGHT
BEGIN:STANDARD
TZOFFSETFROM:-0400
TZOFFSETTO:-0500
TZNAME:EST
DTSTART:20231105T060000
END:STANDARD
END:VTIMEZONE
BEGIN:VEVENT
DTSTART;TZID=America/New_York:20220703T150000
DTEND;TZID=America/New_York:20220703T170000
DTSTAMP:20260419T154223
CREATED:20220518T020659Z
LAST-MODIFIED:20220518T020828Z
UID:3880-1656860400-1656867600@vaishnavsanghusa.org
SUMMARY:Shri Giriraj Dharyashtakam Vachnamrut
DESCRIPTION:Topic: Shri Giriraj Dharyashtakam Vachnamrut \nTime: Sunday\, 3rd July 2022 from 3:00 PM to 5:00 PM EST \nVenue: Allen R Baca Center\, 301 West Bagdad Avenue BLDG #2\nRound Rock\, Austin\, TX 78664
URL:https://vaishnavsanghusa.org/event/shri-giriraj-dharyashtakam-vachnamrut/
LOCATION:Allen R Baca Center\, 301 West Bagdad Avenue BLDG #2\, Round Rock\, Austin\, TX\, 78664\, United States
CATEGORIES:Satsang
ATTACH;FMTTYPE=image/jpeg:https://vaishnavsanghusa.org/wp-content/uploads/2022/05/Shri-Giriraj-Dharyashtakam-Vachnamrut.jpeg
END:VEVENT
BEGIN:VEVENT
DTSTART;TZID=America/New_York:20220707T160000
DTEND;TZID=America/New_York:20220707T190000
DTSTAMP:20260419T154223
CREATED:20220518T012741Z
LAST-MODIFIED:20220518T012754Z
UID:3854-1657209600-1657220400@vaishnavsanghusa.org
SUMMARY:Shrimad Bhagwat Satsang Mahotsav
DESCRIPTION:Topic: Shrimad Bhagwat Satsang Mahotsav \nTime: Thursday – Wednesday\, July 7th – July 13th\, 2022 from 4:00 PM to 7:00 PM EST \nVenue: – Maha Lakshmi Devasthanam\nHindu temple association of Delaware\n760 Yorklyn Road\, Hokessine\,\nDelware 19707
URL:https://vaishnavsanghusa.org/event/shrimad-bhagwat-satsang-mahotsav/
LOCATION:Hindu temple association of Delaware\, 760 Yorklyn Road\, Hockessin\, DE\, 19707\, United States
CATEGORIES:Satsang
ATTACH;FMTTYPE=image/jpeg:https://vaishnavsanghusa.org/wp-content/uploads/2022/05/Shrimad-Bhagwat-Satsang-Maotsav.jpeg
END:VEVENT
BEGIN:VEVENT
DTSTART;TZID=America/New_York:20220708T160000
DTEND;TZID=America/New_York:20220708T190000
DTSTAMP:20260419T154223
CREATED:20220518T012741Z
LAST-MODIFIED:20220518T012754Z
UID:3858-1657296000-1657306800@vaishnavsanghusa.org
SUMMARY:Shrimad Bhagwat Satsang Mahotsav
DESCRIPTION:Topic: Shrimad Bhagwat Satsang Mahotsav \nTime: Thursday – Wednesday\, July 7th – July 13th\, 2022 from 4:00 PM to 7:00 PM EST \nVenue: – Maha Lakshmi Devasthanam\nHindu temple association of Delaware\n760 Yorklyn Road\, Hokessine\,\nDelware 19707
URL:https://vaishnavsanghusa.org/event/shrimad-bhagwat-satsang-mahotsav-2022-07-08/
LOCATION:Hindu temple association of Delaware\, 760 Yorklyn Road\, Hockessin\, DE\, 19707\, United States
CATEGORIES:Satsang
ATTACH;FMTTYPE=image/jpeg:https://vaishnavsanghusa.org/wp-content/uploads/2022/05/Shrimad-Bhagwat-Satsang-Maotsav.jpeg
END:VEVENT
BEGIN:VEVENT
DTSTART;TZID=America/New_York:20220709T160000
DTEND;TZID=America/New_York:20220709T190000
DTSTAMP:20260419T154223
CREATED:20220518T012741Z
LAST-MODIFIED:20220518T012754Z
UID:3859-1657382400-1657393200@vaishnavsanghusa.org
SUMMARY:Shrimad Bhagwat Satsang Mahotsav
DESCRIPTION:Topic: Shrimad Bhagwat Satsang Mahotsav \nTime: Thursday – Wednesday\, July 7th – July 13th\, 2022 from 4:00 PM to 7:00 PM EST \nVenue: – Maha Lakshmi Devasthanam\nHindu temple association of Delaware\n760 Yorklyn Road\, Hokessine\,\nDelware 19707
URL:https://vaishnavsanghusa.org/event/shrimad-bhagwat-satsang-mahotsav-2022-07-09/
LOCATION:Hindu temple association of Delaware\, 760 Yorklyn Road\, Hockessin\, DE\, 19707\, United States
CATEGORIES:Satsang
ATTACH;FMTTYPE=image/jpeg:https://vaishnavsanghusa.org/wp-content/uploads/2022/05/Shrimad-Bhagwat-Satsang-Maotsav.jpeg
END:VEVENT
BEGIN:VEVENT
DTSTART;TZID=America/New_York:20220710T160000
DTEND;TZID=America/New_York:20220710T190000
DTSTAMP:20260419T154223
CREATED:20220518T012741Z
LAST-MODIFIED:20220518T012754Z
UID:3860-1657468800-1657479600@vaishnavsanghusa.org
SUMMARY:Shrimad Bhagwat Satsang Mahotsav
DESCRIPTION:Topic: Shrimad Bhagwat Satsang Mahotsav \nTime: Thursday – Wednesday\, July 7th – July 13th\, 2022 from 4:00 PM to 7:00 PM EST \nVenue: – Maha Lakshmi Devasthanam\nHindu temple association of Delaware\n760 Yorklyn Road\, Hokessine\,\nDelware 19707
URL:https://vaishnavsanghusa.org/event/shrimad-bhagwat-satsang-mahotsav-2022-07-10/
LOCATION:Hindu temple association of Delaware\, 760 Yorklyn Road\, Hockessin\, DE\, 19707\, United States
CATEGORIES:Satsang
ATTACH;FMTTYPE=image/jpeg:https://vaishnavsanghusa.org/wp-content/uploads/2022/05/Shrimad-Bhagwat-Satsang-Maotsav.jpeg
END:VEVENT
BEGIN:VEVENT
DTSTART;TZID=America/New_York:20220711T160000
DTEND;TZID=America/New_York:20220711T190000
DTSTAMP:20260419T154223
CREATED:20220518T012741Z
LAST-MODIFIED:20220518T012755Z
UID:3861-1657555200-1657566000@vaishnavsanghusa.org
SUMMARY:Shrimad Bhagwat Satsang Mahotsav
DESCRIPTION:Topic: Shrimad Bhagwat Satsang Mahotsav \nTime: Thursday – Wednesday\, July 7th – July 13th\, 2022 from 4:00 PM to 7:00 PM EST \nVenue: – Maha Lakshmi Devasthanam\nHindu temple association of Delaware\n760 Yorklyn Road\, Hokessine\,\nDelware 19707
URL:https://vaishnavsanghusa.org/event/shrimad-bhagwat-satsang-mahotsav-2022-07-11/
LOCATION:Hindu temple association of Delaware\, 760 Yorklyn Road\, Hockessin\, DE\, 19707\, United States
CATEGORIES:Satsang
ATTACH;FMTTYPE=image/jpeg:https://vaishnavsanghusa.org/wp-content/uploads/2022/05/Shrimad-Bhagwat-Satsang-Maotsav.jpeg
END:VEVENT
BEGIN:VEVENT
DTSTART;TZID=America/New_York:20220712T160000
DTEND;TZID=America/New_York:20220712T190000
DTSTAMP:20260419T154223
CREATED:20220518T012741Z
LAST-MODIFIED:20220518T012755Z
UID:3862-1657641600-1657652400@vaishnavsanghusa.org
SUMMARY:Shrimad Bhagwat Satsang Mahotsav
DESCRIPTION:Topic: Shrimad Bhagwat Satsang Mahotsav \nTime: Thursday – Wednesday\, July 7th – July 13th\, 2022 from 4:00 PM to 7:00 PM EST \nVenue: – Maha Lakshmi Devasthanam\nHindu temple association of Delaware\n760 Yorklyn Road\, Hokessine\,\nDelware 19707
URL:https://vaishnavsanghusa.org/event/shrimad-bhagwat-satsang-mahotsav-2022-07-12/
LOCATION:Hindu temple association of Delaware\, 760 Yorklyn Road\, Hockessin\, DE\, 19707\, United States
CATEGORIES:Satsang
ATTACH;FMTTYPE=image/jpeg:https://vaishnavsanghusa.org/wp-content/uploads/2022/05/Shrimad-Bhagwat-Satsang-Maotsav.jpeg
END:VEVENT
BEGIN:VEVENT
DTSTART;TZID=America/New_York:20220713T160000
DTEND;TZID=America/New_York:20220713T190000
DTSTAMP:20260419T154223
CREATED:20220518T012741Z
LAST-MODIFIED:20220518T012755Z
UID:3863-1657728000-1657738800@vaishnavsanghusa.org
SUMMARY:Shrimad Bhagwat Satsang Mahotsav
DESCRIPTION:Topic: Shrimad Bhagwat Satsang Mahotsav \nTime: Thursday – Wednesday\, July 7th – July 13th\, 2022 from 4:00 PM to 7:00 PM EST \nVenue: – Maha Lakshmi Devasthanam\nHindu temple association of Delaware\n760 Yorklyn Road\, Hokessine\,\nDelware 19707
URL:https://vaishnavsanghusa.org/event/shrimad-bhagwat-satsang-mahotsav-2022-07-13/
LOCATION:Hindu temple association of Delaware\, 760 Yorklyn Road\, Hockessin\, DE\, 19707\, United States
CATEGORIES:Satsang
ATTACH;FMTTYPE=image/jpeg:https://vaishnavsanghusa.org/wp-content/uploads/2022/05/Shrimad-Bhagwat-Satsang-Maotsav.jpeg
END:VEVENT
BEGIN:VEVENT
DTSTART;TZID=America/New_York:20220724T160000
DTEND;TZID=America/New_York:20220724T170000
DTSTAMP:20260419T154223
CREATED:20220719T015434Z
LAST-MODIFIED:20220802T020021Z
UID:3951-1658678400-1658682000@vaishnavsanghusa.org
SUMMARY:Monthly Satsang July
DESCRIPTION:Topic: Monthly Satsang – July 2022 \nTime: Sunday\, July 24th\, 2022 at 4:00 – 5:00 PM EST (USA & Canada) \nJoin Zoom Meeting https://zoom.us/j/82562205155 Meeting ID: 825 6220 5155 Passcode: 01
URL:https://vaishnavsanghusa.org/event/monthly-satsang-july/
CATEGORIES:Satsang
ATTACH;FMTTYPE=image/jpeg:https://vaishnavsanghusa.org/wp-content/uploads/2022/08/Monthly-Satsang-July.jpeg
END:VEVENT
BEGIN:VEVENT
DTSTART;TZID=America/New_York:20220724T210000
DTEND;TZID=America/New_York:20220724T230000
DTSTAMP:20260419T154223
CREATED:20220719T020034Z
LAST-MODIFIED:20220802T020333Z
UID:3954-1658696400-1658703600@vaishnavsanghusa.org
SUMMARY:Kamika Ekadashi
DESCRIPTION:Topic: Kamika Ekadashi \nTime: Sunday\, July 24th\, 2022 at 9:00 PM EST (USA & Canada) \nJoin Zoom Meeting https://zoom.us/j/86161034535 Meeting ID: 861 6103 4535 Passcode: 11
URL:https://vaishnavsanghusa.org/event/kamika-ekadashi/
CATEGORIES:Satsang
ATTACH;FMTTYPE=image/jpeg:https://vaishnavsanghusa.org/wp-content/uploads/2022/08/Kamika-Ekadashi.jpeg
END:VEVENT
END:VCALENDAR