BEGIN:VCALENDAR
VERSION:2.0
PRODID:-//Vaishnav Sangh of USA - ECPv6.15.18//NONSGML v1.0//EN
CALSCALE:GREGORIAN
METHOD:PUBLISH
X-WR-CALNAME:Vaishnav Sangh of USA
X-ORIGINAL-URL:https://vaishnavsanghusa.org
X-WR-CALDESC:Events for Vaishnav Sangh of USA
REFRESH-INTERVAL;VALUE=DURATION:PT1H
X-Robots-Tag:noindex
X-PUBLISHED-TTL:PT1H
BEGIN:VTIMEZONE
TZID:America/New_York
BEGIN:DAYLIGHT
TZOFFSETFROM:-0500
TZOFFSETTO:-0400
TZNAME:EDT
DTSTART:20210314T070000
END:DAYLIGHT
BEGIN:STANDARD
TZOFFSETFROM:-0400
TZOFFSETTO:-0500
TZNAME:EST
DTSTART:20211107T060000
END:STANDARD
BEGIN:DAYLIGHT
TZOFFSETFROM:-0500
TZOFFSETTO:-0400
TZNAME:EDT
DTSTART:20220313T070000
END:DAYLIGHT
BEGIN:STANDARD
TZOFFSETFROM:-0400
TZOFFSETTO:-0500
TZNAME:EST
DTSTART:20221106T060000
END:STANDARD
BEGIN:DAYLIGHT
TZOFFSETFROM:-0500
TZOFFSETTO:-0400
TZNAME:EDT
DTSTART:20230312T070000
END:DAYLIGHT
BEGIN:STANDARD
TZOFFSETFROM:-0400
TZOFFSETTO:-0500
TZNAME:EST
DTSTART:20231105T060000
END:STANDARD
END:VTIMEZONE
BEGIN:VEVENT
DTSTART;TZID=America/New_York:20221006T210000
DTEND;TZID=America/New_York:20221006T223000
DTSTAMP:20260419T195740
CREATED:20220922T015649Z
LAST-MODIFIED:20220922T015649Z
UID:4053-1665090000-1665095400@vaishnavsanghusa.org
SUMMARY:Pashankusha Ekadashi
DESCRIPTION:Topic: Pashankusha Ekadashi \nTime: Thursday\, October 6th\, 2022 at 9:00 PM EST (USA & Canada) \nJoin Zoom Meeting https://zoom.us/j/86161034535 Meeting ID: 861 6103 4535 Passcode: 11
URL:https://vaishnavsanghusa.org/event/pashankusha-ekadashi/
CATEGORIES:Satsang
ATTACH;FMTTYPE=image/jpeg:https://vaishnavsanghusa.org/wp-content/uploads/2022/09/Pashankusha-Ekadashi.jpeg
END:VEVENT
BEGIN:VEVENT
DTSTART;TZID=America/New_York:20221016T113000
DTEND;TZID=America/New_York:20221016T143000
DTSTAMP:20260419T195740
CREATED:20220922T020747Z
LAST-MODIFIED:20220922T020913Z
UID:4060-1665919800-1665930600@vaishnavsanghusa.org
SUMMARY:Rasotsav
DESCRIPTION:Topic: Rasotsav \nTime: Sunday\, October 16th from 11:30 am to 2:30 pm \nVenue: – VFW \n649 Churchmans Road \nNewark\, DE 19702
URL:https://vaishnavsanghusa.org/event/rasotsav/
LOCATION:VFW Delaware\, 649 Churchmans Road\, Newark\, DE\, 19702\, United States
CATEGORIES:Satsang
ATTACH;FMTTYPE=image/jpeg:https://vaishnavsanghusa.org/wp-content/uploads/2022/09/Rasotsav.jpeg
END:VEVENT
BEGIN:VEVENT
DTSTART;TZID=America/New_York:20221021T210000
DTEND;TZID=America/New_York:20221021T223000
DTSTAMP:20260419T195740
CREATED:20220922T020034Z
LAST-MODIFIED:20220922T020034Z
UID:4058-1666386000-1666391400@vaishnavsanghusa.org
SUMMARY:Rama Ekadashi
DESCRIPTION:Topic: Rama Ekadashi \nTime: Friday\, October 21st\, 2022 at 9:00 PM EST (USA & Canada) \nJoin Zoom Meeting https://zoom.us/j/86161034535 Meeting ID: 861 6103 4535 Passcode: 11
URL:https://vaishnavsanghusa.org/event/rama-ekadashi/
CATEGORIES:Satsang
ATTACH;FMTTYPE=image/jpeg:https://vaishnavsanghusa.org/wp-content/uploads/2022/09/Rama-Ekadashi.jpeg
END:VEVENT
END:VCALENDAR