BEGIN:VCALENDAR
VERSION:2.0
PRODID:-//Vaishnav Sangh of USA - ECPv6.15.18//NONSGML v1.0//EN
CALSCALE:GREGORIAN
METHOD:PUBLISH
X-WR-CALNAME:Vaishnav Sangh of USA
X-ORIGINAL-URL:https://vaishnavsanghusa.org
X-WR-CALDESC:Events for Vaishnav Sangh of USA
REFRESH-INTERVAL;VALUE=DURATION:PT1H
X-Robots-Tag:noindex
X-PUBLISHED-TTL:PT1H
BEGIN:VTIMEZONE
TZID:America/New_York
BEGIN:DAYLIGHT
TZOFFSETFROM:-0500
TZOFFSETTO:-0400
TZNAME:EDT
DTSTART:20210314T070000
END:DAYLIGHT
BEGIN:STANDARD
TZOFFSETFROM:-0400
TZOFFSETTO:-0500
TZNAME:EST
DTSTART:20211107T060000
END:STANDARD
BEGIN:DAYLIGHT
TZOFFSETFROM:-0500
TZOFFSETTO:-0400
TZNAME:EDT
DTSTART:20220313T070000
END:DAYLIGHT
BEGIN:STANDARD
TZOFFSETFROM:-0400
TZOFFSETTO:-0500
TZNAME:EST
DTSTART:20221106T060000
END:STANDARD
BEGIN:DAYLIGHT
TZOFFSETFROM:-0500
TZOFFSETTO:-0400
TZNAME:EDT
DTSTART:20230312T070000
END:DAYLIGHT
BEGIN:STANDARD
TZOFFSETFROM:-0400
TZOFFSETTO:-0500
TZNAME:EST
DTSTART:20231105T060000
END:STANDARD
END:VTIMEZONE
BEGIN:VEVENT
DTSTART;TZID=America/New_York:20221104T210000
DTEND;TZID=America/New_York:20221104T223000
DTSTAMP:20260419T212818
CREATED:20221102T011019Z
LAST-MODIFIED:20221102T011019Z
UID:4081-1667595600-1667601000@vaishnavsanghusa.org
SUMMARY:Prabodhini Ekadashi
DESCRIPTION:Topic: Prabodhini Ekadashi \nTime: Friday\, November 4th\, 2022 at 9:00 PM EST (USA & Canada) \nJoin Zoom Meeting https://zoom.us/j/86161034535 Meeting ID: 861 6103 4535 Passcode: 11
URL:https://vaishnavsanghusa.org/event/prabodhini-ekadashi/
CATEGORIES:Satsang
ATTACH;FMTTYPE=image/jpeg:https://vaishnavsanghusa.org/wp-content/uploads/2022/11/Prabodhini-Ekadashi.jpeg
END:VEVENT
BEGIN:VEVENT
DTSTART;TZID=America/New_York:20221113T160000
DTEND;TZID=America/New_York:20221113T180000
DTSTAMP:20260419T212818
CREATED:20221102T014209Z
LAST-MODIFIED:20221102T014242Z
UID:4095-1668355200-1668362400@vaishnavsanghusa.org
SUMMARY:Vivah Khel
DESCRIPTION:Topic: Vivah Khel \nTime: Sunday\, November 13th\, 2022 from 4:00 PM to 6:00 PM EST (USA & Canada) \nFollowed by Mahaprasad \nVenue: Sai Durga Temple\n11414 S. Apopka Vineland Road\, Orlando\, FL 32836
URL:https://vaishnavsanghusa.org/event/vivah-khel/
LOCATION:Sai Durga Temple\, 11414 S. Apopka Vineland\, Orlando\, FL\, 32836\, United States
CATEGORIES:Satsang
ATTACH;FMTTYPE=image/jpeg:https://vaishnavsanghusa.org/wp-content/uploads/2022/11/Vivah-Khel.jpeg
END:VEVENT
BEGIN:VEVENT
DTSTART;TZID=America/New_York:20221120T113000
DTEND;TZID=America/New_York:20221120T143000
DTSTAMP:20260419T212818
CREATED:20221102T014541Z
LAST-MODIFIED:20221102T014541Z
UID:4098-1668943800-1668954600@vaishnavsanghusa.org
SUMMARY:Annakut Mahotsav
DESCRIPTION:Topic: Annakut Mahotsav \nTime: Sunday\, November 20th\, 2022 from 11:30 AM to 2:30 PM EST (USA & Canada) \nFollowed by Mahaprasad \nVenue: VFW\n649 Churchmans Road\, Newark\, DE 19702
URL:https://vaishnavsanghusa.org/event/annakut-mahotsav/
LOCATION:VFW Delaware\, 649 Churchmans Road\, Newark\, DE\, 19702\, United States
CATEGORIES:Satsang
ATTACH;FMTTYPE=image/jpeg:https://vaishnavsanghusa.org/wp-content/uploads/2022/11/Annakut-Mahotsav.jpeg
END:VEVENT
BEGIN:VEVENT
DTSTART;TZID=America/New_York:20221120T210000
DTEND;TZID=America/New_York:20221120T223000
DTSTAMP:20260419T212818
CREATED:20221102T011605Z
LAST-MODIFIED:20221102T011605Z
UID:4093-1668978000-1668983400@vaishnavsanghusa.org
SUMMARY:Utpati Ekadashi
DESCRIPTION:Topic: Utpati Ekadashi \nTime: Sunday\, November 20th\, 2022 at 9:00 PM EST (USA & Canada) \nJoin Zoom Meeting https://zoom.us/j/86161034535 Meeting ID: 861 6103 4535 Passcode: 11
URL:https://vaishnavsanghusa.org/event/utpati-ekadashi/
CATEGORIES:Satsang
ATTACH;FMTTYPE=image/jpeg:https://vaishnavsanghusa.org/wp-content/uploads/2022/11/Utpati-Ekadashi.jpeg
END:VEVENT
END:VCALENDAR