BEGIN:VCALENDAR
VERSION:2.0
PRODID:-//Vaishnav Sangh of USA - ECPv6.15.18//NONSGML v1.0//EN
CALSCALE:GREGORIAN
METHOD:PUBLISH
X-WR-CALNAME:Vaishnav Sangh of USA
X-ORIGINAL-URL:https://vaishnavsanghusa.org
X-WR-CALDESC:Events for Vaishnav Sangh of USA
REFRESH-INTERVAL;VALUE=DURATION:PT1H
X-Robots-Tag:noindex
X-PUBLISHED-TTL:PT1H
BEGIN:VTIMEZONE
TZID:America/New_York
BEGIN:DAYLIGHT
TZOFFSETFROM:-0500
TZOFFSETTO:-0400
TZNAME:EDT
DTSTART:20210314T070000
END:DAYLIGHT
BEGIN:STANDARD
TZOFFSETFROM:-0400
TZOFFSETTO:-0500
TZNAME:EST
DTSTART:20211107T060000
END:STANDARD
BEGIN:DAYLIGHT
TZOFFSETFROM:-0500
TZOFFSETTO:-0400
TZNAME:EDT
DTSTART:20220313T070000
END:DAYLIGHT
BEGIN:STANDARD
TZOFFSETFROM:-0400
TZOFFSETTO:-0500
TZNAME:EST
DTSTART:20221106T060000
END:STANDARD
BEGIN:DAYLIGHT
TZOFFSETFROM:-0500
TZOFFSETTO:-0400
TZNAME:EDT
DTSTART:20230312T070000
END:DAYLIGHT
BEGIN:STANDARD
TZOFFSETFROM:-0400
TZOFFSETTO:-0500
TZNAME:EST
DTSTART:20231105T060000
END:STANDARD
END:VTIMEZONE
BEGIN:VEVENT
DTSTART;TZID=America/New_York:20221204T210000
DTEND;TZID=America/New_York:20221204T223000
DTSTAMP:20260419T230807
CREATED:20221201T101913Z
LAST-MODIFIED:20221201T101913Z
UID:4109-1670187600-1670193000@vaishnavsanghusa.org
SUMMARY:Mokshada Ekadashi
DESCRIPTION:Topic: Mokshada Ekadashi \nTime: Sunday\, December 4th\, 2022 at 9:00 PM EST (USA & Canada) \nJoin Zoom Meeting https://zoom.us/j/86161034535 Meeting ID: 861 6103 4535 Passcode: 11
URL:https://vaishnavsanghusa.org/event/mokshada-ekadashi-december/
CATEGORIES:Satsang
ATTACH;FMTTYPE=image/jpeg:https://vaishnavsanghusa.org/wp-content/uploads/2022/12/Mokshada-Ekadashi.jpeg
END:VEVENT
BEGIN:VEVENT
DTSTART;TZID=America/New_York:20221210T160000
DTEND;TZID=America/New_York:20221210T190000
DTSTAMP:20260419T230807
CREATED:20221201T102243Z
LAST-MODIFIED:20221201T152936Z
UID:4115-1670688000-1670698800@vaishnavsanghusa.org
SUMMARY:Annakut Mahotsav
DESCRIPTION:Topic: Annakut Mahotsav \nTime: Sunday\, December 10th\, 2022 from 4:00 PM to 6:00 PM EST (USA & Canada) \nFollowed by Mahaprasad \nVenue: Sai Durga Temple\n11414 S. Apopka Vineland Road\, Orlando\, FL 32836
URL:https://vaishnavsanghusa.org/event/annakut-mahotsav-december/
LOCATION:Sai Durga Temple\, 11414 S. Apopka Vineland\, Orlando\, FL\, 32836\, United States
CATEGORIES:Satsang
ATTACH;FMTTYPE=image/jpeg:https://vaishnavsanghusa.org/wp-content/uploads/2022/12/Annakut-Mahotsav-Dec-1.jpeg
END:VEVENT
BEGIN:VEVENT
DTSTART;TZID=America/New_York:20221218T113000
DTEND;TZID=America/New_York:20221218T153000
DTSTAMP:20260419T230807
CREATED:20221201T102454Z
LAST-MODIFIED:20221201T102454Z
UID:4117-1671363000-1671377400@vaishnavsanghusa.org
SUMMARY:Shri Gusaiji Pragtya Utsav
DESCRIPTION:Topic: Shri Gusaiji Pragtya Utsav \nTime: Sunday\, December 18th\, 2022 from 11:30 AM to 2:30 PM EST (USA & Canada) \nFollowed by Mahaprasad \nVenue: VFW\n649 Churchmans Road\, Newark\, DE 19702
URL:https://vaishnavsanghusa.org/event/shri-gusaiji-pragtya-utsav/
LOCATION:VFW Delaware\, 649 Churchmans Road\, Newark\, DE\, 19702\, United States
CATEGORIES:Satsang
ATTACH;FMTTYPE=image/jpeg:https://vaishnavsanghusa.org/wp-content/uploads/2022/12/Shri-Gusaiji-Pragtya-Utsav.jpeg
END:VEVENT
BEGIN:VEVENT
DTSTART;TZID=America/New_York:20221219T210000
DTEND;TZID=America/New_York:20221219T223000
DTSTAMP:20260419T230807
CREATED:20221201T102737Z
LAST-MODIFIED:20221201T102839Z
UID:4119-1671483600-1671489000@vaishnavsanghusa.org
SUMMARY:Safala Ekadashi
DESCRIPTION:Topic: Safala Ekadashi \nTime: Monday\, December 19th\, 2022 at 9:00 PM EST (USA & Canada) \nJoin Zoom Meeting https://zoom.us/j/86161034535 Meeting ID: 861 6103 4535 Passcode: 11
URL:https://vaishnavsanghusa.org/event/safala-ekadashi/
CATEGORIES:Satsang
ATTACH;FMTTYPE=image/jpeg:https://vaishnavsanghusa.org/wp-content/uploads/2022/12/Safala-Ekadashi.jpeg
END:VEVENT
END:VCALENDAR